Уважаемые друзья и участники проекта iXBT.photo! К сожалению, 1 марта 2026 года проект iXBT.photo прекратит свою работу и будет закрыт. Мы высоко ценим ваше участие и тот вклад, который вы внесли в развитие нашего сообщества. Пожалуйста, не забудьте сохранить ваши фотографии до этой даты.
С уважением, команда iXBT.com
| P1080068.jpg |
P1080068.jpg
- Раздел: Другое, разное
- Дата съёмки: 12.02.2012 10:48
- Дата загрузки фото: 12.02.2012 19:21
- Оригинальная фотография: 1920 x 1080 (1,6 Мб)
- Технические характеристики:
- Фотоаппарат: Panasonic DMC-GH2
- Выдержка: 1/1000
- Гиперфокальное расстояние: inf m
- Диафрагма: 5,0
- Светочувствительность: 160
- Фокусное расстояние: 45,0 mm (35 mm equivalent: 90,0 mm)
- Экспокоррекция: -0,33
- Полный EXIF
- Adobe
- ColorTransform: YCbCr
- Composite
- Aperture: 5,0
- CircleOfConfusion: 0,015 mm
- FOV: 22,0 deg
- FocalLength35efl: 45,0 mm (35 mm equivalent: 90,0 mm)
- HyperfocalDistance: inf m
- ScaleFactor35efl: 2,0
- ShutterSpeed: 1/1000
- ExifIFD
- ApertureValue: 5,0
- ColorSpace: sRGB
- Contrast: Normal
- CreateDate: 2012:02:12 10:48:59
- CustomRendered: Normal
- DateTimeOriginal: 2012:02:12 10:48:59
- DigitalZoomRatio: 0
- ExifImageHeight: 1080
- ExifImageWidth: 1920
- ExposureCompensation: -0,33
- ExposureMode: Auto
- ExposureProgram: Program AE
- ExposureTime: 1/1000
- FNumber: 5,0
- Flash: Off, Did not fire
- FocalLength: 45,0 mm
- FocalLengthIn35mmFormat: 90 mm
- GainControl: Low gain up
- ISO: 160
- LensModel: OLYMPUS M.45mm F1.8
- LensSerialNumber: ABM202809
- LightSource: Unknown
- MaxApertureValue: 1,8
- MeteringMode: Multi-segment
- Saturation: Normal
- SceneCaptureType: Standard
- SceneType: Directly photographed
- SensingMethod: One-chip color area
- Sharpness: Normal
- ShutterSpeedValue: 1/1000
- WhiteBalance: Auto
- ICC-header
- ICC-meas
- ICC-view
- IFD0
- Make: Panasonic
- Model: DMC-GH2
- ModifyDate: 2012:02:12 14:44:30
- Orientation: Horizontal (normal)
- IFD1
- IPTC
- DateCreated: 2012:02:12
- System
- XMP-aux
- Lens: OLYMPUS M.45mm F1.8
- XMP-crs
- AlreadyApplied: True
- Blacks2012: 0
- BlueHue: 0
- BlueSaturation: 0
- ChromaticAberrationB: 0
- ChromaticAberrationR: 0
- Clarity2012: 0
- ColorNoiseReduction: 3
- ColorNoiseReductionDetail: 50
- Contrast2012: +71
- ConvertToGrayscale: False
- Defringe: 0
- Exposure2012: 0.00
- GrainAmount: 0
- GreenHue: 0
- GreenSaturation: 0
- HasCrop: False
- HasSettings: True
- Highlights2012: 0
- HueAdjustmentAqua: 0
- HueAdjustmentBlue: 0
- HueAdjustmentGreen: 0
- HueAdjustmentMagenta: 0
- HueAdjustmentOrange: 0
- HueAdjustmentPurple: 0
- HueAdjustmentRed: 0
- HueAdjustmentYellow: 0
- LensManualDistortionAmount: 0
- LensProfileEnable: 0
- LensProfileSetup: LensDefaults
- LuminanceAdjustmentAqua: 0
- LuminanceAdjustmentBlue: 0
- LuminanceAdjustmentGreen: 0
- LuminanceAdjustmentMagenta: 0
- LuminanceAdjustmentOrange: 0
- LuminanceAdjustmentPurple: 0
- LuminanceAdjustmentRed: 0
- LuminanceAdjustmentYellow: 0
- LuminanceNoiseReductionContrast: 90
- LuminanceNoiseReductionDetail: 69
- LuminanceSmoothing: 20
- ParametricDarks: +43
- ParametricHighlightSplit: 75
- ParametricHighlights: 0
- ParametricLights: 0
- ParametricMidtoneSplit: 50
- ParametricShadowSplit: 25
- ParametricShadows: 0
- PerspectiveHorizontal: 0
- PerspectiveRotate: 0.0
- PerspectiveScale: 100
- PerspectiveVertical: 0
- PostCropVignetteAmount: 0
- ProcessVersion: 6.6
- RawFileName: P1080068.RW2
- RedHue: 0
- RedSaturation: 0
- Saturation: +8
- SaturationAdjustmentAqua: 0
- SaturationAdjustmentBlue: 0
- SaturationAdjustmentGreen: 0
- SaturationAdjustmentMagenta: 0
- SaturationAdjustmentOrange: 0
- SaturationAdjustmentPurple: 0
- SaturationAdjustmentRed: 0
- SaturationAdjustmentYellow: 0
- ShadowTint: 0
- Shadows2012: 0
- SharpenDetail: 25
- SharpenEdgeMasking: 0
- SharpenRadius: +1.0
- Sharpness: 25
- SplitToningBalance: 0
- SplitToningHighlightHue: 0
- SplitToningHighlightSaturation: 0
- SplitToningShadowHue: 0
- SplitToningShadowSaturation: 0
- Temperature: 4900
- Tint: 0
- ToneCurve: 0, 0, 32, 22, 64, 56, 128, 128, 192, 196, 255, 255
- ToneCurveBlue: 0, 0, 255, 255
- ToneCurveGreen: 0, 0, 255, 255
- ToneCurveName: Medium Contrast
- ToneCurveName2012: Linear
- ToneCurvePV2012: 0, 0, 255, 255
- ToneCurvePV2012Blue: 0, 0, 255, 255
- ToneCurvePV2012Green: 0, 0, 255, 255
- ToneCurvePV2012Red: 0, 0, 255, 255
- ToneCurveRed: 0, 0, 255, 255
- Version: 7.0
- Vibrance: +38
- VignetteAmount: 0
- WhiteBalance: Custom
- Whites2012: 0
- XMP-dc
- XMP-xmp
- ModifyDate: 2012:02:12 14:44:30+04:00
- Rating: 0
- XMP-xmpMM
- Просмотров: 228
- Рейтинг: голосов еще нет
- Отзывов: отключены
Получить код для блога
| Вставка фотографии в текущем разрешении |
Вставка миниатюры |
HTML (для вставки в блог):
BBCode (для вставки в форум):
Ссылка на фото:
Ссылка на миниатюру:
- Послать ссылку другу
| Комментарии к фотографии |