Уважаемые друзья и участники проекта iXBT.photo! К сожалению, 1 марта 2026 года проект iXBT.photo прекратит свою работу и будет закрыт. Мы высоко ценим ваше участие и тот вклад, который вы внесли в развитие нашего сообщества. Пожалуйста, не забудьте сохранить ваши фотографии до этой даты.
С уважением, команда iXBT.com
| DSC_4059.jpg |
DSC_4059.jpg
- Раздел: Другое, разное
- Дата съёмки: 30.03.2012 15:31
- Дата загрузки фото: 27.01.2013 10:36
- Оригинальная фотография: 4256 x 2832 (6,3 Мб)
- Технические характеристики:
- Фотоаппарат: Nikon D700
- Выдержка: 1/800
- Гиперфокальное расстояние: inf m
- Диафрагма: 9,0
- Светочувствительность: 200
- Фокусное расстояние: 24,0 mm (35 mm equivalent: 24,0 mm)
- Экспокоррекция: -2/3
- Полный EXIF
- Composite
- Aperture: 9,0
- CircleOfConfusion: 0,030 mm
- DOF: inf (0,00 m - inf)
- FOV: 73,0 deg
- FocalLength35efl: 24,0 mm (35 mm equivalent: 24,0 mm)
- HyperfocalDistance: inf m
- ScaleFactor35efl: 1,0
- ShutterSpeed: 1/800
- ExifIFD
- ApertureValue: 9,0
- CFAPattern: [Red,Green][Green,Blue]
- ColorSpace: Uncalibrated
- Contrast: Normal
- CreateDate: 2012:03:30 15:31:16
- CustomRendered: Normal
- DateTimeOriginal: 2012:03:30 15:31:16
- DigitalZoomRatio: 1
- ExifImageHeight: 2832
- ExifImageWidth: 4256
- ExposureCompensation: -2/3
- ExposureMode: Auto
- ExposureProgram: Aperture-priority AE
- ExposureTime: 1/800
- FNumber: 9,0
- Flash: No Flash
- FocalLength: 24,0 mm
- FocalLengthIn35mmFormat: 24 mm
- GainControl: None
- ISO: 200
- LensInfo: 24mm f/2.8
- LensModel: 24.0 mm f/2.8
- LightSource: Unknown
- MaxApertureValue: 2,8
- MeteringMode: Multi-segment
- Saturation: Normal
- SceneCaptureType: Standard
- SceneType: Directly photographed
- SensingMethod: One-chip color area
- SerialNumber: 2329436
- Sharpness: Normal
- ShutterSpeedValue: 0,7
- SubjectDistance: 4294967295 m
- SubjectDistanceRange: Unknown
- WhiteBalance: Auto
- ICC-header
- IFD0
- Artist: Andrey Mikhalenkov
- Copyright: mikha_a
- Make: NIKON CORPORATION
- Model: NIKON D700
- ModifyDate: 2013:01:27 08:31:40
- Orientation: Horizontal (normal)
- Software: Capture NX 2.3.5 W
- IFD1
- IPTC
- By-line: Andrey Mikhalenkov
- CopyrightNotice: mikha_a
- DateCreated: 2012:03:30
- Nikon
- IFD0_Offset: 1246
- ImageDataSize: 6499895
- MakerNoteVersion: 2.11
- NEFBitDepth: n/a (JPEG)
- NikonCaptureVersion: Capture NX 2.3.5 W
- PreviewIFD_Offset: 1146
- PreviewIFD
- System
- XMP-aux
- ApproximateFocusDistance: 4294967295
- ImageNumber: 24241
- Lens: 24.0 mm f/2.8
- LensID: 54
- XMP-crs
- AlreadyApplied: True
- BlueHue: 0
- BlueSaturation: 0
- Brightness: +50
- CameraProfile: Camera Vivid v4
- ChromaticAberrationB: 0
- ChromaticAberrationR: 0
- Clarity: +12
- ColorNoiseReduction: 25
- ColorNoiseReductionDetail: 50
- Contrast: +36
- ConvertToGrayscale: False
- Defringe: 0
- Exposure: -0.70
- FillLight: 44
- GrainAmount: 0
- GreenHue: 0
- GreenSaturation: 0
- HasCrop: False
- HasSettings: True
- HighlightRecovery: 17
- HueAdjustmentAqua: 0
- HueAdjustmentBlue: 0
- HueAdjustmentGreen: 0
- HueAdjustmentMagenta: 0
- HueAdjustmentOrange: 0
- HueAdjustmentPurple: 0
- HueAdjustmentRed: 0
- HueAdjustmentYellow: 0
- LensManualDistortionAmount: 0
- LensProfileChromaticAberrationScale: 100
- LensProfileDistortionScale: 100
- LensProfileEnable: 1
- LensProfileFilename: NIKON D3X (Nikon AF NIKKOR 24mm f2.8D) - RAW.lcp
- LensProfileSetup: LensDefaults
- LensProfileVignettingScale: 100
- LuminanceAdjustmentAqua: 0
- LuminanceAdjustmentBlue: 0
- LuminanceAdjustmentGreen: 0
- LuminanceAdjustmentMagenta: 0
- LuminanceAdjustmentOrange: 0
- LuminanceAdjustmentPurple: 0
- LuminanceAdjustmentRed: 0
- LuminanceAdjustmentYellow: 0
- LuminanceSmoothing: 0
- ParametricDarks: +7
- ParametricHighlightSplit: 75
- ParametricHighlights: 0
- ParametricLights: +6
- ParametricMidtoneSplit: 50
- ParametricShadowSplit: 25
- ParametricShadows: +18
- PerspectiveHorizontal: 0
- PerspectiveRotate: 0.0
- PerspectiveScale: 100
- PerspectiveVertical: 0
- PostCropVignetteAmount: 0
- ProcessVersion: 5.7
- RawFileName: DSC_4059.NEF
- RedHue: 0
- RedSaturation: 0
- Saturation: +3
- SaturationAdjustmentAqua: 0
- SaturationAdjustmentBlue: 0
- SaturationAdjustmentGreen: 0
- SaturationAdjustmentMagenta: 0
- SaturationAdjustmentOrange: 0
- SaturationAdjustmentPurple: 0
- SaturationAdjustmentRed: 0
- SaturationAdjustmentYellow: 0
- ShadowTint: 0
- Shadows: 5
- SharpenDetail: 25
- SharpenEdgeMasking: 0
- SharpenRadius: +1.2
- Sharpness: 44
- SplitToningBalance: 0
- SplitToningHighlightHue: 0
- SplitToningHighlightSaturation: 0
- SplitToningShadowHue: 0
- SplitToningShadowSaturation: 0
- Temperature: 5000
- Tint: -10
- ToneCurve: 0, 0, 32, 22, 64, 56, 128, 128, 192, 196, 255, 255
- ToneCurveName: Medium Contrast
- Version: 6.6
- Vibrance: +11
- VignetteAmount: 0
- WhiteBalance: As Shot
- XMP-dc
- Creator: Andrey Mikhalenkov
- Format: image/jpeg
- Rights: mikha_a
- XMP-xmp
- CreateDate: 2012:03:30 15:31:16.74
- ModifyDate: 2012:03:30 18:38:02+03:00
- XMP-xmpMM
- Просмотров: 337
- Рейтинг: голосов еще нет
- Отзывов: отключены
Получить код для блога
| Вставка фотографии в текущем разрешении |
Вставка миниатюры |
HTML (для вставки в блог):
BBCode (для вставки в форум):
Ссылка на фото:
Ссылка на миниатюру:
- Послать ссылку другу
| Комментарии к фотографии |