2012.03.17.12.44.55.jpg |
2012.03.17.12.44.55.jpg
- Раздел: Путешествия
- Дата съёмки: 17.03.2012 12:44
- Дата загрузки фото: 28.04.2012 13:58
- Оригинальная фотография: 800 x 1200 (289 Кб)
- Технические характеристики:
- Фотоаппарат: Canon EOS REBEL T2i
- Выдержка: 1/500
- Гиперфокальное расстояние: inf m
- Диафрагма: 8,0
- Светочувствительность: 200
- Фокусное расстояние: 100,0 mm (35 mm equivalent: 600,0 mm)
- Экспокоррекция: -2/3
- Полный EXIF
- Adobe
- ColorTransform: YCbCr
- Composite
- Aperture: 8,0
- CircleOfConfusion: 0,004 mm
- DOF: inf (0,00 m - inf)
- FOV: 3,0 deg
- FocalLength35efl: 100,0 mm (35 mm equivalent: 600,0 mm)
- HyperfocalDistance: inf m
- ScaleFactor35efl: 6,8
- ShutterSpeed: 1/500
- ExifIFD
- ApertureValue: 8,0
- ColorSpace: Uncalibrated
- CreateDate: 2012:03:17 12:44:55
- CustomRendered: Normal
- DateTimeOriginal: 2012:03:17 12:44:55
- ExifImageHeight: 1200
- ExifImageWidth: 800
- ExposureCompensation: -2/3
- ExposureMode: Auto
- ExposureProgram: Aperture-priority AE
- ExposureTime: 1/500
- FNumber: 8,0
- Flash: Off, Did not fire
- FocalLength: 100,0 mm
- ISO: 200
- LensInfo: 100-400mm f/?
- LensModel: EF100-400mm f/4.5-5.6L IS USM
- MaxApertureValue: 4,6
- MeteringMode: Multi-segment
- SceneCaptureType: Standard
- SensitivityType: Unknown
- SerialNumber: 1222502897
- ShutterSpeedValue: 1/500
- SubjectDistance: 22,8 m
- WhiteBalance: Auto
- ICC-header
- IFD0
- BitsPerSample: 8 8 8
- ImageHeight: 5184
- ImageWidth: 3456
- Make: Canon
- Model: Canon EOS REBEL T2i
- ModifyDate: 2012:04:28 02:11:34
- Orientation: Horizontal (normal)
- PhotometricInterpretation: RGB
- SamplesPerPixel: 3
- IFD1
- IPTC
- DateCreated: 2012:03:17
- System
- XMP-aux
- ApproximateFocusDistance: 22,8
- Firmware: 1.0.9
- FlashCompensation: 0
- ImageNumber: 0
- Lens: EF100-400mm f/4.5-5.6L IS USM
- LensID: 183
- XMP-crs
- AlreadyApplied: True
- BlueHue: 0
- BlueSaturation: 0
- Brightness: +130
- ChromaticAberrationB: 0
- ChromaticAberrationR: 0
- Clarity: +94
- ColorNoiseReduction: 25
- ColorNoiseReductionDetail: 50
- Contrast: +50
- ConvertToGrayscale: False
- CropAngle: 0
- CropBottom: 1
- CropConstrainToWarp: 1
- CropLeft: 0
- CropRight: 1
- CropTop: 0
- Defringe: 0
- Exposure: -1.60
- FillLight: 13
- GrainAmount: 0
- GreenHue: 0
- GreenSaturation: 0
- HasCrop: True
- HasSettings: True
- HighlightRecovery: 0
- HueAdjustmentAqua: 0
- HueAdjustmentBlue: 0
- HueAdjustmentGreen: 0
- HueAdjustmentMagenta: 0
- HueAdjustmentOrange: 0
- HueAdjustmentPurple: 0
- HueAdjustmentRed: 0
- HueAdjustmentYellow: 0
- LensManualDistortionAmount: 0
- LensProfileEnable: 0
- LensProfileSetup: LensDefaults
- LuminanceAdjustmentAqua: 0
- LuminanceAdjustmentBlue: 0
- LuminanceAdjustmentGreen: 0
- LuminanceAdjustmentMagenta: 0
- LuminanceAdjustmentOrange: 0
- LuminanceAdjustmentPurple: 0
- LuminanceAdjustmentRed: 0
- LuminanceAdjustmentYellow: 0
- LuminanceSmoothing: 0
- ParametricDarks: 0
- ParametricHighlightSplit: 75
- ParametricHighlights: 0
- ParametricLights: 0
- ParametricMidtoneSplit: 50
- ParametricShadowSplit: 25
- ParametricShadows: 0
- PerspectiveHorizontal: 0
- PerspectiveRotate: 0.0
- PerspectiveScale: 100
- PerspectiveVertical: 0
- PostCropVignetteAmount: +5
- PostCropVignetteFeather: 50
- PostCropVignetteMidpoint: 50
- PostCropVignetteRoundness: 0
- PostCropVignetteStyle: 1
- ProcessVersion: 5.7
- RawFileName: 2012.03.17.12.44.55.CR2
- RedHue: 0
- RedSaturation: 0
- Saturation: 0
- SaturationAdjustmentAqua: 0
- SaturationAdjustmentBlue: 0
- SaturationAdjustmentGreen: 0
- SaturationAdjustmentMagenta: 0
- SaturationAdjustmentOrange: 0
- SaturationAdjustmentPurple: 0
- SaturationAdjustmentRed: 0
- SaturationAdjustmentYellow: 0
- ShadowTint: 0
- Shadows: 6
- SharpenDetail: 25
- SharpenEdgeMasking: 0
- SharpenRadius: +1.0
- Sharpness: 25
- SplitToningBalance: 0
- SplitToningHighlightHue: 0
- SplitToningHighlightSaturation: 0
- SplitToningShadowHue: 0
- SplitToningShadowSaturation: 0
- Temperature: 5850
- Tint: +11
- ToneCurve: 0, 0, 32, 22, 64, 56, 128, 128, 192, 196, 255, 255
- ToneCurveName: Medium Contrast
- Version: 6.3
- Vibrance: 0
- VignetteAmount: 0
- WhiteBalance: As Shot
- XMP-dc
- XMP-xmp
- CreateDate: 2012:03:17 12:44:55.49+03:00
- ModifyDate: 2012:04:28 02:11:34+03:00
- Rating: 0
- XMP-xmpMM
- Просмотров: 68
- Рейтинг: голосов еще нет
- Отзывов: 0
Получить код для блога
Вставка фотографии в текущем разрешении |
Вставка миниатюры |
HTML (для вставки в блог):
BBCode (для вставки в форум):
Ссылка на фото:
Ссылка на миниатюру:
- Послать ссылку другу
Комментарии к фотографии |