- Раздел: Другое, разное
- Дата съёмки: 08.05.2007 19:41
- Дата загрузки фото: 08.05.2007 19:57
- Оригинальная фотография: 3008 x 2000 (2,3 Мб)
- Технические характеристики:
- Фотоаппарат: Nikon D70
- Выдержка: 1/25
- Светочувствительность: 200
- Полный EXIF
- ColorTransform: YCbCr
- Composite
- ShutterSpeed: 1/25
- ExifIFD
- CFAPattern: [Blue,Green][Green,Red]
- ColorSpace: sRGB
- Contrast: Normal
- CreateDate: 2007:05:08 18:53:02
- CustomRendered: Custom
- DateTimeOriginal: 2007:05:08 18:53:02
- DigitalZoomRatio: 1
- ExifImageLength: 2000
- ExifImageWidth: 3008
- ExposureCompensation: 0
- ExposureMode: Manual
- ExposureProgram: Manual
- ExposureTime: 1/25
- Flash: No Flash
- GainControl: None
- ISO: 200
- LightSource: Unknown (0)
- MaxApertureValue: 1,0
- MeteringMode: Center-weighted average
- Saturation: Normal
- SceneCaptureType: Standard
- SceneType: Directly photographed
- SensingMethod: One-chip color area
- Sharpness: Normal
- ShutterSpeedValue: 1/25
- UserComment: (c)goretz
- WhiteBalance: Auto
- ICC-header
- ICC-meas
- ICC-view
- IFD0
- Make: NIKON CORPORATION
- Model: NIKON D70
- ModifyDate: 2007:05:08 19:41:29
- Orientation: Horizontal (normal)
- TimeZoneOffset: 4 4
- IFD1
- IPTC
- XMP-aux
- ImageNumber: 6058
- Lens: 0.0 mm f/0.0
- LensInfo: 0
- XMP-crs
- AlreadyApplied: True
- BlueHue: -5
- BlueSaturation: 0
- Brightness: +50
- CameraProfile: ACR 2.4
- ChromaticAberrationB: 0
- ChromaticAberrationR: 0
- ColorNoiseReduction: 25
- Contrast: +30
- ConvertToGrayscale: False
- Exposure: +1.00
- FillLight: 0
- GreenHue: +5
- GreenSaturation: 0
- HasCrop: False
- HasSettings: True
- HighlightRecovery: 0
- HueAdjustmentAqua: 0
- HueAdjustmentBlue: -10
- HueAdjustmentGreen: +5
- HueAdjustmentMagenta: 0
- HueAdjustmentOrange: 0
- HueAdjustmentPurple: 0
- HueAdjustmentRed: +15
- HueAdjustmentYellow: 0
- LuminanceAdjustmentAqua: 0
- LuminanceAdjustmentBlue: -5
- LuminanceAdjustmentGreen: +10
- LuminanceAdjustmentMagenta: 0
- LuminanceAdjustmentOrange: 0
- LuminanceAdjustmentPurple: 0
- LuminanceAdjustmentRed: +15
- LuminanceAdjustmentYellow: 0
- LuminanceSmoothing: 0
- ParametricDarks: 0
- ParametricHighlightSplit: 75
- ParametricHighlights: 0
- ParametricLights: 0
- ParametricMidtoneSplit: 50
- ParametricShadowSplit: 25
- ParametricShadows: 0
- RawFileName: DSC_3536.NEF
- RedHue: +10
- RedSaturation: 0
- Saturation: 0
- SaturationAdjustmentAqua: 0
- SaturationAdjustmentBlue: -5
- SaturationAdjustmentGreen: +5
- SaturationAdjustmentMagenta: 0
- SaturationAdjustmentOrange: 0
- SaturationAdjustmentPurple: 0
- SaturationAdjustmentRed: +10
- SaturationAdjustmentYellow: 0
- ShadowTint: 0
- Shadows: 5
- Sharpness: 25
- SplitToningBalance: 0
- SplitToningHighlightHue: 0
- SplitToningHighlightSaturation: 0
- SplitToningShadowHue: 0
- SplitToningShadowSaturation: 0
- Temperature: 3800
- Tint: +21
- ToneCurve: 0, 0, 32, 22, 64, 56, 91, 94, 122, 129, 165, 169, 197, 195, 234, 228, 255, 255
- ToneCurveName: Custom
- Version: 4.0
- Vibrance: 0
- VignetteAmount: 0
- WhiteBalance: Fluorescent
- XMP-dc
- XMP-exif
- DateTimeDigitized: 2007:05:08 18:53:02.10+04:00
- DateTimeOriginal: 2007:05:08 18:53:02.10+04:00
- ExifImageHeight: 2000
- FlashFired: False
- FlashFunction: False
- FlashMode: Unknown
- FlashRedEyeMode: False
- FlashReturn: No return detection
- SubjectDistanceRange: Unknown
- XMP-tiff
- XMP-xmp
- CreateDate: 2007:05:08 19:41:29+04:00
- ModifyDate: 2007:05:08 19:41:29+04:00
- Rating: 0
- XMP-xmpMM
- DerivedFrom:
- Просмотров: 297
- Рейтинг: голосов еще нет
- Отзывов: отключены