- Раздел: Город
- Дата съёмки: 05.05.2011 17:00
- Дата загрузки фото: 07.09.2012 00:06
- Оригинальная фотография: 3000 x 2000 (1,5 Мб)
- Технические характеристики:
- Фотоаппарат: Canon EOS 50D
- Выдержка: 1/800
- Гиперфокальное расстояние: inf m
- Диафрагма: 5,6
- Светочувствительность: 100
- Фокусное расстояние: 250,0 mm (35 mm equivalent: 500,0 mm)
- Полный EXIF
- Adobe
- ColorTransform: YCbCr
- Composite
- Aperture: 5,6
- CircleOfConfusion: 0,012 mm
- DOF: inf (0,00 m - inf)
- FOV: 4,0 deg
- FocalLength35efl: 250,0 mm (35 mm equivalent: 500,0 mm)
- HyperfocalDistance: inf m
- ScaleFactor35efl: 2,5
- ShutterSpeed: 1/800
- ExifIFD
- ApertureValue: 5,6
- CreateDate: 2011:05:05 17:00:16
- CustomRendered: Normal
- DateTimeOriginal: 2011:05:05 17:00:16
- ExposureCompensation: 0
- ExposureMode: Auto
- ExposureProgram: Aperture-priority AE
- ExposureTime: 1/800
- FNumber: 5,6
- Flash: Off, Did not fire
- FocalLength: 250,0 mm
- ISO: 100
- LensInfo: 55-250mm f/?
- LensModel: EF-S55-250mm f/4-5.6 IS
- MaxApertureValue: 5,7
- MeteringMode: Spot
- SceneCaptureType: Standard
- SerialNumber: 2160700889
- ShutterSpeedValue: 1/800
- SubjectDistance: 11,4 m
- WhiteBalance: Auto
- ICC-header
- ICC-meas
- ICC-view
- IFD0
- Make: Canon
- Model: Canon EOS 50D
- ModifyDate: 2012:09:05 23:41:59
- IFD1
- IPTC
- DateCreated: 2011:05:05
- System
- XMP-aux
- ApproximateFocusDistance: 11,4
- Firmware: 1.0.7
- FlashCompensation: 0
- ImageNumber: 0
- Lens: EF-S55-250mm f/4-5.6 IS
- LensID: 49
- XMP-crs
- AlreadyApplied: True
- AutoLateralCA: 0
- Blacks2012: 0
- BlueHue: 0
- BlueSaturation: 0
- Brightness: 0
- CameraProfile: Embedded
- Clarity: 0
- Clarity2012: 0
- ColorNoiseReduction: 0
- Contrast: 0
- Contrast2012: 0
- ConvertToGrayscale: False
- Defringe: 0
- Exposure: 0.00
- Exposure2012: +1.28
- FillLight: 0
- GrainAmount: 0
- GreenHue: 0
- GreenSaturation: 0
- HasCrop: False
- HasSettings: True
- HighlightRecovery: 0
- Highlights2012: 0
- HueAdjustmentAqua: 0
- HueAdjustmentBlue: 0
- HueAdjustmentGreen: 0
- HueAdjustmentMagenta: 0
- HueAdjustmentOrange: 0
- HueAdjustmentPurple: 0
- HueAdjustmentRed: 0
- HueAdjustmentYellow: 0
- IncrementalTemperature: 0
- IncrementalTint: 0
- LensManualDistortionAmount: 0
- LensProfileEnable: 0
- LensProfileSetup: LensDefaults
- LuminanceAdjustmentAqua: 0
- LuminanceAdjustmentBlue: 0
- LuminanceAdjustmentGreen: 0
- LuminanceAdjustmentMagenta: 0
- LuminanceAdjustmentOrange: 0
- LuminanceAdjustmentPurple: 0
- LuminanceAdjustmentRed: 0
- LuminanceAdjustmentYellow: 0
- LuminanceSmoothing: 0
- ParametricDarks: 0
- ParametricHighlightSplit: 75
- ParametricHighlights: 0
- ParametricLights: 0
- ParametricMidtoneSplit: 50
- ParametricShadowSplit: 25
- ParametricShadows: 0
- PerspectiveHorizontal: 0
- PerspectiveRotate: 0.0
- PerspectiveScale: 100
- PerspectiveVertical: 0
- PostCropVignetteAmount: 0
- ProcessVersion: 6.7
- RedHue: 0
- RedSaturation: 0
- Saturation: 0
- SaturationAdjustmentAqua: 0
- SaturationAdjustmentBlue: 0
- SaturationAdjustmentGreen: 0
- SaturationAdjustmentMagenta: 0
- SaturationAdjustmentOrange: 0
- SaturationAdjustmentPurple: 0
- SaturationAdjustmentRed: 0
- SaturationAdjustmentYellow: 0
- ShadowTint: 0
- Shadows: 0
- Shadows2012: 0
- SharpenDetail: 25
- SharpenEdgeMasking: 0
- SharpenRadius: +1.0
- Sharpness: 0
- SplitToningBalance: 0
- SplitToningHighlightHue: 0
- SplitToningHighlightSaturation: 0
- SplitToningShadowHue: 0
- SplitToningShadowSaturation: 0
- ToneCurve: 0, 0, 255, 255
- ToneCurveBlue: 0, 0, 255, 255
- ToneCurveGreen: 0, 0, 255, 255
- ToneCurveName: Linear
- ToneCurveName2012: Linear
- ToneCurvePV2012: 0, 0, 255, 255
- ToneCurvePV2012Blue: 0, 0, 255, 255
- ToneCurvePV2012Green: 0, 0, 255, 255
- ToneCurvePV2012Red: 0, 0, 255, 255
- ToneCurveRed: 0, 0, 255, 255
- Version: 7.0
- Vibrance: 0
- VignetteAmount: 0
- WhiteBalance: As Shot
- Whites2012: 0
- XMP-dc
- XMP-xmp
- CreateDate: 2011:05:05 17:00:16.57+04:00
- ModifyDate: 2012:09:05 23:41:59+04:00
- XMP-xmpMM
- Просмотров: 942
- Рейтинг: голосов еще нет
- Отзывов: 0