- Раздел: Путешествия
- Дата съёмки: 21.07.2012 17:11
- Дата загрузки фото: 11.09.2012 12:49
- Оригинальная фотография: 800 x 449 (172 Кб)
- Технические характеристики:
- Фотоаппарат: Canon EOS REBEL T2i
- Выдержка: 1/800
- Гиперфокальное расстояние: inf m
- Диафрагма: 8,0
- Светочувствительность: 200
- Фокусное расстояние: 400,0 mm (35 mm equivalent: 4000,0 mm)
- Экспокоррекция: -2/3
- Полный EXIF
- Adobe
- ColorTransform: YCbCr
- Composite
- Aperture: 8,0
- CircleOfConfusion: 0,003 mm
- DOF: inf (0,00 m - inf)
- FOV: 0,0 deg
- FocalLength35efl: 400,0 mm (35 mm equivalent: 4000,0 mm)
- HyperfocalDistance: inf m
- ScaleFactor35efl: 10,7
- ShutterSpeed: 1/800
- ExifIFD
- ApertureValue: 8,0
- ColorSpace: Uncalibrated
- CreateDate: 2012:07:21 17:11:07
- CustomRendered: Normal
- DateTimeOriginal: 2012:07:21 17:11:07
- ExifImageHeight: 449
- ExifImageWidth: 800
- ExposureCompensation: -2/3
- ExposureMode: Auto
- ExposureProgram: Aperture-priority AE
- ExposureTime: 1/800
- FNumber: 8,0
- Flash: Off, Did not fire
- FocalLength: 400,0 mm
- ISO: 200
- MaxApertureValue: 5,7
- MeteringMode: Multi-segment
- SceneCaptureType: Standard
- ShutterSpeedValue: 1/800
- SubjectDistance: 4294967295 m
- WhiteBalance: Auto
- ICC-header
- IFD0
- Make: Canon
- Model: Canon EOS REBEL T2i
- ModifyDate: 2012:09:11 01:08:48
- Orientation: Horizontal (normal)
- IFD1
- IPTC
- System
- XMP-aux
- Firmware: 1.0.9
- FlashCompensation: 0
- ImageNumber: 0
- Lens: EF100-400mm f/4.5-5.6L IS USM
- LensID: 183
- LensInfo: 100-400mm f/?
- SerialNumber: 1222502897
- XMP-crs
- AlreadyApplied: True
- BlueHue: 0
- BlueSaturation: 0
- Brightness: +136
- ChromaticAberrationB: 0
- ChromaticAberrationR: 0
- Clarity: +92
- ColorNoiseReduction: 25
- Contrast: +50
- ConvertToGrayscale: False
- CropAngle: 0
- CropBottom: 1
- CropLeft: 0
- CropRight: 1
- CropTop: 0.157714
- Defringe: 0
- Exposure: -1.90
- FillLight: 9
- GrainAmount: 0
- GreenHue: 0
- GreenSaturation: 0
- HasCrop: True
- HasSettings: True
- HighlightRecovery: 0
- HueAdjustmentAqua: 0
- HueAdjustmentBlue: 0
- HueAdjustmentGreen: 0
- HueAdjustmentMagenta: 0
- HueAdjustmentOrange: 0
- HueAdjustmentPurple: 0
- HueAdjustmentRed: 0
- HueAdjustmentYellow: 0
- LuminanceAdjustmentAqua: 0
- LuminanceAdjustmentBlue: 0
- LuminanceAdjustmentGreen: 0
- LuminanceAdjustmentMagenta: 0
- LuminanceAdjustmentOrange: 0
- LuminanceAdjustmentPurple: 0
- LuminanceAdjustmentRed: 0
- LuminanceAdjustmentYellow: 0
- LuminanceSmoothing: 0
- ParametricDarks: 0
- ParametricHighlightSplit: 75
- ParametricHighlights: 0
- ParametricLights: 0
- ParametricMidtoneSplit: 50
- ParametricShadowSplit: 25
- ParametricShadows: 0
- PostCropVignetteAmount: 0
- ProcessVersion: 5.0
- RawFileName: 12.07.21.17.11.07.CR2
- RedHue: 0
- RedSaturation: 0
- Saturation: 0
- SaturationAdjustmentAqua: 0
- SaturationAdjustmentBlue: 0
- SaturationAdjustmentGreen: 0
- SaturationAdjustmentMagenta: 0
- SaturationAdjustmentOrange: 0
- SaturationAdjustmentPurple: 0
- SaturationAdjustmentRed: 0
- SaturationAdjustmentYellow: 0
- ShadowTint: 0
- Shadows: 0
- SharpenDetail: 25
- SharpenEdgeMasking: 0
- SharpenRadius: +1.0
- Sharpness: 25
- SplitToningBalance: 0
- SplitToningHighlightHue: 0
- SplitToningHighlightSaturation: 0
- SplitToningShadowHue: 0
- SplitToningShadowSaturation: 0
- Temperature: 5950
- Tint: +25
- ToneCurve: 0, 0, 32, 22, 64, 56, 128, 128, 192, 196, 255, 255
- ToneCurveName: Medium Contrast
- Version: 5.7
- Vibrance: 0
- VignetteAmount: 0
- WhiteBalance: As Shot
- XMP-dc
- XMP-exif
- DateTimeDigitized: 2012:07:21 17:11:07.00+04:00
- DateTimeOriginal: 2012:07:21 17:11:07.00+04:00
- FlashFired: False
- FlashFunction: False
- FlashMode: Off
- FlashRedEyeMode: False
- FlashReturn: No return detection
- XMP-tiff
- ImageHeight: 2911
- ImageWidth: 5184
- XMP-xmp
- CreateDate: 2012:07:21 17:11:07.00+04:00
- ModifyDate: 2012:09:11 01:08:48+04:00
- Rating: 0
- XMP-xmpMM
- Просмотров: 82
- Рейтинг: голосов еще нет
- Отзывов: 0