- Раздел: Тесты фототехники
- Дата съёмки: 23.09.2012 12:29
- Дата загрузки фото: 23.09.2012 21:36
- Оригинальная фотография: 4992 x 6668 (2,7 Мб)
- Технические характеристики:
- Фотоаппарат: Sinar back Emotion 75
- Выдержка: 0,5
- Светочувствительность: 100
- Полный EXIF
- Adobe
- ColorTransform: YCbCr
- Composite
- ShutterSpeed: 0,5
- ExifIFD
- ColorSpace: sRGB
- CreateDate: 2012:09:23 12:29:53
- DateTimeOriginal: 2012:09:23 12:29:53
- ExifImageHeight: 6668
- ExifImageWidth: 4992
- ExposureTime: 0,5
- ISO: 100
- SensingMethod: One-chip color area
- ShutterSpeedValue: 0,5
- ICC-header
- ICC-meas
- ICC-view
- IFD0
- Artist: iMac
- Make: Sinar Photography AG
- Model: Sinarback Emotion 75
- ModifyDate: 2012:09:23 15:17:48
- Orientation: Horizontal (normal)
- IFD1
- IPTC
- By-line: iMac
- DateCreated: 2012:09:23
- System
- XMP-crs
- AlreadyApplied: True
- BlueHue: 0
- BlueSaturation: 0
- Brightness: +50
- CameraProfile: Sinarback eMotion 75 Standard
- ChromaticAberrationB: 0
- ChromaticAberrationR: 0
- Clarity: 0
- ColorNoiseReduction: 25
- ColorNoiseReductionDetail: 50
- Contrast: +25
- ConvertToGrayscale: False
- Defringe: 0
- Exposure: 0.00
- FillLight: 0
- GrainAmount: 0
- GreenHue: 0
- GreenSaturation: 0
- HasCrop: False
- HasSettings: True
- HighlightRecovery: 0
- HueAdjustmentAqua: 0
- HueAdjustmentBlue: 0
- HueAdjustmentGreen: 0
- HueAdjustmentMagenta: 0
- HueAdjustmentOrange: 0
- HueAdjustmentPurple: 0
- HueAdjustmentRed: 0
- HueAdjustmentYellow: 0
- LensManualDistortionAmount: 0
- LensProfileEnable: 0
- LensProfileSetup: LensDefaults
- LuminanceAdjustmentAqua: 0
- LuminanceAdjustmentBlue: 0
- LuminanceAdjustmentGreen: 0
- LuminanceAdjustmentMagenta: 0
- LuminanceAdjustmentOrange: 0
- LuminanceAdjustmentPurple: 0
- LuminanceAdjustmentRed: 0
- LuminanceAdjustmentYellow: 0
- LuminanceSmoothing: 0
- ParametricDarks: -20
- ParametricHighlightSplit: 75
- ParametricHighlights: 0
- ParametricLights: -2
- ParametricMidtoneSplit: 50
- ParametricShadowSplit: 25
- ParametricShadows: 0
- PerspectiveHorizontal: 0
- PerspectiveRotate: 0.0
- PerspectiveScale: 100
- PerspectiveVertical: 0
- PostCropVignetteAmount: 0
- ProcessVersion: 5.7
- RawFileName: Image 0291.dng
- RedHue: 0
- RedSaturation: 0
- Saturation: 0
- SaturationAdjustmentAqua: 0
- SaturationAdjustmentBlue: 0
- SaturationAdjustmentGreen: 0
- SaturationAdjustmentMagenta: 0
- SaturationAdjustmentOrange: 0
- SaturationAdjustmentPurple: 0
- SaturationAdjustmentRed: 0
- SaturationAdjustmentYellow: 0
- ShadowTint: 0
- Shadows: 5
- SharpenDetail: 25
- SharpenEdgeMasking: 0
- SharpenRadius: +1.0
- Sharpness: 25
- SplitToningBalance: 0
- SplitToningHighlightHue: 0
- SplitToningHighlightSaturation: 0
- SplitToningShadowHue: 0
- SplitToningShadowSaturation: 0
- Temperature: 5350
- Tint: +43
- ToneCurve: 0, 0, 32, 22, 64, 56, 128, 128, 192, 196, 255, 255
- ToneCurveName: Medium Contrast
- Version: 6.6
- Vibrance: 0
- VignetteAmount: 0
- WhiteBalance: As Shot
- XMP-dc
- Creator: iMac
- Format: image/jpeg
- XMP-xmp
- CreatorTool: CaptureShop 6.1
- ModifyDate: 2012:09:23 15:17:48+04:00
- Rating: 0
- XMP-xmpMM
- Просмотров: 341
- Рейтинг: голосов еще нет
- Отзывов: 0