- Раздел: Активный отдых, туризм
- Дата съёмки: 19.10.2012 16:58
- Дата загрузки фото: 22.10.2012 19:11
- Оригинальная фотография: 450 x 300 ( 56 Кб)
- Технические характеристики:
- Фотоаппарат: Canon EOS 5D Mark II
- Выдержка: 1,0
- Гиперфокальное расстояние: inf m
- Диафрагма: 4,0
- Светочувствительность: 1250
- Фокусное расстояние: 105,0 mm (35 mm equivalent: 1260,0 mm)
- Полный EXIF
- Adobe
- ColorTransform: YCbCr
- Composite
- Aperture: 4,0
- CircleOfConfusion: 0,002 mm
- DOF: inf (0,00 m - inf)
- FOV: 1,0 deg
- FocalLength35efl: 105,0 mm (35 mm equivalent: 1260,0 mm)
- HyperfocalDistance: inf m
- LightValue: 0,4
- ScaleFactor35efl: 12,2
- ShutterSpeed: 1,0
- ExifIFD
- ApertureValue: 4,0
- ColorSpace: sRGB
- CreateDate: 2012:10:19 16:58:51
- CustomRendered: Normal
- DateTimeOriginal: 2012:10:19 16:58:51
- ExifImageHeight: 300
- ExifImageWidth: 450
- ExposureCompensation: 0
- ExposureMode: Auto
- ExposureProgram: Aperture-priority AE
- ExposureTime: 1,0
- FNumber: 4,0
- Flash: Off, Did not fire
- FocalLength: 105,0 mm
- ISO: 1250
- MaxApertureValue: 4,0
- MeteringMode: Center-weighted average
- SceneCaptureType: Standard
- ShutterSpeedValue: 1,0
- SubjectDistance: 4294967295 m
- WhiteBalance: Auto
- ICC-header
- ICC-meas
- ICC-view
- IFD0
- Artist: Photographer: Evgeny Ostapenko
- Copyright: Copyright: Evgeny Ostapenko
- Make: Canon
- Model: Canon EOS 5D Mark II
- ModifyDate: 2012:10:22 18:36:03
- Orientation: Horizontal (normal)
- IFD1
- IPTC
- By-line: Photographer: Evgeny Ostapenko
- CopyrightNotice: Copyright: Evgeny Ostapenko
- System
- XMP-aux
- Firmware: 2.0.7
- FlashCompensation: 0
- ImageNumber: 0
- Lens: EF24-105mm f/4L IS USM
- LensID: 237
- LensInfo: 24-105mm f/?
- OwnerName: Evgeny Ostapenko
- SerialNumber: 1210806178
- XMP-crs
- AlreadyApplied: True
- BlueHue: 0
- BlueSaturation: 0
- Brightness: 0
- ChromaticAberrationB: 0
- ChromaticAberrationR: 0
- Clarity: 0
- ColorNoiseReduction: 25
- Contrast: 0
- ConvertToGrayscale: False
- Defringe: 0
- Exposure: -0.10
- FillLight: 0
- GrainAmount: 0
- GreenHue: 0
- GreenSaturation: 0
- HasCrop: False
- HasSettings: True
- HighlightRecovery: 19
- HueAdjustmentAqua: 0
- HueAdjustmentBlue: 0
- HueAdjustmentGreen: 0
- HueAdjustmentMagenta: 0
- HueAdjustmentOrange: 0
- HueAdjustmentPurple: 0
- HueAdjustmentRed: 0
- HueAdjustmentYellow: 0
- LuminanceAdjustmentAqua: 0
- LuminanceAdjustmentBlue: 0
- LuminanceAdjustmentGreen: 0
- LuminanceAdjustmentMagenta: 0
- LuminanceAdjustmentOrange: 0
- LuminanceAdjustmentPurple: 0
- LuminanceAdjustmentRed: 0
- LuminanceAdjustmentYellow: 0
- LuminanceSmoothing: 0
- ParametricDarks: 0
- ParametricHighlightSplit: 75
- ParametricHighlights: 0
- ParametricLights: 0
- ParametricMidtoneSplit: 50
- ParametricShadowSplit: 25
- ParametricShadows: 0
- PostCropVignetteAmount: 0
- ProcessVersion: 5.0
- RawFileName: IMG_2616.CR2
- RedHue: 0
- RedSaturation: 0
- Saturation: 0
- SaturationAdjustmentAqua: 0
- SaturationAdjustmentBlue: 0
- SaturationAdjustmentGreen: 0
- SaturationAdjustmentMagenta: 0
- SaturationAdjustmentOrange: 0
- SaturationAdjustmentPurple: 0
- SaturationAdjustmentRed: 0
- SaturationAdjustmentYellow: 0
- ShadowTint: 0
- Shadows: 1
- SharpenDetail: 25
- SharpenEdgeMasking: 0
- SharpenRadius: +1.0
- Sharpness: 25
- SplitToningBalance: 0
- SplitToningHighlightHue: 0
- SplitToningHighlightSaturation: 0
- SplitToningShadowHue: 0
- SplitToningShadowSaturation: 0
- Temperature: 3450
- Tint: -7
- ToneCurve: 0, 0, 32, 22, 64, 56, 128, 128, 192, 196, 255, 255
- ToneCurveName: Medium Contrast
- Version: 5.7
- Vibrance: 0
- VignetteAmount: 0
- WhiteBalance: As Shot
- XMP-dc
- Creator: Photographer: Evgeny Ostapenko
- Format: image/jpeg
- Rights: Copyright: Evgeny Ostapenko
- XMP-exif
- DateTimeDigitized: 2012:10:19 16:58:51.60+04:00
- DateTimeOriginal: 2012:10:19 16:58:51.60+04:00
- FlashFired: False
- FlashFunction: False
- FlashMode: Off
- FlashRedEyeMode: False
- FlashReturn: No return detection
- XMP-tiff
- XMP-xmp
- CreateDate: 2012:10:19 16:58:51.60+04:00
- ModifyDate: 2012:10:22 18:36:03+04:00
- Rating: 0
- XMP-xmpMM