Уважаемые друзья и участники проекта iXBT.photo! К сожалению, 1 марта 2026 года проект iXBT.photo прекратит свою работу и будет закрыт. Мы высоко ценим ваше участие и тот вклад, который вы внесли в развитие нашего сообщества. Пожалуйста, не забудьте сохранить ваши фотографии до этой даты.
С уважением, команда iXBT.com
| _MG_4253.jpg |
_MG_4253.jpg
- Раздел: Другое, разное
- Дата съёмки: 24.11.2012 17:42
- Дата загрузки фото: 05.12.2012 14:39
- Оригинальная фотография: 5331 x 3554 (14,2 Мб)
- Технические характеристики:
- Фотоаппарат: Canon EOS 5D Mark II
- Выдержка: 1/100
- Гиперфокальное расстояние: inf m
- Диафрагма: 1,2
- Светочувствительность: 6400
- Фокусное расстояние: 50,0 mm (35 mm equivalent: 50,0 mm)
- Экспокоррекция: +2/3
- Полный EXIF
- Adobe
- ColorTransform: YCbCr
- Composite
- Aperture: 1,2
- CircleOfConfusion: 0,029 mm
- FOV: 39,0 deg
- FocalLength35efl: 50,0 mm (35 mm equivalent: 50,0 mm)
- HyperfocalDistance: inf m
- ScaleFactor35efl: 1,0
- ShutterSpeed: 1/100
- ExifIFD
- ApertureValue: 1,2
- CreateDate: 2012:11:24 17:42:17
- CustomRendered: Normal
- DateTimeOriginal: 2012:11:24 17:42:17
- ExposureCompensation: +2/3
- ExposureMode: Auto
- ExposureProgram: Aperture-priority AE
- ExposureTime: 1/100
- FNumber: 1,2
- Flash: Off, Did not fire
- FocalLength: 50,0 mm
- ISO: 6400
- LensInfo: 50mm f/?
- LensModel: EF50mm f/1.2L USM
- MaxApertureValue: 1,2
- MeteringMode: Multi-segment
- OwnerName: Dmitry Vorobyev
- SceneCaptureType: Standard
- SerialNumber: 3531617093
- ShutterSpeedValue: 1/100
- WhiteBalance: Auto
- ICC-header
- ICC-meas
- ICC-view
- IFD0
- Artist: Photographer: Dmitry Vorobyev
- Copyright: Copyright: Dmitry Vorobyev
- Make: Canon
- Model: Canon EOS 5D Mark II
- ModifyDate: 2012:12:05 14:38:00
- IFD1
- IPTC
- By-line: Photographer: Dmitry Vorobyev
- CopyrightNotice: Copyright: Dmitry Vorobyev
- DateCreated: 2012:11:24
- System
- XMP-aux
- ApproximateFocusDistance: 1,71
- Firmware: 2.1.2
- FlashCompensation: 0
- ImageNumber: 0
- Lens: EF50mm f/1.2L USM
- LensID: 241
- XMP-crs
- AlreadyApplied: True
- AutoLateralCA: 0
- Blacks2012: -80
- BlueHue: 0
- BlueSaturation: 0
- Clarity2012: +10
- ColorNoiseReduction: 41
- ColorNoiseReductionDetail: 50
- Contrast2012: +30
- ConvertToGrayscale: False
- CropAngle: 0.531035
- CropBottom: 0.981235
- CropConstrainToWarp: 0
- CropHeight: 3554
- CropLeft: 0.028296
- CropRight: 0.971704
- CropTop: 0.018765
- CropUnit: pixels
- CropWidth: 5331
- DefringeGreenAmount: 0
- DefringeGreenHueHi: 60
- DefringeGreenHueLo: 40
- DefringePurpleAmount: 0
- DefringePurpleHueHi: 70
- DefringePurpleHueLo: 30
- Exposure2012: +0.20
- GrainAmount: 8
- GrainFrequency: 60
- GrainSize: 40
- GreenHue: 0
- GreenSaturation: 0
- HasCrop: True
- HasSettings: True
- Highlights2012: +5
- HueAdjustmentAqua: 0
- HueAdjustmentBlue: 0
- HueAdjustmentGreen: 0
- HueAdjustmentMagenta: 0
- HueAdjustmentOrange: 0
- HueAdjustmentPurple: 0
- HueAdjustmentRed: 0
- HueAdjustmentYellow: 0
- LensManualDistortionAmount: 0
- LensProfileEnable: 0
- LensProfileSetup: LensDefaults
- LuminanceAdjustmentAqua: 0
- LuminanceAdjustmentBlue: 0
- LuminanceAdjustmentGreen: 0
- LuminanceAdjustmentMagenta: 0
- LuminanceAdjustmentOrange: 0
- LuminanceAdjustmentPurple: 0
- LuminanceAdjustmentRed: 0
- LuminanceAdjustmentYellow: 0
- LuminanceNoiseReductionContrast: 0
- LuminanceNoiseReductionDetail: 69
- LuminanceSmoothing: 17
- ParametricDarks: 0
- ParametricHighlightSplit: 75
- ParametricHighlights: 0
- ParametricLights: 0
- ParametricMidtoneSplit: 50
- ParametricShadowSplit: 25
- ParametricShadows: 0
- PerspectiveHorizontal: 0
- PerspectiveRotate: 0.0
- PerspectiveScale: 100
- PerspectiveVertical: 0
- PostCropVignetteAmount: -15
- PostCropVignetteFeather: 60
- PostCropVignetteHighlightContrast: 80
- PostCropVignetteMidpoint: 70
- PostCropVignetteRoundness: +7
- PostCropVignetteStyle: 1
- ProcessVersion: 6.7
- RedHue: 0
- RedSaturation: 0
- Saturation: -5
- SaturationAdjustmentAqua: 0
- SaturationAdjustmentBlue: +15
- SaturationAdjustmentGreen: 0
- SaturationAdjustmentMagenta: -20
- SaturationAdjustmentOrange: +15
- SaturationAdjustmentPurple: -20
- SaturationAdjustmentRed: -20
- SaturationAdjustmentYellow: 0
- ShadowTint: 0
- Shadows2012: -5
- SharpenDetail: 25
- SharpenEdgeMasking: 0
- SharpenRadius: +2.4
- Sharpness: 66
- SplitToningBalance: -100
- SplitToningHighlightHue: 0
- SplitToningHighlightSaturation: 0
- SplitToningShadowHue: 0
- SplitToningShadowSaturation: 0
- Temperature: 4000
- Tint: -3
- ToneCurveName2012: Custom
- ToneCurvePV2012: 0, 35, 38, 64, 117, 125, 255, 249
- ToneCurvePV2012Blue: 0, 0, 255, 255
- ToneCurvePV2012Green: 0, 0, 255, 255
- ToneCurvePV2012Red: 0, 0, 255, 255
- Version: 7.1
- Vibrance: -20
- VignetteAmount: -100
- VignetteMidpoint: 50
- WhiteBalance: As Shot
- Whites2012: -25
- XMP-dc
- Creator: Photographer: Dmitry Vorobyev
- Format: image/jpeg
- Rights: Copyright: Dmitry Vorobyev
- XMP-xmp
- CreateDate: 2012:11:24 17:42:17.67
- ModifyDate: 2012:12:05 14:38:00+04:00
- XMP-xmpMM
Получить код для блога
| Вставка фотографии в текущем разрешении |
Вставка миниатюры |
HTML (для вставки в блог):
BBCode (для вставки в форум):
Ссылка на фото:
Ссылка на миниатюру:
- Послать ссылку другу
| Комментарии к фотографии |