- Раздел: Другое, разное
- Дата съёмки: 24.12.2012 00:28
- Дата загрузки фото: 24.12.2012 00:42
- Оригинальная фотография: 5616 x 3744 (3,3 Мб)
- Технические характеристики:
- Фотоаппарат: Canon EOS 5D Mark II
- Выдержка: 4,0
- Гиперфокальное расстояние: inf m
- Диафрагма: 9,0
- Светочувствительность: 100
- Фокусное расстояние: 28,0 mm
- Экспокоррекция: -1
- Полный EXIF
- Adobe
- ColorTransform: YCbCr
- Composite
- Aperture: 9,0
- CircleOfConfusion: 0,031 mm
- FocalLength35efl: 28,0 mm
- HyperfocalDistance: inf m
- LightValue: 4,3
- ScaleFactor35efl: 1,0
- ShutterSpeed: 4,0
- ExifIFD
- ApertureValue: 9,0
- ColorSpace: Uncalibrated
- CreateDate: 2012:12:24 00:28:45
- CustomRendered: Normal
- DateTimeOriginal: 2012:12:24 00:28:45
- ExifImageHeight: 3744
- ExifImageWidth: 5616
- ExposureCompensation: -1
- ExposureMode: Auto
- ExposureProgram: Aperture-priority AE
- ExposureTime: 4,0
- FNumber: 9,0
- Flash: Off, Did not fire
- FocalLength: 28,0 mm
- ISO: 100
- LensInfo: 28mm f/?
- LensModel: EF28mm f/1.8 USM
- MaxApertureValue: 1,8
- MeteringMode: Center-weighted average
- OwnerName: Dmitry Vorobyev
- SceneCaptureType: Standard
- SerialNumber: 3531617093
- ShutterSpeedValue: 4,0
- WhiteBalance: Auto
- ICC-header
- IFD0
- Artist: Photographer: Dmitry Vorobyev
- Copyright: Copyright: Dmitry Vorobyev
- Make: Canon
- Model: Canon EOS 5D Mark II
- ModifyDate: 2012:12:24 00:34:45
- Orientation: Horizontal (normal)
- IFD1
- IPTC
- By-line: Photographer: Dmitry Vorobyev
- CopyrightNotice: Copyright: Dmitry Vorobyev
- DateCreated: 2012:12:24
- System
- XMP-aux
- ApproximateFocusDistance: 0,36
- Firmware: 2.1.2
- FlashCompensation: 0
- ImageNumber: 0
- Lens: EF28mm f/1.8 USM
- LensID: 168
- XMP-crs
- AlreadyApplied: True
- AutoLateralCA: 0
- Blacks2012: 0
- BlueHue: 0
- BlueSaturation: 0
- Clarity2012: 0
- ColorNoiseReduction: 25
- ColorNoiseReductionDetail: 50
- Contrast2012: 0
- ConvertToGrayscale: False
- DefringeGreenAmount: 0
- DefringeGreenHueHi: 60
- DefringeGreenHueLo: 40
- DefringePurpleAmount: 0
- DefringePurpleHueHi: 70
- DefringePurpleHueLo: 30
- Exposure2012: +1.00
- GrainAmount: 0
- GreenHue: 0
- GreenSaturation: 0
- HasCrop: False
- HasSettings: True
- Highlights2012: 0
- HueAdjustmentAqua: 0
- HueAdjustmentBlue: 0
- HueAdjustmentGreen: 0
- HueAdjustmentMagenta: 0
- HueAdjustmentOrange: 0
- HueAdjustmentPurple: 0
- HueAdjustmentRed: 0
- HueAdjustmentYellow: 0
- LensManualDistortionAmount: 0
- LensProfileEnable: 0
- LensProfileSetup: LensDefaults
- LuminanceAdjustmentAqua: 0
- LuminanceAdjustmentBlue: 0
- LuminanceAdjustmentGreen: 0
- LuminanceAdjustmentMagenta: 0
- LuminanceAdjustmentOrange: 0
- LuminanceAdjustmentPurple: 0
- LuminanceAdjustmentRed: 0
- LuminanceAdjustmentYellow: 0
- LuminanceSmoothing: 0
- ParametricDarks: 0
- ParametricHighlightSplit: 75
- ParametricHighlights: 0
- ParametricLights: 0
- ParametricMidtoneSplit: 50
- ParametricShadowSplit: 25
- ParametricShadows: 0
- PerspectiveHorizontal: 0
- PerspectiveRotate: 0.0
- PerspectiveScale: 100
- PerspectiveVertical: 0
- PostCropVignetteAmount: 0
- ProcessVersion: 6.7
- RawFileName: _MG_5487.CR2
- RedHue: 0
- RedSaturation: 0
- Saturation: 0
- SaturationAdjustmentAqua: 0
- SaturationAdjustmentBlue: 0
- SaturationAdjustmentGreen: 0
- SaturationAdjustmentMagenta: 0
- SaturationAdjustmentOrange: 0
- SaturationAdjustmentPurple: 0
- SaturationAdjustmentRed: 0
- SaturationAdjustmentYellow: 0
- ShadowTint: 0
- Shadows2012: 0
- SharpenDetail: 25
- SharpenEdgeMasking: 0
- SharpenRadius: +1.0
- Sharpness: 0
- SplitToningBalance: 0
- SplitToningHighlightHue: 0
- SplitToningHighlightSaturation: 0
- SplitToningShadowHue: 0
- SplitToningShadowSaturation: 0
- Temperature: 2300
- Tint: +1
- ToneCurveName2012: Linear
- ToneCurvePV2012: 0, 0, 255, 255
- ToneCurvePV2012Blue: 0, 0, 255, 255
- ToneCurvePV2012Green: 0, 0, 255, 255
- ToneCurvePV2012Red: 0, 0, 255, 255
- Version: 7.3
- Vibrance: 0
- VignetteAmount: 0
- WhiteBalance: Custom
- Whites2012: 0
- XMP-dc
- Creator: Photographer: Dmitry Vorobyev
- Format: image/jpeg
- Rights: Copyright: Dmitry Vorobyev
- XMP-xmp
- ModifyDate: 2012:12:24 00:34:45+04:00
- Rating: 0
- XMP-xmpMM
- Просмотров: 679
- Рейтинг: голосов еще нет
- Отзывов: отключены