- Раздел: Другое, разное
- Дата съёмки: 26.12.2012 01:45
- Дата загрузки фото: 26.12.2012 02:44
- Оригинальная фотография: 2000 x 1386 (189 Кб)
- Технические характеристики:
- Фотоаппарат: Canon EOS 400D DIGITAL
- Выдержка: 1/20
- Гиперфокальное расстояние: inf m
- Диафрагма: 2,8
- Светочувствительность: 1600
- Фокусное расстояние: 30,0 mm (35 mm equivalent: 90,0 mm)
- Полный EXIF
- Adobe
- ColorTransform: YCbCr
- Composite
- Aperture: 2,8
- CircleOfConfusion: 0,010 mm
- FOV: 22,0 deg
- FocalLength35efl: 30,0 mm (35 mm equivalent: 90,0 mm)
- HyperfocalDistance: inf m
- ScaleFactor35efl: 3,1
- ShutterSpeed: 1/20
- ExifIFD
- ApertureValue: 2,8
- ColorSpace: sRGB
- CreateDate: 2012:12:26 01:45:04
- CustomRendered: Normal
- DateTimeOriginal: 2012:12:26 01:45:04
- ExifImageHeight: 1386
- ExifImageWidth: 2000
- ExposureCompensation: 0
- ExposureMode: Manual
- ExposureProgram: Manual
- ExposureTime: 1/20
- FNumber: 2,8
- Flash: Off, Did not fire
- FocalLength: 30,0 mm
- ISO: 1600
- LensInfo: 17-50mm f/?
- LensModel: 17.0-50.0 mm
- MaxApertureValue: 2,5
- MeteringMode: Partial
- OwnerName: unknown
- SceneCaptureType: Standard
- SerialNumber: 1030571902
- ShutterSpeedValue: 1/20
- WhiteBalance: Auto
- ICC-header
- ICC-meas
- ICC-view
- IFD0
- Artist: unknown
- BitsPerSample: 8 8 8
- ImageHeight: 1386
- ImageWidth: 2000
- Make: Canon
- Model: Canon EOS 400D DIGITAL
- ModifyDate: 2012:12:25 22:44:23
- Orientation: Horizontal (normal)
- PhotometricInterpretation: RGB
- SamplesPerPixel: 3
- IFD1
- IPTC
- By-line: unknown
- DateCreated: 2012:12:26
- System
- XMP-aux
- Firmware: 1.1.1
- FlashCompensation: 1
- ImageNumber: 176
- Lens: 17.0-50.0 mm
- LensID: 37
- XMP-crs
- AlreadyApplied: True
- AutoLateralCA: 0
- Blacks2012: 0
- BlueHue: 0
- BlueSaturation: 0
- Clarity2012: +43
- ColorNoiseReduction: 25
- ColorNoiseReductionDetail: 50
- Contrast2012: +41
- ConvertToGrayscale: False
- CropAngle: 0
- CropBottom: 1
- CropConstrainToWarp: 1
- CropLeft: 0
- CropRight: 0.879518
- CropTop: 0.085542
- DefringeGreenAmount: 0
- DefringeGreenHueHi: 60
- DefringeGreenHueLo: 40
- DefringePurpleAmount: 0
- DefringePurpleHueHi: 70
- DefringePurpleHueLo: 30
- Exposure2012: +0.15
- GrainAmount: 0
- GreenHue: 0
- GreenSaturation: 0
- HasCrop: True
- HasSettings: True
- Highlights2012: -100
- HueAdjustmentAqua: 0
- HueAdjustmentBlue: 0
- HueAdjustmentGreen: 0
- HueAdjustmentMagenta: 0
- HueAdjustmentOrange: 0
- HueAdjustmentPurple: 0
- HueAdjustmentRed: 0
- HueAdjustmentYellow: 0
- LensManualDistortionAmount: 0
- LensProfileEnable: 0
- LensProfileSetup: LensDefaults
- LuminanceAdjustmentAqua: 0
- LuminanceAdjustmentBlue: 0
- LuminanceAdjustmentGreen: 0
- LuminanceAdjustmentMagenta: 0
- LuminanceAdjustmentOrange: 0
- LuminanceAdjustmentPurple: 0
- LuminanceAdjustmentRed: 0
- LuminanceAdjustmentYellow: 0
- LuminanceSmoothing: 0
- ParametricDarks: 0
- ParametricHighlightSplit: 75
- ParametricHighlights: 0
- ParametricLights: 0
- ParametricMidtoneSplit: 50
- ParametricShadowSplit: 25
- ParametricShadows: 0
- PerspectiveHorizontal: 0
- PerspectiveRotate: 0.0
- PerspectiveScale: 100
- PerspectiveVertical: 0
- PostCropVignetteAmount: 0
- ProcessVersion: 6.7
- RawFileName: _MG_5963.CR2
- RedHue: 0
- RedSaturation: 0
- Saturation: 0
- SaturationAdjustmentAqua: 0
- SaturationAdjustmentBlue: 0
- SaturationAdjustmentGreen: 0
- SaturationAdjustmentMagenta: 0
- SaturationAdjustmentOrange: 0
- SaturationAdjustmentPurple: 0
- SaturationAdjustmentRed: 0
- SaturationAdjustmentYellow: 0
- ShadowTint: 0
- Shadows2012: +66
- SharpenDetail: 25
- SharpenEdgeMasking: 0
- SharpenRadius: +1.0
- Sharpness: 25
- SplitToningBalance: 0
- SplitToningHighlightHue: 0
- SplitToningHighlightSaturation: 0
- SplitToningShadowHue: 0
- SplitToningShadowSaturation: 0
- Temperature: 2650
- Tint: +5
- ToneCurveName2012: Linear
- ToneCurvePV2012: 0, 0, 255, 255
- ToneCurvePV2012Blue: 0, 0, 255, 255
- ToneCurvePV2012Green: 0, 0, 255, 255
- ToneCurvePV2012Red: 0, 0, 255, 255
- Version: 7.3
- Vibrance: 0
- VignetteAmount: 0
- WhiteBalance: Custom
- Whites2012: 0
- XMP-dc
- Creator: unknown
- Format: image/jpeg
- XMP-xmp
- ModifyDate: 2012:12:25 22:44:23Z
- Rating: 0
- XMP-xmpMM
- Просмотров: 302
- Рейтинг: голосов еще нет
- Отзывов: отключены