- Раздел: Путешествия
- Дата съёмки: 04.01.2013 19:58
- Дата загрузки фото: 12.01.2013 23:26
- Оригинальная фотография: 1024 x 683 (828 Кб)
- Технические характеристики:
- Фотоаппарат: Sony DSLR-A850
- Выдержка: 1/200
- Гиперфокальное расстояние: inf m
- Диафрагма: 5,6
- Светочувствительность: 200
- Фокусное расстояние: 28,0 mm (35 mm equivalent: 28,0 mm)
- Полный EXIF
- Adobe
- ColorTransform: YCbCr
- Composite
- Aperture: 5,6
- CircleOfConfusion: 0,030 mm
- FOV: 65,0 deg
- FocalLength35efl: 28,0 mm (35 mm equivalent: 28,0 mm)
- HyperfocalDistance: inf m
- ScaleFactor35efl: 1,0
- ShutterSpeed: 1/200
- ExifIFD
- ApertureValue: 5,6
- BrightnessValue: 6,62
- Contrast: Normal
- CreateDate: 2013:01:04 19:58:54
- CustomRendered: Normal
- DateTimeOriginal: 2013:01:04 19:58:54
- ExposureCompensation: 0
- ExposureMode: Auto
- ExposureProgram: Aperture-priority AE
- ExposureTime: 1/200
- FNumber: 5,6
- Flash: Off, Did not fire
- FocalLength: 28,0 mm
- FocalLengthIn35mmFormat: 28 mm
- ISO: 200
- LensInfo: 24-105mm f/3.5-4.5
- LensModel: 24-105mm F3.5-4.5
- LightSource: Unknown
- MaxApertureValue: 2,8
- MeteringMode: Multi-segment
- Saturation: Normal
- SceneCaptureType: Standard
- SceneType: Directly photographed
- Sharpness: Normal
- ShutterSpeedValue: 1/200
- WhiteBalance: Manual
- ICC-header
- ICC-meas
- ICC-view
- IFD0
- ImageDescription: SONY DSC
- Make: SONY
- Model: DSLR-A850
- ModifyDate: 2013:01:12 20:58:05
- IFD1
- IPTC
- Caption-Abstract: SONY DSC
- DateCreated: 2013:01:04
- System
- XMP-aux
- Lens: 24-105mm F3.5-4.5
- LensID: 24
- XMP-crs
- AlreadyApplied: True
- AutoLateralCA: 0
- Blacks2012: 0
- BlueHue: 0
- BlueSaturation: 0
- Clarity2012: 0
- ColorNoiseReduction: 25
- ColorNoiseReductionDetail: 50
- Contrast2012: 0
- ConvertToGrayscale: False
- DefringeGreenAmount: 0
- DefringeGreenHueHi: 60
- DefringeGreenHueLo: 40
- DefringePurpleAmount: 0
- DefringePurpleHueHi: 70
- DefringePurpleHueLo: 30
- Exposure2012: 0.00
- GrainAmount: 0
- GreenHue: 0
- GreenSaturation: 0
- HasCrop: False
- HasSettings: True
- Highlights2012: 0
- HueAdjustmentAqua: 0
- HueAdjustmentBlue: 0
- HueAdjustmentGreen: 0
- HueAdjustmentMagenta: 0
- HueAdjustmentOrange: 0
- HueAdjustmentPurple: 0
- HueAdjustmentRed: 0
- HueAdjustmentYellow: 0
- LensManualDistortionAmount: 0
- LensProfileChromaticAberrationScale: 100
- LensProfileDistortionScale: 100
- LensProfileEnable: 1
- LensProfileFilename: Canon EOS-1Ds Mark III (Tamron Di 28-75mm f2.8 SP XR LD IF) - RAW.lcp
- LensProfileSetup: Custom
- LensProfileVignettingScale: 100
- LuminanceAdjustmentAqua: 0
- LuminanceAdjustmentBlue: 0
- LuminanceAdjustmentGreen: 0
- LuminanceAdjustmentMagenta: 0
- LuminanceAdjustmentOrange: 0
- LuminanceAdjustmentPurple: 0
- LuminanceAdjustmentRed: 0
- LuminanceAdjustmentYellow: 0
- LuminanceSmoothing: 0
- ParametricDarks: 0
- ParametricHighlightSplit: 75
- ParametricHighlights: 0
- ParametricLights: 0
- ParametricMidtoneSplit: 50
- ParametricShadowSplit: 25
- ParametricShadows: 0
- PerspectiveHorizontal: 0
- PerspectiveRotate: 0.0
- PerspectiveScale: 100
- PerspectiveVertical: 0
- PostCropVignetteAmount: 0
- ProcessVersion: 6.7
- RedHue: 0
- RedSaturation: 0
- Saturation: 0
- SaturationAdjustmentAqua: 0
- SaturationAdjustmentBlue: 0
- SaturationAdjustmentGreen: 0
- SaturationAdjustmentMagenta: 0
- SaturationAdjustmentOrange: 0
- SaturationAdjustmentPurple: 0
- SaturationAdjustmentRed: 0
- SaturationAdjustmentYellow: 0
- ShadowTint: 0
- Shadows2012: 0
- SharpenDetail: 25
- SharpenEdgeMasking: 0
- SharpenRadius: +1.0
- Sharpness: 25
- SplitToningBalance: 0
- SplitToningHighlightHue: 0
- SplitToningHighlightSaturation: 0
- SplitToningShadowHue: 0
- SplitToningShadowSaturation: 0
- Temperature: 5200
- Tint: +13
- ToneCurveName2012: Linear
- ToneCurvePV2012: 0, 0, 255, 255
- ToneCurvePV2012Blue: 0, 0, 255, 255
- ToneCurvePV2012Green: 0, 0, 255, 255
- ToneCurvePV2012Red: 0, 0, 255, 255
- Version: 7.3
- Vibrance: 0
- VignetteAmount: 0
- WhiteBalance: As Shot
- Whites2012: -100
- XMP-dc
- Description: SONY DSC
- Format: image/jpeg
- XMP-xmp
- ModifyDate: 2013:01:12 20:58:05+02:00
- XMP-xmpMM
- Просмотров: 196
- Рейтинг: голосов еще нет
- Отзывов: 0