- Раздел: Путешествия
- Дата съёмки: 14.09.2012 22:17
- Дата загрузки фото: 20.01.2013 19:30
- Оригинальная фотография: 5616 x 3744 (1,7 Мб)
- Технические характеристики:
- Фотоаппарат: Canon EOS 5D Mark II
- Выдержка: 1/100
- Гиперфокальное расстояние: inf m
- Диафрагма: 9,0
- Светочувствительность: 100
- Фокусное расстояние: 70,0 mm
- Полный EXIF
- Adobe
- ColorTransform: YCbCr
- Composite
- Aperture: 9,0
- CircleOfConfusion: 0,031 mm
- FocalLength35efl: 70,0 mm
- HyperfocalDistance: inf m
- ScaleFactor35efl: 1,0
- ShutterSpeed: 1/100
- ExifIFD
- ApertureValue: 9,0
- ColorSpace: Uncalibrated
- CreateDate: 2012:09:14 22:17:49
- CustomRendered: Normal
- DateTimeOriginal: 2012:09:14 22:17:49
- ExifImageHeight: 3744
- ExifImageWidth: 5616
- ExposureCompensation: 0
- ExposureMode: Auto
- ExposureProgram: Aperture-priority AE
- ExposureTime: 1/100
- FNumber: 9,0
- Flash: Off, Did not fire
- FocalLength: 70,0 mm
- ISO: 100
- LensInfo: 24-70mm f/?
- LensModel: EF24-70mm f/2.8L USM
- MaxApertureValue: 2,8
- MeteringMode: Multi-segment
- SceneCaptureType: Standard
- SerialNumber: 330226313
- ShutterSpeedValue: 1/100
- WhiteBalance: Auto
- ICC-header
- IFD0
- Make: Canon
- Model: Canon EOS 5D Mark II
- ModifyDate: 2013:01:20 17:25:00
- Orientation: Horizontal (normal)
- IFD1
- IPTC
- DateCreated: 2012:09:14
- System
- XMP-aux
- ApproximateFocusDistance: 4294967295
- Firmware: 2.1.2
- FlashCompensation: 0
- ImageNumber: 0
- Lens: EF24-70mm f/2.8L USM
- LensID: 230
- XMP-crs
- AlreadyApplied: True
- AutoLateralCA: 1
- Blacks2012: +16
- BlueHue: 0
- BlueSaturation: 0
- Clarity2012: +6
- ColorNoiseReduction: 25
- ColorNoiseReductionDetail: 50
- Contrast2012: +42
- ConvertToGrayscale: False
- DefringeGreenAmount: 0
- DefringeGreenHueHi: 60
- DefringeGreenHueLo: 40
- DefringePurpleAmount: 0
- DefringePurpleHueHi: 70
- DefringePurpleHueLo: 30
- Exposure2012: +0.10
- GrainAmount: 0
- GreenHue: 0
- GreenSaturation: 0
- HasCrop: False
- HasSettings: True
- Highlights2012: -12
- HueAdjustmentAqua: 0
- HueAdjustmentBlue: 0
- HueAdjustmentGreen: 0
- HueAdjustmentMagenta: 0
- HueAdjustmentOrange: 0
- HueAdjustmentPurple: 0
- HueAdjustmentRed: 0
- HueAdjustmentYellow: 0
- LensManualDistortionAmount: 0
- LensProfileChromaticAberrationScale: 100
- LensProfileDistortionScale: 100
- LensProfileEnable: 1
- LensProfileFilename: Canon EOS-1Ds Mark III (Canon EF 24-70mm f2.8 L USM) - RAW.lcp
- LensProfileSetup: Custom
- LensProfileVignettingScale: 100
- LuminanceAdjustmentAqua: 0
- LuminanceAdjustmentBlue: 0
- LuminanceAdjustmentGreen: 0
- LuminanceAdjustmentMagenta: 0
- LuminanceAdjustmentOrange: 0
- LuminanceAdjustmentPurple: 0
- LuminanceAdjustmentRed: 0
- LuminanceAdjustmentYellow: 0
- LuminanceSmoothing: 0
- ParametricDarks: 0
- ParametricHighlightSplit: 75
- ParametricHighlights: 0
- ParametricLights: 0
- ParametricMidtoneSplit: 50
- ParametricShadowSplit: 25
- ParametricShadows: 0
- PerspectiveHorizontal: 0
- PerspectiveRotate: 0.0
- PerspectiveScale: 100
- PerspectiveVertical: 0
- PostCropVignetteAmount: 0
- ProcessVersion: 6.7
- RawFileName: IMG_5379.CR2
- RedHue: 0
- RedSaturation: 0
- Saturation: 0
- SaturationAdjustmentAqua: 0
- SaturationAdjustmentBlue: +5
- SaturationAdjustmentGreen: 0
- SaturationAdjustmentMagenta: 0
- SaturationAdjustmentOrange: 0
- SaturationAdjustmentPurple: 0
- SaturationAdjustmentRed: 0
- SaturationAdjustmentYellow: 0
- ShadowTint: 0
- Shadows2012: +56
- SharpenDetail: 25
- SharpenEdgeMasking: 0
- SharpenRadius: +1.0
- Sharpness: 25
- SplitToningBalance: 0
- SplitToningHighlightHue: 0
- SplitToningHighlightSaturation: 0
- SplitToningShadowHue: 0
- SplitToningShadowSaturation: 0
- Temperature: 5350
- Tint: +17
- ToneCurveName2012: Linear
- ToneCurvePV2012: 0, 0, 255, 255
- ToneCurvePV2012Blue: 0, 0, 255, 255
- ToneCurvePV2012Green: 0, 0, 255, 255
- ToneCurvePV2012Red: 0, 0, 255, 255
- Version: 7.3
- Vibrance: +38
- VignetteAmount: 0
- WhiteBalance: As Shot
- Whites2012: -13
- XMP-dc
- XMP-xmp
- ModifyDate: 2013:01:20 17:25+04:00
- Rating: 0
- XMP-xmpMM
- Просмотров: 579
- Рейтинг: голосов еще нет
- Отзывов: 0