- Раздел: Другое, разное
- Дата съёмки: 17.08.2012 17:33
- Дата загрузки фото: 21.01.2013 01:20
- Оригинальная фотография: 1920 x 1060 (520 Кб)
- Технические характеристики:
- Фотоаппарат: Canon EOS 5D Mark II
- Выдержка: 1/40
- Светочувствительность: 400
- Фокусное расстояние: 50,0 mm (35 mm equivalent: 100,0 mm)
- Полный EXIF
- Adobe
- ColorTransform: YCbCr
- Composite
- CircleOfConfusion: 0,010 mm
- FOV: 20,0 deg
- FocalLength35efl: 50,0 mm (35 mm equivalent: 100,0 mm)
- ScaleFactor35efl: 3,0
- ShutterSpeed: 1/40
- ExifIFD
- ColorSpace: sRGB
- CreateDate: 2012:08:17 17:33:25
- CustomRendered: Normal
- DateTimeOriginal: 2012:08:17 17:33:25
- ExifImageHeight: 1060
- ExifImageWidth: 1920
- ExposureCompensation: 0
- ExposureMode: Manual
- ExposureProgram: Manual
- ExposureTime: 1/40
- Flash: Off, Did not fire
- FocalLength: 50,0 mm
- ISO: 400
- MeteringMode: Multi-segment
- SceneCaptureType: Standard
- SerialNumber: 2151307365
- ShutterSpeedValue: 1/40
- WhiteBalance: Auto
- ICC-header
- ICC-meas
- ICC-view
- IFD0
- BitsPerSample: 8 8 8
- ImageHeight: 2964
- ImageWidth: 5371
- Make: Canon
- Model: Canon EOS 5D Mark II
- ModifyDate: 2013:01:12 23:13:55
- Orientation: Horizontal (normal)
- PhotometricInterpretation: RGB
- SamplesPerPixel: 3
- IFD1
- IPTC
- DateCreated: 2012:08:17
- System
- XMP-aux
- Firmware: 2.0.7
- FlashCompensation: 0
- ImageNumber: 0
- XMP-crs
- AlreadyApplied: True
- AutoLateralCA: 0
- Blacks2012: 0
- BlueHue: 0
- BlueSaturation: 0
- Clarity2012: +52
- ColorNoiseReduction: 25
- ColorNoiseReductionDetail: 50
- Contrast2012: +20
- ConvertToGrayscale: True
- CropAngle: 1.68802
- CropBottom: 0.990633
- CropConstrainToWarp: 0
- CropHeight: 2964
- CropLeft: 0.027113
- CropRight: 0.967659
- CropTop: 0.156879
- CropUnit: pixels
- CropWidth: 5371
- Exposure2012: +0.11
- GrainAmount: 0
- GrayMixerAqua: -15
- GrayMixerBlue: +15
- GrayMixerGreen: -15
- GrayMixerMagenta: +5
- GrayMixerOrange: -20
- GrayMixerPurple: +20
- GrayMixerRed: -15
- GrayMixerYellow: -20
- GreenHue: 0
- GreenSaturation: 0
- HasCrop: True
- HasSettings: True
- Highlights2012: 0
- LensManualDistortionAmount: 0
- LensProfileEnable: 0
- LensProfileSetup: LensDefaults
- LuminanceSmoothing: 0
- ParametricDarks: 0
- ParametricHighlightSplit: 75
- ParametricHighlights: 0
- ParametricLights: 0
- ParametricMidtoneSplit: 50
- ParametricShadowSplit: 25
- ParametricShadows: 0
- PerspectiveHorizontal: 0
- PerspectiveRotate: 0.0
- PerspectiveScale: 100
- PerspectiveVertical: 0
- PostCropVignetteAmount: -9
- PostCropVignetteFeather: 50
- PostCropVignetteHighlightContrast: 0
- PostCropVignetteMidpoint: 45
- PostCropVignetteRoundness: 0
- PostCropVignetteStyle: 1
- ProcessVersion: 6.7
- RedHue: 0
- RedSaturation: 0
- ShadowTint: 0
- Shadows2012: +27
- SharpenDetail: 25
- SharpenEdgeMasking: 0
- SharpenRadius: +1.0
- Sharpness: 25
- SplitToningBalance: 0
- SplitToningHighlightHue: 50
- SplitToningHighlightSaturation: 20
- SplitToningShadowHue: 250
- SplitToningShadowSaturation: 20
- Temperature: 5200
- Tint: 0
- ToneCurveName2012: Linear
- ToneCurvePV2012: 0, 0, 255, 255
- ToneCurvePV2012Blue: 0, 0, 255, 255
- ToneCurvePV2012Green: 0, 0, 255, 255
- ToneCurvePV2012Red: 0, 0, 255, 255
- Version: 7.1
- VignetteAmount: -15
- VignetteMidpoint: 50
- WhiteBalance: Custom
- Whites2012: 0
- XMP-dc
- XMP-xmp
- CreateDate: 2012:08:17 17:33:25.13
- ModifyDate: 2013:01:12 23:13:55+04:00
- Rating: 1
- XMP-xmpMM
- Просмотров: 931
- Рейтинг: голосов еще нет
- Отзывов: 0