- Раздел: Путешествия
- Дата съёмки: 12.09.2012 22:42
- Дата загрузки фото: 27.01.2013 14:12
- Оригинальная фотография: 3744 x 5616 (2,2 Мб)
- Технические характеристики:
- Фотоаппарат: Canon EOS 5D Mark II
- Выдержка: 1/125
- Гиперфокальное расстояние: inf m
- Диафрагма: 4,0
- Светочувствительность: 100
- Фокусное расстояние: 28,0 mm
- Полный EXIF
- Adobe
- ColorTransform: YCbCr
- Composite
- Aperture: 4,0
- CircleOfConfusion: 0,031 mm
- FocalLength35efl: 28,0 mm
- HyperfocalDistance: inf m
- ScaleFactor35efl: 1,0
- ShutterSpeed: 1/125
- ExifIFD
- ApertureValue: 4,0
- ColorSpace: sRGB
- CreateDate: 2012:09:12 22:42:47
- CustomRendered: Normal
- DateTimeOriginal: 2012:09:12 22:42:47
- ExifImageHeight: 5616
- ExifImageWidth: 3744
- ExposureCompensation: 0
- ExposureMode: Auto
- ExposureProgram: Aperture-priority AE
- ExposureTime: 1/125
- FNumber: 4,0
- Flash: Off, Did not fire
- FocalLength: 28,0 mm
- ISO: 100
- LensInfo: 24-70mm f/?
- LensModel: EF24-70mm f/2.8L USM
- MaxApertureValue: 2,8
- MeteringMode: Multi-segment
- SceneCaptureType: Standard
- SerialNumber: 330226313
- ShutterSpeedValue: 1/125
- WhiteBalance: Auto
- ICC-header
- ICC-meas
- ICC-view
- IFD0
- Make: Canon
- Model: Canon EOS 5D Mark II
- ModifyDate: 2013:01:27 13:52:54
- Orientation: Horizontal (normal)
- IFD1
- IPTC
- DateCreated: 2012:09:12
- System
- XMP-aux
- ApproximateFocusDistance: 5,04
- Firmware: 2.1.2
- FlashCompensation: 0
- ImageNumber: 0
- Lens: EF24-70mm f/2.8L USM
- LensID: 230
- XMP-crs
- AlreadyApplied: True
- AutoLateralCA: 1
- Blacks2012: +27
- BlueHue: 0
- BlueSaturation: 0
- Clarity2012: +47
- ColorNoiseReduction: 25
- ColorNoiseReductionDetail: 50
- Contrast2012: +33
- ConvertToGrayscale: False
- DefringeGreenAmount: 0
- DefringeGreenHueHi: 60
- DefringeGreenHueLo: 40
- DefringePurpleAmount: 0
- DefringePurpleHueHi: 70
- DefringePurpleHueLo: 30
- Exposure2012: +0.90
- GrainAmount: 0
- GreenHue: 0
- GreenSaturation: 0
- HasCrop: False
- HasSettings: True
- Highlights2012: -100
- HueAdjustmentAqua: 0
- HueAdjustmentBlue: 0
- HueAdjustmentGreen: 0
- HueAdjustmentMagenta: 0
- HueAdjustmentOrange: 0
- HueAdjustmentPurple: 0
- HueAdjustmentRed: 0
- HueAdjustmentYellow: 0
- LensManualDistortionAmount: 0
- LensProfileChromaticAberrationScale: 100
- LensProfileDistortionScale: 100
- LensProfileEnable: 1
- LensProfileFilename: Canon EOS-1Ds Mark III (Canon EF 24-70mm f2.8 L USM) - RAW.lcp
- LensProfileSetup: Custom
- LensProfileVignettingScale: 100
- LuminanceAdjustmentAqua: 0
- LuminanceAdjustmentBlue: 0
- LuminanceAdjustmentGreen: 0
- LuminanceAdjustmentMagenta: 0
- LuminanceAdjustmentOrange: 0
- LuminanceAdjustmentPurple: 0
- LuminanceAdjustmentRed: 0
- LuminanceAdjustmentYellow: 0
- LuminanceSmoothing: 0
- ParametricDarks: 0
- ParametricHighlightSplit: 75
- ParametricHighlights: 0
- ParametricLights: 0
- ParametricMidtoneSplit: 50
- ParametricShadowSplit: 25
- ParametricShadows: 0
- PerspectiveHorizontal: 0
- PerspectiveRotate: 0.0
- PerspectiveScale: 100
- PerspectiveVertical: 0
- PostCropVignetteAmount: 0
- ProcessVersion: 6.7
- RawFileName: IMG_5323.CR2
- RedHue: 0
- RedSaturation: 0
- Saturation: 0
- SaturationAdjustmentAqua: 0
- SaturationAdjustmentBlue: 0
- SaturationAdjustmentGreen: 0
- SaturationAdjustmentMagenta: 0
- SaturationAdjustmentOrange: 0
- SaturationAdjustmentPurple: 0
- SaturationAdjustmentRed: 0
- SaturationAdjustmentYellow: 0
- ShadowTint: 0
- Shadows2012: +28
- SharpenDetail: 25
- SharpenEdgeMasking: 0
- SharpenRadius: +1.0
- Sharpness: 25
- SplitToningBalance: 0
- SplitToningHighlightHue: 0
- SplitToningHighlightSaturation: 0
- SplitToningShadowHue: 0
- SplitToningShadowSaturation: 0
- Temperature: 7650
- Tint: +10
- ToneCurveName2012: Linear
- ToneCurvePV2012: 0, 0, 255, 255
- ToneCurvePV2012Blue: 0, 0, 255, 255
- ToneCurvePV2012Green: 0, 0, 255, 255
- ToneCurvePV2012Red: 0, 0, 255, 255
- Version: 7.3
- Vibrance: +25
- VignetteAmount: 0
- WhiteBalance: Custom
- Whites2012: -64
- XMP-dc
- XMP-xmp
- ModifyDate: 2013:01:27 13:52:54+04:00
- Rating: 0
- XMP-xmpMM
- Просмотров: 507
- Рейтинг: голосов еще нет
- Отзывов: 0