- Раздел: Другое, разное
- Дата съёмки: 27.05.2012 19:17
- Дата загрузки фото: 27.02.2013 11:38
- Оригинальная фотография: 2000 x 3000 (3,0 Мб)
- Технические характеристики:
- Фотоаппарат: Canon EOS 7D
- Выдержка: 1/320
- Гиперфокальное расстояние: inf m
- Диафрагма: 4,0
- Светочувствительность: 1600
- Фокусное расстояние: 90,0 mm (35 mm equivalent: 180,0 mm)
- Экспокоррекция: -2/3
- Полный EXIF
- Adobe
- ColorTransform: YCbCr
- Composite
- Aperture: 4,0
- CircleOfConfusion: 0,011 mm
- FOV: 11,0 deg
- FocalLength35efl: 90,0 mm (35 mm equivalent: 180,0 mm)
- HyperfocalDistance: inf m
- LensID: Canon EF 24-105mm f/4L IS
- ScaleFactor35efl: 2,7
- ShutterSpeed: 1/320
- ExifIFD
- ApertureValue: 4,0
- CreateDate: 2012:05:27 19:17:24
- CustomRendered: Normal
- DateTimeOriginal: 2012:05:27 19:17:24
- ExposureCompensation: -2/3
- ExposureMode: Auto
- ExposureProgram: Aperture-priority AE
- ExposureTime: 1/320
- FNumber: 4,0
- Flash: No Flash
- FocalLength: 90,0 mm
- ISO: 1600
- LensInfo: 24-105mm f/?
- LensModel: EF24-105mm f/4L IS USM
- MaxApertureValue: 4,0
- MeteringMode: Multi-segment
- SceneCaptureType: Standard
- SerialNumber: 1380804898
- ShutterSpeedValue: 1/320
- WhiteBalance: Manual
- ICC-header
- IFD0
- Artist: Timofey Chugunov
- Make: Canon
- Model: Canon EOS 7D
- ModifyDate: 2012:05:29 01:00:17
- IFD1
- IPTC
- By-line: Timofey Chugunov
- DateCreated: 2012:05:27
- System
- XMP-aux
- ApproximateFocusDistance: 4,47
- Firmware: 1.2.5
- FlashCompensation: 0
- ImageNumber: 0
- Lens: EF24-105mm f/4L IS USM
- LensID: 237
- XMP-crs
- AlreadyApplied: True
- AutoLateralCA: 0
- Blacks2012: +17
- BlueHue: 0
- BlueSaturation: 0
- Brightness: +50
- Clarity: 0
- Clarity2012: +10
- ColorNoiseReduction: 35
- ColorNoiseReductionDetail: 50
- ColorTemperature: 3100
- Contrast: +25
- Contrast2012: +5
- ConvertToGrayscale: False
- Defringe: 0
- Exposure: 0.00
- Exposure2012: +1.60
- FillLight: 0
- GrainAmount: 0
- GreenHue: 0
- GreenSaturation: 0
- HasCrop: False
- HasSettings: True
- HighlightRecovery: 0
- Highlights2012: -75
- HueAdjustmentAqua: 0
- HueAdjustmentBlue: 0
- HueAdjustmentGreen: 0
- HueAdjustmentMagenta: 0
- HueAdjustmentOrange: 0
- HueAdjustmentPurple: 0
- HueAdjustmentRed: 0
- HueAdjustmentYellow: 0
- LensManualDistortionAmount: 0
- LensProfileEnable: 0
- LensProfileSetup: LensDefaults
- LuminanceAdjustmentAqua: 0
- LuminanceAdjustmentBlue: 0
- LuminanceAdjustmentGreen: 0
- LuminanceAdjustmentMagenta: 0
- LuminanceAdjustmentOrange: 0
- LuminanceAdjustmentPurple: 0
- LuminanceAdjustmentRed: 0
- LuminanceAdjustmentYellow: 0
- LuminanceNoiseReductionContrast: 5
- LuminanceNoiseReductionDetail: 40
- LuminanceSmoothing: 45
- ParametricDarks: 0
- ParametricHighlightSplit: 75
- ParametricHighlights: 0
- ParametricLights: 0
- ParametricMidtoneSplit: 50
- ParametricShadowSplit: 25
- ParametricShadows: -15
- PerspectiveHorizontal: 0
- PerspectiveRotate: 0.0
- PerspectiveScale: 100
- PerspectiveVertical: 0
- PostCropVignetteAmount: 0
- ProcessVersion: 6.7
- RedHue: 0
- RedSaturation: 0
- Saturation: 0
- SaturationAdjustmentAqua: 0
- SaturationAdjustmentBlue: 0
- SaturationAdjustmentGreen: 0
- SaturationAdjustmentMagenta: 0
- SaturationAdjustmentOrange: 0
- SaturationAdjustmentPurple: 0
- SaturationAdjustmentRed: 0
- SaturationAdjustmentYellow: 0
- ShadowTint: 0
- Shadows: 5
- Shadows2012: +56
- SharpenDetail: 25
- SharpenEdgeMasking: 0
- SharpenRadius: +1.0
- Sharpness: 25
- SplitToningBalance: 0
- SplitToningHighlightHue: 0
- SplitToningHighlightSaturation: 0
- SplitToningShadowHue: 0
- SplitToningShadowSaturation: 0
- Tint: +5
- ToneCurve: 0, 0, 255, 255
- ToneCurveBlue: 0, 0, 255, 255
- ToneCurveGreen: 0, 0, 255, 255
- ToneCurveName: Linear
- ToneCurveName2012: Linear
- ToneCurvePV2012: 0, 0, 255, 255
- ToneCurvePV2012Blue: 0, 0, 255, 255
- ToneCurvePV2012Green: 0, 0, 255, 255
- ToneCurvePV2012Red: 0, 0, 255, 255
- ToneCurveRed: 0, 0, 255, 255
- Version: 7.0
- Vibrance: +5
- VignetteAmount: 0
- WhiteBalance: Custom
- Whites2012: -27
- XMP-dc
- Creator: Timofey Chugunov
- Format: image/jpeg
- XMP-xmp
- CreateDate: 2012:05:27 19:17:24.71
- ModifyDate: 2012:05:29 01:00:17+04:00
- XMP-xmpMM
- Просмотров: 431
- Рейтинг: голосов еще нет
- Отзывов: 0