- Раздел: Другое, разное
- Дата съёмки: 13.04.2013 12:33
- Дата загрузки фото: 13.04.2013 18:24
- Оригинальная фотография: 5305 x 3537 (8,2 Мб)
- Технические характеристики:
- Фотоаппарат: Canon EOS 6D
- Выдержка: 1/2000
- Гиперфокальное расстояние: inf m
- Диафрагма: 1,8
- Светочувствительность: 100
- Фокусное расстояние: 85,0 mm (35 mm equivalent: 85,0 mm)
- Полный EXIF
- Adobe
- ColorTransform: YCbCr
- Composite
- Aperture: 1,8
- CircleOfConfusion: 0,029 mm
- FOV: 23,0 deg
- FocalLength35efl: 85,0 mm (35 mm equivalent: 85,0 mm)
- GPSAltitude: 157,5 m Above Sea Level
- GPSDateTime: 2013:04:13 08:31:36Z
- GPSLatitude: 56 deg 25' 18,00" N
- GPSLongitude: 38 deg 4' 15,00" E
- GPSPosition: 56 deg 25' 18,00" N, 38 deg 4' 15,00" E
- HyperfocalDistance: inf m
- LensID: Canon EF 85mm f/1.8 USM
- ScaleFactor35efl: 1,0
- ShutterSpeed: 1/2000
- ExifIFD
- ApertureValue: 1,8
- ColorSpace: Uncalibrated
- CreateDate: 2013:04:13 12:33:21
- CustomRendered: Normal
- DateTimeOriginal: 2013:04:13 12:33:21
- ExifImageHeight: 3537
- ExifImageWidth: 5305
- ExposureCompensation: 0
- ExposureMode: Auto
- ExposureProgram: Aperture-priority AE
- ExposureTime: 1/2000
- FNumber: 1,8
- Flash: Off, Did not fire
- FocalLength: 85,0 mm
- ISO: 100
- LensInfo: 85mm f/?
- LensModel: EF85mm f/1.8 USM
- LensSerialNumber: 0000025547
- MaxApertureValue: 1,8
- MeteringMode: Partial
- OwnerName: Dmitry Vorobyev
- RecommendedExposureIndex: 100
- SceneCaptureType: Standard
- SensitivityType: Recommended Exposure Index
- SerialNumber: 022023006951
- ShutterSpeedValue: 1/2000
- WhiteBalance: Auto
- GPS
- GPSAltitude: 157,5 m
- GPSAltitudeRef: Above Sea Level
- GPSDOP: 16,2
- GPSDateStamp: 2013:04:13
- GPSLatitude: 56 deg 25' 18,00"
- GPSLatitudeRef: North
- GPSLongitude: 38 deg 4' 15,00"
- GPSLongitudeRef: East
- GPSMapDatum: WGS-84
- GPSMeasureMode: 3-Dimensional Measurement
- GPSSatellites: 11
- GPSStatus: Measurement Active
- GPSTimeStamp: 08:31:36
- GPSVersionID: 2.3.0.0
- ICC-header
- IFD0
- Artist: Dmitry Vorobyev
- http://vk.com/dmitry_vorobyev:
- Copyright: Dmitry Vorobyev
- Make: Canon
- Model: Canon EOS 6D
- ModifyDate: 2013:04:13 18:24:36
- Orientation: Horizontal (normal)
- IFD1
- IPTC
- By-line: Dmitry Vorobyev
http://vk.com/dm
- CopyrightNotice: Dmitry Vorobyev
- DateCreated: 2013:04:13
- System
- XMP-aux
- ApproximateFocusDistance: 7,27
- Firmware: 1.1.3
- FlashCompensation: 0
- ImageNumber: 0
- Lens: EF85mm f/1.8 USM
- LensID: 155
- XMP-crs
- AlreadyApplied: True
- AutoLateralCA: 0
- Blacks2012: 0
- BlueHue: 0
- BlueSaturation: 0
- Clarity2012: 0
- ColorNoiseReduction: 25
- ColorNoiseReductionDetail: 50
- ColorTemperature: 5150
- Contrast2012: 0
- ConvertToGrayscale: False
- CropAngle: 1.208985
- CropBottom: 1
- CropConstrainToWarp: 1
- CropLeft: 0.022161
- CropRight: 0.977839
- CropTop: -0
- DefringeGreenAmount: 0
- DefringeGreenHueHi: 60
- DefringeGreenHueLo: 40
- DefringePurpleAmount: 0
- DefringePurpleHueHi: 70
- DefringePurpleHueLo: 30
- Exposure2012: 0.00
- GrainAmount: 0
- GreenHue: 0
- GreenSaturation: 0
- HasCrop: True
- HasSettings: True
- Highlights2012: -27
- HueAdjustmentAqua: 0
- HueAdjustmentBlue: 0
- HueAdjustmentGreen: 0
- HueAdjustmentMagenta: 0
- HueAdjustmentOrange: 0
- HueAdjustmentPurple: 0
- HueAdjustmentRed: 0
- HueAdjustmentYellow: 0
- LensManualDistortionAmount: 0
- LensProfileEnable: 0
- LensProfileSetup: LensDefaults
- LuminanceAdjustmentAqua: 0
- LuminanceAdjustmentBlue: 0
- LuminanceAdjustmentGreen: 0
- LuminanceAdjustmentMagenta: 0
- LuminanceAdjustmentOrange: 0
- LuminanceAdjustmentPurple: 0
- LuminanceAdjustmentRed: 0
- LuminanceAdjustmentYellow: 0
- LuminanceSmoothing: 0
- ParametricDarks: 0
- ParametricHighlightSplit: 75
- ParametricHighlights: 0
- ParametricLights: 0
- ParametricMidtoneSplit: 50
- ParametricShadowSplit: 25
- ParametricShadows: 0
- PerspectiveHorizontal: 0
- PerspectiveRotate: 0.0
- PerspectiveScale: 100
- PerspectiveVertical: 0
- PostCropVignetteAmount: 0
- ProcessVersion: 6.7
- RawFileName: IMG_3900.CR2
- RedHue: 0
- RedSaturation: 0
- Saturation: 0
- SaturationAdjustmentAqua: 0
- SaturationAdjustmentBlue: 0
- SaturationAdjustmentGreen: 0
- SaturationAdjustmentMagenta: 0
- SaturationAdjustmentOrange: 0
- SaturationAdjustmentPurple: 0
- SaturationAdjustmentRed: 0
- SaturationAdjustmentYellow: 0
- ShadowTint: 0
- Shadows2012: 0
- SharpenDetail: 25
- SharpenEdgeMasking: 0
- SharpenRadius: +1.0
- Sharpness: 25
- SplitToningBalance: 0
- SplitToningHighlightHue: 0
- SplitToningHighlightSaturation: 0
- SplitToningShadowHue: 0
- SplitToningShadowSaturation: 0
- Tint: +8
- ToneCurveName2012: Linear
- ToneCurvePV2012: 0, 0, 255, 255
- ToneCurvePV2012Blue: 0, 0, 255, 255
- ToneCurvePV2012Green: 0, 0, 255, 255
- ToneCurvePV2012Red: 0, 0, 255, 255
- Version: 7.4
- Vibrance: 0
- VignetteAmount: 0
- WhiteBalance: As Shot
- Whites2012: 0
- XMP-dc
- Creator: Dmitry Vorobyev
- :
- Format: image/jpeg
- Rights: Dmitry Vorobyev
- XMP-xmp
- ModifyDate: 2013:04:13 18:24:36+04:00
- Rating: 0
- XMP-xmpMM
- Просмотров: 580
- Рейтинг: голосов еще нет
- Отзывов: отключены