- Раздел: Животные
- Дата съёмки: 18.04.2013 08:57
- Дата загрузки фото: 18.04.2013 14:50
- Оригинальная фотография: 2956 x 1970 (1,5 Мб)
- Технические характеристики:
- Фотоаппарат: Sony NEX-5N Canon FD 300/4L+ 2x-A
- Выдержка: 1/500
- Светочувствительность: 125
- Полный EXIF
- Adobe
- ColorTransform: YCbCr
- Composite
- CircleOfConfusion: 0,012 mm
- ScaleFactor35efl: 2,5
- ShutterSpeed: 1/500
- ExifIFD
- BrightnessValue: 2,0328125
- ColorSpace: sRGB
- Contrast: Normal
- CreateDate: 2013:04:18 08:57:14
- CustomRendered: Normal
- DateTimeOriginal: 2013:04:18 08:57:14
- ExifImageHeight: 1970
- ExifImageWidth: 2956
- ExposureCompensation: 0
- ExposureMode: Auto
- ExposureProgram: Shutter speed priority AE
- ExposureTime: 1/500
- Flash: Off, Did not fire
- ISO: 125
- LensModel: ----
- LightSource: Unknown
- MaxApertureValue: 1,0
- MeteringMode: Spot
- RecommendedExposureIndex: 125
- Saturation: Normal
- SceneCaptureType: Standard
- SceneType: Directly photographed
- SensitivityType: Recommended Exposure Index
- Sharpness: Normal
- ShutterSpeedValue: 1/500
- WhiteBalance: Auto
- ICC-header
- ICC-meas
- ICC-view
- IFD0
- Make: SONY
- Model: NEX-5N Canon FD 300/4L+ 2x-A
- ModifyDate: 2013:04:18 12:37:06
- Orientation: Horizontal (normal)
- IFD1
- IPTC
- DateCreated: 2013:04:18
- System
- XMP-aux
- XMP-crs
- AlreadyApplied: True
- AutoLateralCA: 1
- Blacks2012: -28
- BlueHue: 0
- BlueSaturation: 0
- Clarity2012: 0
- ColorNoiseReduction: 25
- ColorNoiseReductionDetail: 50
- ColorTemperature: 4350
- Contrast2012: +25
- ConvertToGrayscale: False
- CropAngle: 0
- CropBottom: 0.838825
- CropConstrainToWarp: 1
- CropHeight: 3
- CropLeft: 0.274555
- CropRight: 0.876257
- CropTop: 0.235157
- CropUnit: Unknown (3)
- CropWidth: 2
- DefringeGreenAmount: 1
- DefringeGreenHueHi: 60
- DefringeGreenHueLo: 20
- DefringePurpleAmount: 10
- DefringePurpleHueHi: 66
- DefringePurpleHueLo: 30
- Exposure2012: +1.05
- GrainAmount: 0
- GreenHue: 0
- GreenSaturation: 0
- HasCrop: True
- HasSettings: True
- Highlights2012: -57
- HueAdjustmentAqua: 0
- HueAdjustmentBlue: 0
- HueAdjustmentGreen: 0
- HueAdjustmentMagenta: 0
- HueAdjustmentOrange: 0
- HueAdjustmentPurple: 0
- HueAdjustmentRed: 0
- HueAdjustmentYellow: 0
- LensManualDistortionAmount: 0
- LensProfileEnable: 0
- LensProfileSetup: LensDefaults
- LuminanceAdjustmentAqua: 0
- LuminanceAdjustmentBlue: 0
- LuminanceAdjustmentGreen: 0
- LuminanceAdjustmentMagenta: 0
- LuminanceAdjustmentOrange: 0
- LuminanceAdjustmentPurple: 0
- LuminanceAdjustmentRed: 0
- LuminanceAdjustmentYellow: 0
- LuminanceNoiseReductionContrast: 0
- LuminanceNoiseReductionDetail: 50
- LuminanceSmoothing: 10
- ParametricDarks: 0
- ParametricHighlightSplit: 75
- ParametricHighlights: 0
- ParametricLights: 0
- ParametricMidtoneSplit: 50
- ParametricShadowSplit: 25
- ParametricShadows: 0
- PerspectiveHorizontal: 0
- PerspectiveRotate: 0.0
- PerspectiveScale: 100
- PerspectiveVertical: 0
- PostCropVignetteAmount: 0
- ProcessVersion: 6.7
- RawFileName: DSC00905.ARW
- RedHue: 0
- RedSaturation: 0
- Saturation: +8
- SaturationAdjustmentAqua: 0
- SaturationAdjustmentBlue: 0
- SaturationAdjustmentGreen: 0
- SaturationAdjustmentMagenta: 0
- SaturationAdjustmentOrange: 0
- SaturationAdjustmentPurple: 0
- SaturationAdjustmentRed: 0
- SaturationAdjustmentYellow: 0
- ShadowTint: 0
- Shadows2012: +52
- SharpenDetail: 25
- SharpenEdgeMasking: 0
- SharpenRadius: +1.0
- Sharpness: 25
- SplitToningBalance: 0
- SplitToningHighlightHue: 0
- SplitToningHighlightSaturation: 0
- SplitToningShadowHue: 0
- SplitToningShadowSaturation: 0
- Tint: +16
- ToneCurveName2012: Linear
- ToneCurvePV2012: 0, 0, 255, 255
- ToneCurvePV2012Blue: 0, 0, 255, 255
- ToneCurvePV2012Green: 0, 0, 255, 255
- ToneCurvePV2012Red: 0, 0, 255, 255
- Version: 7.1
- Vibrance: 0
- VignetteAmount: +21
- VignetteMidpoint: 50
- WhiteBalance: As Shot
- Whites2012: +42
- XMP-dc
- XMP-xmp
- CreatorTool: NEX-5N v1.01
- ModifyDate: 2013:04:18 12:37:06+04:00
- Rating: 0
- XMP-xmpMM
- Просмотров: 243
- Рейтинг: голосов еще нет
- Отзывов: 0