- Раздел: Другое, разное
- Дата съёмки: 19.04.2013 21:36
- Дата загрузки фото: 20.04.2013 18:16
- Оригинальная фотография: 788 x 1080 (303 Кб)
- Технические характеристики:
- Фотоаппарат: Nikon 1 J2
- Выдержка: 1/15
- Гиперфокальное расстояние: inf m
- Диафрагма: 5,6
- Светочувствительность: 100
- Фокусное расстояние: 100,0 mm (35 mm equivalent: 200,0 mm)
- Экспокоррекция: -3
- Полный EXIF
- Adobe
- ColorTransform: YCbCr
- Composite
- Aperture: 5,6
- CircleOfConfusion: 0,011 mm
- FOV: 10,0 deg
- FocalLength35efl: 100,0 mm (35 mm equivalent: 200,0 mm)
- HyperfocalDistance: inf m
- ScaleFactor35efl: 2,7
- ShutterSpeed: 1/15
- ExifIFD
- ApertureValue: 5,6
- CFAPattern: [Red,Green][Green,Blue]
- Contrast: Normal
- CreateDate: 2013:04:19 21:36:11
- CustomRendered: Normal
- DateTimeOriginal: 2013:04:19 21:36:11
- DigitalZoomRatio: 1
- ExposureCompensation: -3
- ExposureMode: Auto
- ExposureProgram: Aperture-priority AE
- ExposureTime: 1/15
- FNumber: 5,6
- Flash: No Flash
- FocalLength: 100,0 mm
- FocalLengthIn35mmFormat: 270 mm
- GainControl: None
- ISO: 100
- LensInfo: 10-100mm f/4-5.6
- LensModel: 1 NIKKOR VR 10-100mm f/4-5.6
- LightSource: Unknown
- MaxApertureValue: 5,7
- MeteringMode: Multi-segment
- Saturation: Normal
- SceneCaptureType: Standard
- SceneType: Directly photographed
- SensingMethod: One-chip color area
- SensitivityType: Recommended Exposure Index
- SerialNumber: 53001309
- Sharpness: Normal
- ShutterSpeedValue: 1/15
- SubjectDistanceRange: Unknown
- WhiteBalance: Auto
- ICC-header
- ICC-meas
- ICC-view
- IFD0
- Make: NIKON CORPORATION
- Model: NIKON 1 J2
- ModifyDate: 2013:04:20 18:12:22
- IFD1
- IPTC
- DateCreated: 2013:04:19
- System
- XMP-aux
- ApproximateFocusDistance: 20
- ImageNumber: 15100
- Lens: 1 NIKKOR VR 10-100mm f/4-5.6
- XMP-crs
- AlreadyApplied: True
- AutoLateralCA: 1
- Blacks2012: 0
- BlueHue: 0
- BlueSaturation: 0
- Clarity2012: 0
- ColorNoiseReduction: 25
- ColorNoiseReductionDetail: 50
- ColorTemperature: 3800
- Contrast2012: 0
- ConvertToGrayscale: False
- CropAngle: 9.06054
- CropBottom: 0.89729
- CropConstrainToWarp: 0
- CropHeight: 788
- CropLeft: 0.335172
- CropRight: 0.913235
- CropTop: 0.028935
- CropUnit: pixels
- CropWidth: 1080
- DefringeGreenAmount: 0
- DefringeGreenHueHi: 60
- DefringeGreenHueLo: 40
- DefringePurpleAmount: 0
- DefringePurpleHueHi: 70
- DefringePurpleHueLo: 30
- Exposure2012: 0.00
- GrainAmount: 0
- GreenHue: 0
- GreenSaturation: 0
- HasCrop: True
- HasSettings: True
- Highlights2012: -27
- HueAdjustmentAqua: 0
- HueAdjustmentBlue: 0
- HueAdjustmentGreen: 0
- HueAdjustmentMagenta: 0
- HueAdjustmentOrange: 0
- HueAdjustmentPurple: 0
- HueAdjustmentRed: 0
- HueAdjustmentYellow: 0
- LensManualDistortionAmount: 0
- LensProfileEnable: 0
- LensProfileSetup: LensDefaults
- LuminanceAdjustmentAqua: 0
- LuminanceAdjustmentBlue: 0
- LuminanceAdjustmentGreen: 0
- LuminanceAdjustmentMagenta: 0
- LuminanceAdjustmentOrange: 0
- LuminanceAdjustmentPurple: 0
- LuminanceAdjustmentRed: 0
- LuminanceAdjustmentYellow: 0
- LuminanceSmoothing: 0
- PaintBasedCorrectionsLocalClarity2012: 0.383930
- PaintBasedCorrectionsLocalContrast2012: 0.000000
- PaintBasedCorrectionsLocalDefringe: 0.000000
- PaintBasedCorrectionsLocalExposure2012: 0.000000
- PaintBasedCorrectionsLocalHighlights2012: 0.000000
- PaintBasedCorrectionsLocalLuminanceNoise: 0.000000
- PaintBasedCorrectionsLocalMoire: 0.000000
- PaintBasedCorrectionsLocalShadows2012: 0.000000
- PaintBasedCorrectionsLocalTemperature: 0.151790
- PaintBasedCorrectionsLocalTint: 0.000000
- PaintCorrectionActive: true
- PaintCorrectionAmount: 1.000000
- PaintCorrectionBrightness: 0.000000
- PaintCorrectionHue: 240.000000
- PaintCorrectionMaskCenterWeight: 0.000000
- PaintCorrectionMaskFlow: 1.000000
- PaintCorrectionMaskRadius: 0.009086
- PaintCorrectionMaskValue: 1.000000
- PaintCorrectionMaskWhat: Mask/Paint
- PaintCorrectionSaturation: 0.000000
- PaintCorrectionSharpness: 0.267860
- PaintCorrectionWhat: Correction
- ParametricDarks: 0
- ParametricHighlightSplit: 75
- ParametricHighlights: 0
- ParametricLights: 0
- ParametricMidtoneSplit: 50
- ParametricShadowSplit: 25
- ParametricShadows: 0
- PerspectiveHorizontal: 0
- PerspectiveRotate: 0.0
- PerspectiveScale: 100
- PerspectiveVertical: 0
- PostCropVignetteAmount: 0
- ProcessVersion: 6.7
- RedHue: 0
- RedSaturation: 0
- Saturation: 0
- SaturationAdjustmentAqua: 0
- SaturationAdjustmentBlue: 0
- SaturationAdjustmentGreen: 0
- SaturationAdjustmentMagenta: 0
- SaturationAdjustmentOrange: 0
- SaturationAdjustmentPurple: 0
- SaturationAdjustmentRed: 0
- SaturationAdjustmentYellow: 0
- ShadowTint: 0
- Shadows2012: 0
- SharpenDetail: 25
- SharpenEdgeMasking: 0
- SharpenRadius: +1.5
- Sharpness: 50
- SplitToningBalance: 0
- SplitToningHighlightHue: 0
- SplitToningHighlightSaturation: 0
- SplitToningShadowHue: 0
- SplitToningShadowSaturation: 0
- Tint: +6
- ToneCurveName2012: Custom
- ToneCurvePV2012: 0, 0, 15, 42, 63, 106, 255, 255
- ToneCurvePV2012Blue: 0, 0, 255, 255
- ToneCurvePV2012Green: 0, 0, 255, 255
- ToneCurvePV2012Red: 0, 0, 255, 255
- Version: 7.4
- Vibrance: 0
- VignetteAmount: 0
- WhiteBalance: As Shot
- Whites2012: 0
- XMP-dc
- XMP-xmp
- CreateDate: 2013:04:19 21:36:11.00
- ModifyDate: 2013:04:20 18:12:22+04:00
- XMP-xmpMM
- Просмотров: 508
- Рейтинг: голосов еще нет
- Отзывов: 0