Уважаемые друзья и участники проекта iXBT.photo! К сожалению, 1 марта 2026 года проект iXBT.photo прекратит свою работу и будет закрыт. Мы высоко ценим ваше участие и тот вклад, который вы внесли в развитие нашего сообщества. Пожалуйста, не забудьте сохранить ваши фотографии до этой даты.
С уважением, команда iXBT.com
| 06280013.jpg |
06280013.jpg
- Раздел: Город
- Дата съёмки: 28.06.2012 22:01
- Дата загрузки фото: 30.04.2013 17:02
- Оригинальная фотография: 1024 x 682 (308 Кб)
- Технические характеристики:
- Фотоаппарат: Samsung NX100
- Выдержка: 1/200
- Гиперфокальное расстояние: inf m
- Диафрагма: 6,3
- Светочувствительность: 100
- Фокусное расстояние: 30,0 mm (35 mm equivalent: 30,0 mm)
- Полный EXIF
- Adobe
- ColorTransform: YCbCr
- Composite
- Aperture: 6,3
- CircleOfConfusion: 0,020 mm
- FOV: 61,0 deg
- FocalLength35efl: 30,0 mm (35 mm equivalent: 30,0 mm)
- HyperfocalDistance: inf m
- LensID: Samsung NX 20-50mm F3.5-5.6 ED
- ScaleFactor35efl: 1,5
- ShutterSpeed: 1/200
- ExifIFD
- ApertureValue: 6,3
- CFAPattern: [Blue,Green][Green,Red]
- ColorSpace: sRGB
- DateTimeOriginal: 2012:06:28 22:01:32
- ExifImageHeight: 682
- ExifImageWidth: 1024
- ExposureCompensation: 0
- ExposureProgram: Aperture-priority AE
- ExposureTime: 1/200
- FNumber: 6,3
- Flash: Off, Did not fire
- FocalLength: 30,0 mm
- FocalLengthIn35mmFormat: 46 mm
- ISO: 100
- LensInfo: 20-50mm f/3.5-5.6
- LensModel: Samsung 20-50mm f/3.5-5.6 ED
- LensSerialNumber: 237100432340
- LightSource: Other
- MeteringMode: Spot
- SceneCaptureType: Standard
- SerialNumber: 0
- ShutterSpeedValue: 1/200
- WhiteBalance: Auto
- ICC-header
- ICC-meas
- ICC-view
- IFD0
- BitsPerSample: 8 8 8
- ImageHeight: 682
- ImageWidth: 1024
- Make: SAMSUNG
- Model: NX100
- ModifyDate: 2012:09:22 23:12:25
- Orientation: Horizontal (normal)
- PhotometricInterpretation: RGB
- PlanarConfiguration: Chunky
- SamplesPerPixel: 3
- IFD1
- IPTC
- DateCreated: 2012:06:28
- System
- XMP-aux
- Firmware: NX100_FW_X_F1110111
- Lens: Samsung 20-50mm f/3.5-5.6 ED
- LensID: 4
- XMP-crs
- AlreadyApplied: True
- AutoLateralCA: 0
- Blacks2012: 0
- BlueHue: 0
- BlueSaturation: 0
- Clarity2012: +46
- ColorNoiseReduction: 25
- ColorNoiseReductionDetail: 50
- ColorTemperature: 6300
- Contrast2012: 0
- ConvertToGrayscale: False
- DefringeGreenAmount: 0
- DefringeGreenHueHi: 60
- DefringeGreenHueLo: 40
- DefringePurpleAmount: 0
- DefringePurpleHueHi: 70
- DefringePurpleHueLo: 30
- Exposure2012: 0.00
- GrainAmount: 0
- GreenHue: 0
- GreenSaturation: 0
- HasCrop: False
- HasSettings: True
- Highlights2012: 0
- HueAdjustmentAqua: 0
- HueAdjustmentBlue: 0
- HueAdjustmentGreen: 0
- HueAdjustmentMagenta: 0
- HueAdjustmentOrange: 0
- HueAdjustmentPurple: 0
- HueAdjustmentRed: 0
- HueAdjustmentYellow: 0
- LensManualDistortionAmount: 0
- LensProfileEnable: 0
- LensProfileSetup: LensDefaults
- LuminanceAdjustmentAqua: 0
- LuminanceAdjustmentBlue: 0
- LuminanceAdjustmentGreen: 0
- LuminanceAdjustmentMagenta: 0
- LuminanceAdjustmentOrange: 0
- LuminanceAdjustmentPurple: 0
- LuminanceAdjustmentRed: 0
- LuminanceAdjustmentYellow: 0
- LuminanceSmoothing: 0
- ParametricDarks: 0
- ParametricHighlightSplit: 75
- ParametricHighlights: 0
- ParametricLights: 0
- ParametricMidtoneSplit: 50
- ParametricShadowSplit: 25
- ParametricShadows: 0
- PerspectiveHorizontal: 0
- PerspectiveRotate: 0.0
- PerspectiveScale: 100
- PerspectiveVertical: 0
- PostCropVignetteAmount: 0
- ProcessVersion: 6.7
- RedHue: 0
- RedSaturation: 0
- Saturation: +37
- SaturationAdjustmentAqua: 0
- SaturationAdjustmentBlue: 0
- SaturationAdjustmentGreen: 0
- SaturationAdjustmentMagenta: 0
- SaturationAdjustmentOrange: 0
- SaturationAdjustmentPurple: 0
- SaturationAdjustmentRed: 0
- SaturationAdjustmentYellow: 0
- ShadowTint: 0
- Shadows2012: +63
- SharpenDetail: 25
- SharpenEdgeMasking: 0
- SharpenRadius: +1.0
- Sharpness: 25
- SplitToningBalance: 0
- SplitToningHighlightHue: 0
- SplitToningHighlightSaturation: 0
- SplitToningShadowHue: 0
- SplitToningShadowSaturation: 0
- Tint: +18
- ToneCurveName2012: Linear
- ToneCurvePV2012: 0, 0, 255, 255
- ToneCurvePV2012Blue: 0, 0, 255, 255
- ToneCurvePV2012Green: 0, 0, 255, 255
- ToneCurvePV2012Red: 0, 0, 255, 255
- Version: 7.1
- Vibrance: +20
- VignetteAmount: 0
- WhiteBalance: As Shot
- Whites2012: 0
- XMP-dc
- XMP-xmp
- CreateDate: 2012:06:28 22:01:32
- ModifyDate: 2012:09:22 23:12:25+04:00
- XMP-xmpMM
- XMP-znr
- RawDevelopSettings: UEsDBBQAAAAIAAAAIACoQzweUAMAAEYLAAAMAAAAc2V0dGluZ3MueG1sdVZdbtQwEH5H4g4cAMpu
- aQutkCWEeOcFnvriJrOJpcSOxs6W5RKcgDtUPIJEr7CchCvgJDP+y7LSSpnv+2b8M+Ox//56fPsV:
- 729q2ENnBvH0yWx+0I3S8BnQKqPF9u3LNUjKdx2CrA/vhqFTUIvNIi1Q0kp0aicrt1OdAxTni7ZA:
- SduppnWW45FFnG1lbe6teLHdEM8ICSqjHUrr2D3YzHcSlTuIa5oC20Q76AdA6UYEcXV+/XoRpSjH:
- kf1pbUFwXKWd2L6hcJORxEk5tnm9UxTp5lSEFUeMVHt1h1JXEDUBIUU7Au/I9Eno/R2D/ouwncFe:
- Ok48WTwb9RVU/YWd2CS2ht5YqSqmgx1S0xm0g6wgJicgPLrqwNcij75YxI22tw5BN64VVxQhxaIM:
- Za1GK7Zn51FGWBS5FsG2pqu5GjMs6rqxN7o78JwShDTwZahMP4jNGe8+IyTQ6D14zYsRGL8FkZmM:
- wPh1Gd1kfIR4y6tB0GZXYThf79pOiWPHCJACjZMO5gmThBDOFJoBoXKLwv+eh49t+UGZZA+emLLO:
- YAxAkyQ0FIx1g/SZe39z+8n65nKrGoO3H1U1HR17e/x+/H38cXz48+3Z8fH44P8/jw9cW+Qaq7aC:
- WsseRChcBjiVugb0mTHWB+/BtSb0rFNU1owcl0U4YAWet6cAX+RNqpQvQe460PV0lsTrLHjE8+hr:
- /Yoo4o9YK78TU499VQyRUOUoJ7xOcdlYvnWBtlNDvbhMB4p4PspavyKy+LAX51lJBTiPu9JFnE+J:
- 0VCNuOeCiXbWrlq1cyLtVjNAkgblAf0lx9vDdkI3CKDF5XUULEgi8bvpO/c2KmYgtPZGg/NXQiN7:
- M+ryRK3olVuv6sFMN8rl/zyDgnyHEYcOdqimS7/hM1Kg4fry611WxJ0gIkEzLegAXWfuoyrBwl6Y:
- ceBTKMJ+pGCq9FdWqok32GzOycoEC7LSLAndlMIizx72FYSDBmuzqBFNtbGYUu2qxGZUG+V7H9Rj:
- 5ZIX1ykqGyH09GyEstPTgvQ+f8+VcKb25xrlgGa6fXOHjEl92hrzV1uBFlp+sxXi4ik3w9N5sJXs:
- IBNHNNXGks6mncDZOls0/m2jfCkC8hsrXe0J3vvT9cNv5n9QSwECAAAUAAAACAAAACAAqEM8HlAD:
- AABGCwAADAAAAAAAAAABAAAAAAAAAAAAc2V0dGluZ3MueG1sUEsFBgAAAAABAAEAOgAAAHoDAAAA:
- AA==:
- RawDevelopSettingsHistory: UEsDBBQAAAAIAAAAIADo2lQA8AMAAFItAAALAAAAaGlzdG9yeS5kYXTtWEuO3DYQHS+8SeA7+AC2
- M93xjD2GIWDgxGtvklVvOFK1REAiBZLqcfsSvkB8h4GXCRBfoXOSbLPrUFIVf2rvkgCDcIAGVK8e:
- i58qFh/mwVn8d/3t2dmfv315/UHdvqpgB63si0ffTOaPouYCfgaluRTF6vV3SxCZ160CVu2v+77l:
- UBXnMzVBkcuU4VtWmi1vDahiPXMTFLktrxujKR5a6NMNq+Stc5KJ3lIKo5g25HY2+VumuNk7N5ro:
- NdD1oJgZFBQXl+dIClEKw7oQvVxfvcCAsYPicuFWNH0HYUZz9dKPDtx6DMLMlAVaTIAha8dvFBMl:
- eI5DkNEMQLOPn4je3hBovxDbStUxQzlHi1bDPwCv3ruDRxO9FXRSM16S29kuMa1Uumcl+NQ4hGbn:
- LdgypNlnC32D7rRRIGrTFJcYIcQ8TbGKD7pYPVt7GmKeZBoFupFtRYUYYZ7XDp0U7Z7WFCDIgfd9:
- Kbu+OH9Gp08IEoSyI2jPs+E89gi8ZzScx+5Lijrye4iOvOwLPOzSTWerXegxca7eHIAMJQ0zMC0Y:
- KYhQppTsFZRmZti/J+5jlX5gJmkELYxrI5UPgItE1BWMNj2zmXvzavOTtn1lw2upNu94Od4cvTl8:
- Ovx++Hy4++Pj48OXw539/Xq4o9rCob5qS6gE66BwhUsApVJUoGxmpLbBOzCNdO3qlCvqQ4bKwl2w:
- BI87k4Ofxy0qpc9BbloQ1XiXihdRcI/H0Zf8hSOJP6iK25MY2+v3yRSBK53lxKhTvmgu27pA6LGf:
- Pr8IJ/J4PMuSv3BE8WFXrKOScnAcd8HzON0SKaAc1I4KxttRu2r41hRht5oApNSK7ZV93+h4yA7c:
- tQIQxcWVJ8xIQLGnaTv3yjMmwLX2WoCxT0LNOjmI9EYt3IthHa96Ob4oF18b6Rg4th9U38JW8fG9:
- r+mOJKh7vux+5x1RJ/CI44wb2kPbylvPCjB3FnLo6RYW7jxCMGTaJyvk+BdsMqdkRYQZWXDmhJ6n:
- xCTPFrYVpHoBWkdRPRpyfTGF3EWJTaiQ3PY+qIbSBGLrlCuawfX0aIa00+OGxC6Wcikcse29VqxX:
- cnx94wGRJxzTVCoWbAmacBMBl8Ihe7wPumQtRGSPhlxf0tGyAzjaZ6Ok1TbcliIo0ljhbk/47Xh8:
- fkguP7RC+oH9/XU8Ht/cd0H99OW/rKi9Sv6HFDXJ5iyps6TOkjpL6iyps6TOkjpL6iyp76+kXqOk:
- 3tjfD/9zSX21zpo6a+qsqbOm/oora+qsqbOmzprawVlTZ0291NT0b+pfjsfj23uvqVdJu8yqOqvq:
- rKqzqs6qOqvqrKqzqs6qOqvq/0JV/w1QSwECAAAUAAAACAAAACAA6NpUAPADAABSLQAACwAAAAAA:
- AAAAAAAAAAAAAAAAaGlzdG9yeS5kYXRQSwUGAAAAAAEAAQA5AAAAGQQAAAAA:
- Просмотров: 196
- Рейтинг: голосов еще нет
- Отзывов: 0
Получить код для блога
| Вставка фотографии в текущем разрешении |
Вставка миниатюры |
HTML (для вставки в блог):
BBCode (для вставки в форум):
Ссылка на фото:
Ссылка на миниатюру:
- Послать ссылку другу
| Комментарии к фотографии |