- Раздел: Тесты фототехники
- Дата съёмки: 18.05.2013 17:33
- Дата загрузки фото: 29.05.2013 00:41
- Оригинальная фотография: 1280 x 853 (246 Кб)
- Технические характеристики:
- Фотоаппарат: Canon EOS 5D Mark II
- Выдержка: 1/1600
- Гиперфокальное расстояние: inf m
- Диафрагма: 2,8
- Светочувствительность: 200
- Фокусное расстояние: 33,0 mm (35 mm equivalent: 132,0 mm)
- Полный EXIF
- Adobe
- ColorTransform: YCbCr
- Composite
- Aperture: 2,8
- CircleOfConfusion: 0,007 mm
- FOV: 15,0 deg
- FocalLength35efl: 33,0 mm (35 mm equivalent: 132,0 mm)
- HyperfocalDistance: inf m
- LensID: Canon EF 16-35mm f/2.8L II
- ScaleFactor35efl: 4,3
- ShutterSpeed: 1/1600
- ExifIFD
- ApertureValue: 2,8
- ColorSpace: sRGB
- CreateDate: 2013:05:18 17:33:07
- CustomRendered: Normal
- DateTimeOriginal: 2013:05:18 17:33:07
- ExifImageHeight: 853
- ExifImageWidth: 1280
- ExposureCompensation: 0
- ExposureMode: Auto
- ExposureProgram: Aperture-priority AE
- ExposureTime: 1/1600
- FNumber: 2,8
- Flash: Off, Did not fire
- FocalLength: 33,0 mm
- ISO: 200
- LensInfo: 16-35mm f/?
- LensModel: EF16-35mm f/2.8L II USM
- MaxApertureValue: 2,8
- MeteringMode: Multi-segment
- SceneCaptureType: Standard
- SerialNumber: 1130711884
- ShutterSpeedValue: 1/1600
- WhiteBalance: Auto
- ICC-header
- ICC-meas
- ICC-view
- IFD0
- BitsPerSample: 8 8 8
- ImageHeight: 3116
- ImageWidth: 4674
- Make: Canon
- Model: Canon EOS 5D Mark II
- ModifyDate: 2013:05:29 00:39:36
- Orientation: Horizontal (normal)
- PhotometricInterpretation: RGB
- SamplesPerPixel: 3
- IFD1
- IPTC
- DateCreated: 2013:05:18
- System
- XMP-aux
- ApproximateFocusDistance: 1,63
- Firmware: 2.1.2
- FlashCompensation: 0
- ImageNumber: 0
- Lens: EF16-35mm f/2.8L II USM
- LensID: 246
- XMP-crs
- AlreadyApplied: True
- AutoLateralCA: 0
- Blacks2012: +14
- BlueHue: 0
- BlueSaturation: 0
- CameraProfile: Camera Standard
- Clarity2012: -2
- ColorNoiseReduction: 25
- ColorNoiseReductionDetail: 50
- ColorTemperature: 5523
- Contrast2012: +9
- ConvertToGrayscale: True
- CropAngle: -2.55095
- CropBottom: 0.943497
- CropConstrainToWarp: 0
- CropHeight: 3116
- CropLeft: 0.021725
- CropRight: 0.877794
- CropTop: 0.167681
- CropUnit: pixels
- CropWidth: 4674
- Exposure2012: 0.00
- GrainAmount: 0
- GrayMixerAqua: -18
- GrayMixerBlue: +11
- GrayMixerGreen: -26
- GrayMixerMagenta: +5
- GrayMixerOrange: 0
- GrayMixerPurple: +17
- GrayMixerRed: -8
- GrayMixerYellow: -21
- GreenHue: 0
- GreenSaturation: 0
- HasCrop: True
- HasSettings: True
- Highlights2012: 0
- LensManualDistortionAmount: 0
- LensProfileEnable: 0
- LensProfileSetup: LensDefaults
- LuminanceSmoothing: 0
- PaintBasedCorrectionsLocalClarity2012: -0.500000
- PaintBasedCorrectionsLocalContrast2012: 0.000000
- PaintBasedCorrectionsLocalDefringe: 0.000000
- PaintBasedCorrectionsLocalExposure2012: 0.000000
- PaintBasedCorrectionsLocalHighlights2012: 0.000000
- PaintBasedCorrectionsLocalLuminanceNoise: 0.000000
- PaintBasedCorrectionsLocalMoire: 0.000000
- PaintBasedCorrectionsLocalShadows2012: 0.000000
- PaintBasedCorrectionsLocalTemperature: 0.000000
- PaintBasedCorrectionsLocalTint: 0.000000
- PaintCorrectionActive: true
- PaintCorrectionAmount: 1.000000
- PaintCorrectionBrightness: 0.000000
- PaintCorrectionHue: 240.000000
- PaintCorrectionMaskCenterWeight: 0.134409
- PaintCorrectionMaskFlow: 1.000000
- PaintCorrectionMaskRadius: 0.023443
- PaintCorrectionMaskValue: 1.000000
- PaintCorrectionMaskWhat: Mask/Paint
- PaintCorrectionSaturation: 0.000000
- PaintCorrectionSharpness: -1.000000
- PaintCorrectionWhat: Correction
- ParametricDarks: 0
- ParametricHighlightSplit: 75
- ParametricHighlights: 0
- ParametricLights: 0
- ParametricMidtoneSplit: 50
- ParametricShadowSplit: 25
- ParametricShadows: 0
- PerspectiveHorizontal: 0
- PerspectiveRotate: 0.0
- PerspectiveScale: 100
- PerspectiveVertical: 0
- PostCropVignetteAmount: 0
- ProcessVersion: 6.7
- RedHue: 0
- RedSaturation: -16
- ShadowTint: 0
- Shadows2012: 0
- SharpenDetail: 42
- SharpenEdgeMasking: 28
- SharpenRadius: +0.9
- Sharpness: 48
- SplitToningBalance: 0
- SplitToningHighlightHue: 0
- SplitToningHighlightSaturation: 0
- SplitToningShadowHue: 0
- SplitToningShadowSaturation: 0
- Tint: +10
- ToneCurveName2012: Custom
- ToneCurvePV2012: 0, 7, 64, 58, 122, 126, 255, 255
- ToneCurvePV2012Blue: 0, 0, 255, 255
- ToneCurvePV2012Green: 0, 0, 255, 255
- ToneCurvePV2012Red: 0, 0, 255, 255
- Version: 7.4
- VignetteAmount: 0
- WhiteBalance: Custom
- Whites2012: 0
- XMP-dc
- XMP-xmp
- ModifyDate: 2013:05:29 00:39:36+04:00
- XMP-xmpMM
- XMP-xmpNote
- HasExtendedXMP: 55DAD82FB44635B2C445D96E49BB059F
- Просмотров: 325
- Рейтинг: голосов еще нет
- Отзывов: 0