- Раздел: Портрет
- Дата съёмки: 13.06.2013 20:05
- Дата загрузки фото: 15.06.2013 10:37
- Оригинальная фотография: 3456 x 4608 (7,3 Мб)
- Технические характеристики:
- Фотоаппарат: Canon EOS 7D
- Выдержка: 1/200
- Гиперфокальное расстояние: inf m
- Диафрагма: 1,2
- Светочувствительность: 100
- Фокусное расстояние: 50,0 mm (35 mm equivalent: 50,0 mm)
- Полный EXIF
- Adobe
- ColorTransform: YCbCr
- Composite
- Aperture: 1,2
- CircleOfConfusion: 0,018 mm
- FOV: 39,0 deg
- FocalLength35efl: 50,0 mm (35 mm equivalent: 50,0 mm)
- HyperfocalDistance: inf m
- LensID: Canon EF 50mm f/1.2L
- ScaleFactor35efl: 1,7
- ShutterSpeed: 1/200
- ExifIFD
- ApertureValue: 1,2
- ColorSpace: sRGB
- CreateDate: 2013:06:13 20:05:33
- CustomRendered: Normal
- DateTimeOriginal: 2013:06:13 20:05:33
- ExifImageHeight: 4608
- ExifImageWidth: 3456
- ExposureCompensation: 0
- ExposureMode: Auto
- ExposureProgram: Aperture-priority AE
- ExposureTime: 1/200
- FNumber: 1,2
- Flash: Off, Did not fire
- FocalLength: 50,0 mm
- ISO: 100
- LensInfo: 50mm f/?
- LensModel: EF50mm f/1.2L USM
- MaxApertureValue: 1,2
- MeteringMode: Multi-segment
- RecommendedExposureIndex: 100
- SceneCaptureType: Standard
- SensitivityType: Recommended Exposure Index
- SerialNumber: 1380804874
- ShutterSpeedValue: 1/200
- WhiteBalance: Auto
- ICC-header
- ICC-meas
- ICC-view
- IFD0
- Make: Canon
- Model: Canon EOS 7D
- ModifyDate: 2013:06:14 01:22:17
- Orientation: Horizontal (normal)
- IFD1
- IPTC
- DateCreated: 2013:06:13
- System
- XMP-aux
- ApproximateFocusDistance: 1,43
- Firmware: 2.0.3
- FlashCompensation: 0
- ImageNumber: 0
- Lens: EF50mm f/1.2L USM
- LensID: 241
- XMP-crs
- AlreadyApplied: True
- AutoLateralCA: 0
- Blacks2012: -9
- BlueHue: 0
- BlueSaturation: 0
- Clarity2012: 0
- ColorNoiseReduction: 25
- ColorNoiseReductionDetail: 50
- ColorTemperature: 5500
- Contrast2012: +5
- ConvertToGrayscale: False
- CropAngle: 0
- CropBottom: 1
- CropConstrainToWarp: 0
- CropHeight: 4
- CropLeft: 0.069686
- CropRight: 0.958575
- CropTop: 0
- CropUnit: Unknown (3)
- CropWidth: 3
- DefringeGreenAmount: 0
- DefringeGreenHueHi: 60
- DefringeGreenHueLo: 40
- DefringePurpleAmount: 0
- DefringePurpleHueHi: 70
- DefringePurpleHueLo: 30
- Exposure2012: +0.50
- GrainAmount: 0
- GreenHue: 0
- GreenSaturation: 0
- HasCrop: True
- HasSettings: True
- Highlights2012: -14
- HueAdjustmentAqua: 0
- HueAdjustmentBlue: 0
- HueAdjustmentGreen: 0
- HueAdjustmentMagenta: 0
- HueAdjustmentOrange: 0
- HueAdjustmentPurple: 0
- HueAdjustmentRed: 0
- HueAdjustmentYellow: 0
- LensManualDistortionAmount: 0
- LensProfileEnable: 0
- LensProfileSetup: LensDefaults
- LuminanceAdjustmentAqua: 0
- LuminanceAdjustmentBlue: 0
- LuminanceAdjustmentGreen: 0
- LuminanceAdjustmentMagenta: 0
- LuminanceAdjustmentOrange: 0
- LuminanceAdjustmentPurple: 0
- LuminanceAdjustmentRed: 0
- LuminanceAdjustmentYellow: 0
- LuminanceSmoothing: 0
- ParametricDarks: 0
- ParametricHighlightSplit: 75
- ParametricHighlights: 0
- ParametricLights: 0
- ParametricMidtoneSplit: 50
- ParametricShadowSplit: 25
- ParametricShadows: 0
- PerspectiveHorizontal: 0
- PerspectiveRotate: 0.0
- PerspectiveScale: 100
- PerspectiveVertical: 0
- PostCropVignetteAmount: 0
- ProcessVersion: 6.7
- RawFileName: IMG_7711.CR2
- RedHue: 0
- RedSaturation: 0
- Saturation: 0
- SaturationAdjustmentAqua: 0
- SaturationAdjustmentBlue: 0
- SaturationAdjustmentGreen: 0
- SaturationAdjustmentMagenta: 0
- SaturationAdjustmentOrange: 0
- SaturationAdjustmentPurple: 0
- SaturationAdjustmentRed: 0
- SaturationAdjustmentYellow: 0
- ShadowTint: 0
- Shadows2012: +14
- SharpenDetail: 25
- SharpenEdgeMasking: 0
- SharpenRadius: +1.0
- Sharpness: 25
- SplitToningBalance: 0
- SplitToningHighlightHue: 0
- SplitToningHighlightSaturation: 0
- SplitToningShadowHue: 0
- SplitToningShadowSaturation: 0
- Tint: +10
- ToneCurveName2012: Linear
- ToneCurvePV2012: 0, 0, 255, 255
- ToneCurvePV2012Blue: 0, 0, 255, 255
- ToneCurvePV2012Green: 0, 0, 255, 255
- ToneCurvePV2012Red: 0, 0, 255, 255
- Version: 7.4
- Vibrance: 0
- VignetteAmount: 0
- WhiteBalance: Daylight
- Whites2012: 0
- XMP-dc
- XMP-xmp
- CreateDate: 2013:06:13 20:05:33+04:00
- ModifyDate: 2013:06:14 01:22:17+04:00
- Rating: 0
- XMP-xmpMM