- Раздел: Животные
- Дата съёмки: 02.07.2013 18:03
- Дата загрузки фото: 03.07.2013 15:59
- Оригинальная фотография: 1592 x 1615 (778 Кб)
- Технические характеристики:
- Фотоаппарат: Canon EOS 350D DIGITAL
- Выдержка: 1/200
- Гиперфокальное расстояние: inf m
- Диафрагма: 4,0
- Светочувствительность: 400
- Фокусное расстояние: 135,0 mm (35 mm equivalent: 270,0 mm)
- Экспокоррекция: +1/3
- Полный EXIF
- Adobe
- ColorTransform: YCbCr
- Composite
- Aperture: 4,0
- CircleOfConfusion: 0,010 mm
- FOV: 7,0 deg
- FocalLength35efl: 135,0 mm (35 mm equivalent: 270,0 mm)
- HyperfocalDistance: inf m
- ScaleFactor35efl: 3,0
- ShutterSpeed: 1/200
- ExifIFD
- ApertureValue: 4,0
- ColorSpace: sRGB
- CreateDate: 2013:07:02 18:03:09
- CustomRendered: Normal
- DateTimeOriginal: 2013:07:02 18:03:09
- ExifImageHeight: 1615
- ExifImageWidth: 1592
- ExposureCompensation: +1/3
- ExposureMode: Auto
- ExposureProgram: Shutter speed priority AE
- ExposureTime: 1/200
- FNumber: 4,0
- Flash: On, Fired
- FocalLength: 135,0 mm
- ISO: 400
- LensInfo: 135mm f/?
- LensModel: 135.0 mm
- MaxApertureValue: 4,0
- MeteringMode: Multi-segment
- OwnerName: unknown
- SceneCaptureType: Standard
- SerialNumber: 330112068
- ShutterSpeedValue: 1/200
- WhiteBalance: Auto
- ICC-header
- ICC-meas
- ICC-view
- IFD0
- Artist: unknown
- Make: Canon
- Model: Canon EOS 350D DIGITAL
- ModifyDate: 2013:07:03 14:27:59
- Orientation: Horizontal (normal)
- IFD1
- IPTC
- By-line: unknown
- DateCreated: 2013:07:02
- System
- XMP-aux
- Firmware: 1.0.1
- FlashCompensation: 0
- ImageNumber: 252
- Lens: 135.0 mm
- XMP-crs
- AlreadyApplied: True
- AutoLateralCA: 0
- Blacks2012: 0
- BlueHue: 0
- BlueSaturation: 0
- Brightness: +50
- Clarity: +12
- Clarity2012: 0
- ColorNoiseReduction: 25
- ColorNoiseReductionDetail: 50
- ColorTemperature: 6000
- Contrast: +53
- Contrast2012: 0
- ConvertToGrayscale: False
- CropAngle: 0
- CropBottom: 0.87931
- CropConstrainToWarp: 1
- CropLeft: 0.298851
- CropRight: 0.759579
- CropTop: 0.178161
- Defringe: 0
- Exposure: -0.35
- Exposure2012: 0.00
- FillLight: 0
- GrainAmount: 0
- GreenHue: 0
- GreenSaturation: 0
- HasCrop: True
- HasSettings: True
- HighlightRecovery: 3
- Highlights2012: 0
- HueAdjustmentAqua: 0
- HueAdjustmentBlue: 0
- HueAdjustmentGreen: 0
- HueAdjustmentMagenta: 0
- HueAdjustmentOrange: 0
- HueAdjustmentPurple: 0
- HueAdjustmentRed: 0
- HueAdjustmentYellow: 0
- LensManualDistortionAmount: 0
- LensProfileEnable: 0
- LensProfileSetup: LensDefaults
- LuminanceAdjustmentAqua: 0
- LuminanceAdjustmentBlue: 0
- LuminanceAdjustmentGreen: 0
- LuminanceAdjustmentMagenta: 0
- LuminanceAdjustmentOrange: 0
- LuminanceAdjustmentPurple: 0
- LuminanceAdjustmentRed: 0
- LuminanceAdjustmentYellow: 0
- LuminanceSmoothing: 0
- ParametricDarks: 0
- ParametricHighlightSplit: 75
- ParametricHighlights: 0
- ParametricLights: 0
- ParametricMidtoneSplit: 50
- ParametricShadowSplit: 25
- ParametricShadows: 0
- PerspectiveHorizontal: 0
- PerspectiveRotate: 0.0
- PerspectiveScale: 100
- PerspectiveVertical: 0
- PostCropVignetteAmount: 0
- ProcessVersion: 5.7
- RawFileName: IMG_2812.CR2
- RedHue: 0
- RedSaturation: 0
- Saturation: 0
- SaturationAdjustmentAqua: 0
- SaturationAdjustmentBlue: 0
- SaturationAdjustmentGreen: 0
- SaturationAdjustmentMagenta: 0
- SaturationAdjustmentOrange: 0
- SaturationAdjustmentPurple: 0
- SaturationAdjustmentRed: 0
- SaturationAdjustmentYellow: 0
- ShadowTint: 0
- Shadows: 5
- Shadows2012: 0
- SharpenDetail: 25
- SharpenEdgeMasking: 0
- SharpenRadius: +1.0
- Sharpness: 25
- SplitToningBalance: 0
- SplitToningHighlightHue: 0
- SplitToningHighlightSaturation: 0
- SplitToningShadowHue: 0
- SplitToningShadowSaturation: 0
- Tint: +15
- ToneCurve: 0, 0, 32, 22, 64, 56, 128, 128, 192, 196, 255, 255
- ToneCurveBlue: 0, 0, 255, 255
- ToneCurveGreen: 0, 0, 255, 255
- ToneCurveName: Medium Contrast
- ToneCurveName2012: Linear
- ToneCurvePV2012: 0, 0, 255, 255
- ToneCurvePV2012Blue: 0, 0, 255, 255
- ToneCurvePV2012Green: 0, 0, 255, 255
- ToneCurvePV2012Red: 0, 0, 255, 255
- ToneCurveRed: 0, 0, 255, 255
- Version: 6.7
- Vibrance: 0
- VignetteAmount: 0
- WhiteBalance: Custom
- Whites2012: 0
- XMP-dc
- Creator: unknown
- Format: image/jpeg
- XMP-xmp
- ModifyDate: 2013:07:03 14:27:59+03:00
- Rating: 0
- XMP-xmpMM
- Просмотров: 443
- Рейтинг: голосов еще нет
- Отзывов: 0