- Раздел: Путешествия
- Дата съёмки: 11.07.2013 15:20
- Дата загрузки фото: 16.08.2013 13:12
- Оригинальная фотография: 2573 x 3859 (4,7 Мб)
- Технические характеристики:
- Фотоаппарат: Nikon D90
- Выдержка: 0,8
- Гиперфокальное расстояние: inf m
- Диафрагма: 5,0
- Светочувствительность: 1600
- Фокусное расстояние: 52,0 mm (35 mm equivalent: 52,0 mm)
- Полный EXIF
- Adobe
- ColorTransform: YCbCr
- Composite
- Aperture: 5,0
- CircleOfConfusion: 0,020 mm
- DOF: inf (0,00 m - inf)
- FOV: 38,0 deg
- Flash: Auto, Did not fire
- FocalLength35efl: 52,0 mm (35 mm equivalent: 52,0 mm)
- HyperfocalDistance: inf m
- LensID: AF-S DX VR Zoom-Nikkor 18-105mm f/3.5-5.6G ED
- ScaleFactor35efl: 1,5
- ShutterSpeed: 0,8
- ExifIFD
- ApertureValue: 5,0
- CFAPattern: [Green,Blue][Red,Green]
- Contrast: Normal
- CreateDate: 2013:07:11 15:20:05
- CustomRendered: Normal
- DateTimeOriginal: 2013:07:11 15:20:05
- DigitalZoomRatio: 1
- ExposureCompensation: 0
- ExposureMode: Auto
- ExposureProgram: Not Defined
- ExposureTime: 0,8
- FNumber: 5,0
- FocalLength: 52,0 mm
- FocalLengthIn35mmFormat: 78 mm
- GainControl: High gain up
- ISO: 1600
- LensInfo: 18-105mm f/3.5-5.6
- LensModel: 18.0-105.0 mm f/3.5-5.6
- LightSource: Unknown
- MaxApertureValue: 4,9
- MeteringMode: Multi-segment
- Saturation: Normal
- SceneCaptureType: Standard
- SceneType: Directly photographed
- SensingMethod: One-chip color area
- SensitivityType: Unknown
- SerialNumber: 6620826
- Sharpness: Normal
- ShutterSpeedValue: 0,8
- SubjectDistance: 4294967295 m
- SubjectDistanceRange: Unknown
- WhiteBalance: Auto
- ICC-header
- ICC-meas
- ICC-view
- IFD0
- Make: NIKON CORPORATION
- Model: NIKON D90
- ModifyDate: 2013:07:29 16:36:15
- Software: Ver.1.00
- IFD1
- System
- XMP-aux
- ApproximateFocusDistance: 4294967295
- ImageNumber: 8419
- Lens: 18.0-105.0 mm f/3.5-5.6
- LensID: 158
- XMP-crs
- AlreadyApplied: True
- BlueHue: 0
- BlueSaturation: 0
- Brightness: +93
- ChromaticAberrationB: 0
- ChromaticAberrationR: 0
- Clarity: +65
- ColorNoiseReduction: 25
- ColorNoiseReductionDetail: 50
- ColorTemperature: 2800
- Contrast: +48
- ConvertToGrayscale: True
- CropAngle: 0
- CropBottom: 0.951672
- CropConstrainToWarp: 0
- CropHeight: 2573
- CropLeft: 0.072236
- CropRight: 0.972208
- CropTop: 0.048328
- CropUnit: pixels
- CropWidth: 3859
- Defringe: 0
- Exposure: +0.40
- FillLight: 0
- GrainAmount: 0
- GrayMixerAqua: +2
- GrayMixerBlue: +2
- GrayMixerGreen: -28
- GrayMixerMagenta: +3
- GrayMixerOrange: -21
- GrayMixerPurple: +19
- GrayMixerRed: -12
- GrayMixerYellow: -25
- GreenHue: 0
- GreenSaturation: 0
- HasCrop: True
- HasSettings: True
- HighlightRecovery: 60
- LensManualDistortionAmount: 0
- LensProfileEnable: 0
- LensProfileSetup: LensDefaults
- LuminanceSmoothing: 0
- ParametricDarks: -9
- ParametricHighlightSplit: 75
- ParametricHighlights: +43
- ParametricLights: 0
- ParametricMidtoneSplit: 50
- ParametricShadowSplit: 25
- ParametricShadows: -9
- PerspectiveHorizontal: 0
- PerspectiveRotate: 0.0
- PerspectiveScale: 100
- PerspectiveVertical: 0
- PostCropVignetteAmount: 0
- ProcessVersion: 5.7
- RedHue: 0
- RedSaturation: 0
- ShadowTint: 0
- Shadows: 0
- SharpenDetail: 25
- SharpenEdgeMasking: 0
- SharpenRadius: +1.0
- Sharpness: 25
- SplitToningBalance: 0
- SplitToningHighlightHue: 23
- SplitToningHighlightSaturation: 16
- SplitToningShadowHue: 38
- SplitToningShadowSaturation: 24
- Tint: -12
- ToneCurve: 0, 0, 32, 16, 64, 50, 128, 128, 192, 202, 255, 255
- ToneCurveName: Strong Contrast
- Version: 6.3
- VignetteAmount: -73
- VignetteMidpoint: 37
- WhiteBalance: As Shot
- XMP-exif
- DateTimeDigitized: 2013:07:11 15:20:05.00+04:00
- DateTimeOriginal: 2013:07:11 15:20:05.00+04:00
- ExifImageHeight: 3859
- ExifImageWidth: 2573
- FlashFired: False
- FlashFunction: False
- FlashMode: Auto
- FlashRedEyeMode: False
- FlashReturn: No return detection
- XMP-tiff
- ImageHeight: 3859
- ImageWidth: 2573
- XMP-xmp
- CreateDate: 2013:07:11 15:20:05.00+04:00
- ModifyDate: 2013:07:29 16:36:15+04:00
- Rating: 5
- Просмотров: 99
- Рейтинг: голосов еще нет
- Отзывов: 0