- Раздел: Город
- Дата съёмки: 09.08.2013 17:34
- Дата загрузки фото: 19.08.2013 17:15
- Оригинальная фотография: 3744 x 5616 (11,2 Мб)
- Технические характеристики:
- Фотоаппарат: Canon EOS 5D Mark II
- Выдержка: 1/2000
- Гиперфокальное расстояние: inf m
- Диафрагма: 2,8
- Светочувствительность: 100
- Фокусное расстояние: 135,0 mm
- Полный EXIF
- Adobe
- ColorTransform: YCbCr
- Composite
- Aperture: 2,8
- CircleOfConfusion: 0,031 mm
- FocalLength35efl: 135,0 mm
- HyperfocalDistance: inf m
- LensID: Canon EF 135mm f/2L or Sigma Lens
- ScaleFactor35efl: 1,0
- ShutterSpeed: 1/2000
- ExifIFD
- ApertureValue: 2,8
- CreateDate: 2013:08:09 17:34:32
- CustomRendered: Normal
- DateTimeOriginal: 2013:08:09 17:34:32
- ExposureCompensation: 0
- ExposureMode: Auto
- ExposureProgram: Aperture-priority AE
- ExposureTime: 1/2000
- FNumber: 2,8
- Flash: On, Fired
- FocalLength: 135,0 mm
- ISO: 100
- LensInfo: 135mm f/?
- LensModel: EF135mm f/2L USM
- MaxApertureValue: 2,0
- MeteringMode: Center-weighted average
- SceneCaptureType: Standard
- SerialNumber: 4131910044
- ShutterSpeedValue: 1/2000
- WhiteBalance: Auto
- ICC-header
- ICC-meas
- ICC-view
- IFD0
- Make: Canon
- Model: Canon EOS 5D Mark II
- ModifyDate: 2013:08:20 16:35:03
- IFD1
- IPTC
- DateCreated: 2013:08:09
- System
- XMP-aux
- ApproximateFocusDistance: 3,47
- Firmware: 2.1.2
- FlashCompensation: 0
- ImageNumber: 0
- Lens: EF135mm f/2L USM
- LensID: 174
- XMP-crs
- AlreadyApplied: True
- AutoLateralCA: 0
- Blacks2012: 0
- BlueHue: 0
- BlueSaturation: 0
- Clarity2012: 0
- ColorNoiseReduction: 25
- ColorNoiseReductionDetail: 50
- ColorTemperature: 4800
- Contrast2012: +13
- ConvertToGrayscale: False
- DefringeGreenAmount: 0
- DefringeGreenHueHi: 60
- DefringeGreenHueLo: 40
- DefringePurpleAmount: 0
- DefringePurpleHueHi: 70
- DefringePurpleHueLo: 30
- Exposure2012: -0.10
- GrainAmount: 0
- GreenHue: 0
- GreenSaturation: 0
- HasCrop: False
- HasSettings: True
- Highlights2012: -3
- HueAdjustmentAqua: +21
- HueAdjustmentBlue: +5
- HueAdjustmentGreen: -31
- HueAdjustmentMagenta: +62
- HueAdjustmentOrange: -36
- HueAdjustmentPurple: -14
- HueAdjustmentRed: +10
- HueAdjustmentYellow: 0
- LensManualDistortionAmount: 0
- LensProfileEnable: 0
- LensProfileSetup: LensDefaults
- LuminanceAdjustmentAqua: 0
- LuminanceAdjustmentBlue: +33
- LuminanceAdjustmentGreen: +7
- LuminanceAdjustmentMagenta: +40
- LuminanceAdjustmentOrange: +19
- LuminanceAdjustmentPurple: -24
- LuminanceAdjustmentRed: 0
- LuminanceAdjustmentYellow: -10
- LuminanceSmoothing: 0
- ParametricDarks: -33
- ParametricHighlightSplit: 75
- ParametricHighlights: 0
- ParametricLights: +45
- ParametricMidtoneSplit: 50
- ParametricShadowSplit: 25
- ParametricShadows: 0
- PerspectiveAspect: 0
- PerspectiveHorizontal: 0
- PerspectiveRotate: 0.0
- PerspectiveScale: 100
- PerspectiveUpright: 0
- PerspectiveVertical: 0
- PostCropVignetteAmount: 0
- ProcessVersion: 6.7
- RedHue: 0
- RedSaturation: 0
- Saturation: 0
- SaturationAdjustmentAqua: +31
- SaturationAdjustmentBlue: +36
- SaturationAdjustmentGreen: +40
- SaturationAdjustmentMagenta: +67
- SaturationAdjustmentOrange: +43
- SaturationAdjustmentPurple: +69
- SaturationAdjustmentRed: +52
- SaturationAdjustmentYellow: +48
- ShadowTint: 0
- Shadows2012: +3
- SharpenDetail: 25
- SharpenEdgeMasking: 0
- SharpenRadius: +1.0
- Sharpness: 25
- SplitToningBalance: 0
- SplitToningHighlightHue: 0
- SplitToningHighlightSaturation: 0
- SplitToningShadowHue: 0
- SplitToningShadowSaturation: 0
- Tint: -2
- ToneCurveName2012: Linear
- ToneCurvePV2012: 0, 0, 255, 255
- ToneCurvePV2012Blue: 0, 0, 255, 255
- ToneCurvePV2012Green: 0, 0, 255, 255
- ToneCurvePV2012Red: 0, 0, 255, 255
- Version: 8.1
- Vibrance: 0
- VignetteAmount: 0
- WhiteBalance: As Shot
- Whites2012: +31
- XMP-dc
- XMP-xmp
- CreateDate: 2013:08:09 17:34:32.68
- ModifyDate: 2013:08:20 16:35:03+04:00
- Rating: 5
- XMP-xmpMM
- Просмотров: 1043
- Рейтинг: голосов еще нет
- Отзывов: 0