- Раздел: Путешествия
- Дата съёмки: 08.07.2013 20:49
- Дата загрузки фото: 30.08.2013 12:36
- Оригинальная фотография: 2643 x 4180 (7,0 Мб)
- Технические характеристики:
- Фотоаппарат: Canon EOS 5D
- Выдержка: 1/125
- Гиперфокальное расстояние: inf m
- Диафрагма: 4,0
- Светочувствительность: 800
- Фокусное расстояние: 75,0 mm (35 mm equivalent: 75,0 mm)
- Полный EXIF
- Adobe
- ColorTransform: YCbCr
- Composite
- Aperture: 4,0
- CircleOfConfusion: 0,028 mm
- FOV: 26,0 deg
- FocalLength35efl: 75,0 mm (35 mm equivalent: 75,0 mm)
- HyperfocalDistance: inf m
- LensID: Canon EF 70-200mm f/4L IS
- ScaleFactor35efl: 1,1
- ShutterSpeed: 1/125
- ExifIFD
- ApertureValue: 4,0
- CreateDate: 2013:07:08 20:49:29
- CustomRendered: Normal
- DateTimeOriginal: 2013:07:08 20:49:29
- ExposureCompensation: 0
- ExposureMode: Auto
- ExposureProgram: Aperture-priority AE
- ExposureTime: 1/125
- FNumber: 4,0
- Flash: Off, Did not fire
- FocalLength: 75,0 mm
- ISO: 800
- LensInfo: 70-200mm f/?
- LensModel: EF70-200mm f/4L IS USM
- MaxApertureValue: 4,0
- MeteringMode: Multi-segment
- SceneCaptureType: Standard
- SerialNumber: 310100689
- ShutterSpeedValue: 1/125
- WhiteBalance: Auto
- ICC-header
- ICC-meas
- ICC-view
- IFD0
- Artist: Yakovenko Dmitriy
- Make: Canon
- Model: Canon EOS 5D
- ModifyDate: 2013:08:26 22:26:31
- IFD1
- IPTC
- By-line: Yakovenko Dmitriy
- DateCreated: 2013:07:08
- System
- XMP-aux
- Firmware: 1.1.1
- FlashCompensation: 0
- ImageNumber: 2
- Lens: EF70-200mm f/4L IS USM
- LensID: 242
- XMP-crs
- AlreadyApplied: True
- AutoLateralCA: 1
- Blacks2012: +25
- BlueHue: 0
- BlueSaturation: 0
- CameraProfile: Camera Landscape
- Clarity2012: +20
- ColorNoiseReduction: 11
- ColorNoiseReductionDetail: 50
- ColorTemperature: 4050
- Contrast2012: 0
- ConvertToGrayscale: False
- CropAngle: 0
- CropBottom: 0.930716
- CropConstrainToWarp: 0
- CropLeft: 0.043143
- CropRight: 1
- CropTop: 0.023095
- DefringeGreenAmount: 0
- DefringeGreenHueHi: 60
- DefringeGreenHueLo: 40
- DefringePurpleAmount: 0
- DefringePurpleHueHi: 70
- DefringePurpleHueLo: 30
- Exposure2012: 0.00
- GrainAmount: 0
- GreenHue: 0
- GreenSaturation: 0
- HasCrop: True
- HasSettings: True
- Highlights2012: 0
- HueAdjustmentAqua: 0
- HueAdjustmentBlue: 0
- HueAdjustmentGreen: 0
- HueAdjustmentMagenta: 0
- HueAdjustmentOrange: 0
- HueAdjustmentPurple: 0
- HueAdjustmentRed: 0
- HueAdjustmentYellow: 0
- LensManualDistortionAmount: 0
- LensProfileChromaticAberrationScale: 100
- LensProfileDistortionScale: 100
- LensProfileEnable: 1
- LensProfileFilename: Canon EOS 5D Mark II (Canon EF 70-200mm f4L IS USM) - RAW.lcp
- LensProfileSetup: Custom
- LensProfileVignettingScale: 100
- LuminanceAdjustmentAqua: 0
- LuminanceAdjustmentBlue: 0
- LuminanceAdjustmentGreen: 0
- LuminanceAdjustmentMagenta: 0
- LuminanceAdjustmentOrange: 0
- LuminanceAdjustmentPurple: 0
- LuminanceAdjustmentRed: 0
- LuminanceAdjustmentYellow: 0
- LuminanceSmoothing: 0
- ParametricDarks: +19
- ParametricHighlightSplit: 75
- ParametricHighlights: 0
- ParametricLights: +13
- ParametricMidtoneSplit: 50
- ParametricShadowSplit: 25
- ParametricShadows: +21
- PerspectiveAspect: 0
- PerspectiveHorizontal: 0
- PerspectiveRotate: 0.0
- PerspectiveScale: 100
- PerspectiveUpright: 1
- PerspectiveVertical: 0
- PostCropVignetteAmount: 0
- ProcessVersion: 6.7
- RedHue: 0
- RedSaturation: 0
- Saturation: 0
- SaturationAdjustmentAqua: 0
- SaturationAdjustmentBlue: 0
- SaturationAdjustmentGreen: 0
- SaturationAdjustmentMagenta: 0
- SaturationAdjustmentOrange: 0
- SaturationAdjustmentPurple: 0
- SaturationAdjustmentRed: 0
- SaturationAdjustmentYellow: 0
- ShadowTint: 0
- Shadows2012: +32
- SharpenDetail: 50
- SharpenEdgeMasking: 0
- SharpenRadius: +0.8
- Sharpness: 0
- SplitToningBalance: 0
- SplitToningHighlightHue: 0
- SplitToningHighlightSaturation: 0
- SplitToningShadowHue: 0
- SplitToningShadowSaturation: 0
- Tint: +1
- ToneCurveName2012: Linear
- ToneCurvePV2012: 0, 0, 255, 255
- ToneCurvePV2012Blue: 0, 0, 255, 255
- ToneCurvePV2012Green: 0, 0, 255, 255
- ToneCurvePV2012Red: 0, 0, 255, 255
- Version: 8.1
- Vibrance: +37
- VignetteAmount: 0
- WhiteBalance: Custom
- Whites2012: 0
- XMP-dc
- Creator: Yakovenko Dmitriy
- Format: image/jpeg
- XMP-iptcCore
- CreatorAddress: Prospekt Karla Marksa 13
- CreatorCity: Samara
- CreatorWorkEmail: amalteia7@gmail.com
- CreatorWorkTelephone: +79276583737
- XMP-xmp
- ModifyDate: 2013:08:26 22:26:31+04:00
- XMP-xmpMM
- XMP-xmpRights
- Просмотров: 114
- Рейтинг: голосов еще нет
- Отзывов: 0