- Раздел: Другое, разное
- Дата съёмки: 26.10.2013 16:03
- Дата загрузки фото: 27.10.2013 12:38
- Оригинальная фотография: 3456 x 4608 (2,7 Мб)
- Технические характеристики:
- Фотоаппарат: Olympus E-PM2
- Выдержка: 1/320
- Гиперфокальное расстояние: inf m
- Диафрагма: 5,6
- Светочувствительность: 200
- Фокусное расстояние: 75,0 mm (35 mm equivalent: 150,0 mm)
- Полный EXIF
- Adobe
- ColorTransform: YCbCr
- Composite
- Aperture: 5,6
- CircleOfConfusion: 0,015 mm
- FOV: 13,0 deg
- FocalLength35efl: 75,0 mm (35 mm equivalent: 150,0 mm)
- HyperfocalDistance: inf m
- ScaleFactor35efl: 2,0
- ShutterSpeed: 1/320
- ExifIFD
- ApertureValue: 5,6
- CFAPattern: [Red,Green][Green,Blue]
- Contrast: Low
- CreateDate: 2013:10:26 16:03:41
- CustomRendered: Normal
- DateTimeOriginal: 2013:10:26 16:03:41
- DigitalZoomRatio: 1
- ExposureCompensation: 0
- ExposureMode: Auto
- ExposureProgram: Shutter speed priority AE
- ExposureTime: 1/320
- FNumber: 5,6
- Flash: Auto, Did not fire
- FocalLength: 75,0 mm
- FocalLengthIn35mmFormat: 150 mm
- GainControl: None
- ISO: 200
- LensInfo: 14-150mm f/4-5.6
- LensModel: OLYMPUS M.14-150mm F4.0-5.6
- LensSerialNumber: AAK236810
- LightSource: Unknown
- MaxApertureValue: 4,0
- MeteringMode: Multi-segment
- Saturation: Normal
- SceneCaptureType: Standard
- SensitivityType: Standard Output Sensitivity
- SerialNumber: BGB510340
- Sharpness: Soft
- ShutterSpeedValue: 1/320
- WhiteBalance: Manual
- ICC-header
- IFD0
- Artist: Skoblunov
- ImageDescription: OLYMPUS DIGITAL CAMERA
- Make: OLYMPUS IMAGING CORP.
- Model: E-PM2
- ModifyDate: 2013:10:27 08:01:25
- IFD1
- IPTC
- By-line: Skoblunov
- Caption-Abstract: OLYMPUS DIGITAL CAMERA
- DateCreated: 2013:10:26
- System
- XMP-aux
- ApproximateFocusDistance: 8
- FlashCompensation: 0
- Lens: OLYMPUS M.14-150mm F4.0-5.6
- XMP-crs
- AlreadyApplied: True
- BlueHue: 0
- BlueSaturation: 0
- Brightness: +43
- ChromaticAberrationB: 0
- ChromaticAberrationR: 0
- Clarity: +10
- ColorNoiseReduction: 25
- ColorNoiseReductionDetail: 50
- ColorTemperature: 4450
- Contrast: +29
- ConvertToGrayscale: False
- Defringe: 0
- Exposure: +0.15
- FillLight: 4
- GrainAmount: 0
- GreenHue: 0
- GreenSaturation: 0
- HasCrop: False
- HasSettings: True
- HighlightRecovery: 0
- HueAdjustmentAqua: 0
- HueAdjustmentBlue: 0
- HueAdjustmentGreen: 0
- HueAdjustmentMagenta: 0
- HueAdjustmentOrange: 0
- HueAdjustmentPurple: 0
- HueAdjustmentRed: 0
- HueAdjustmentYellow: 0
- LensManualDistortionAmount: 0
- LensProfileEnable: 0
- LensProfileSetup: LensDefaults
- LuminanceAdjustmentAqua: 0
- LuminanceAdjustmentBlue: 0
- LuminanceAdjustmentGreen: 0
- LuminanceAdjustmentMagenta: 0
- LuminanceAdjustmentOrange: 0
- LuminanceAdjustmentPurple: 0
- LuminanceAdjustmentRed: 0
- LuminanceAdjustmentYellow: 0
- LuminanceSmoothing: 0
- ParametricDarks: 0
- ParametricHighlightSplit: 75
- ParametricHighlights: 0
- ParametricLights: 0
- ParametricMidtoneSplit: 50
- ParametricShadowSplit: 25
- ParametricShadows: 0
- PerspectiveHorizontal: 0
- PerspectiveRotate: 0.0
- PerspectiveScale: 100
- PerspectiveVertical: 0
- PostCropVignetteAmount: 0
- ProcessVersion: 5.7
- RawFileName: PA261188.dng
- RedHue: 0
- RedSaturation: 0
- Saturation: 0
- SaturationAdjustmentAqua: 0
- SaturationAdjustmentBlue: 0
- SaturationAdjustmentGreen: 0
- SaturationAdjustmentMagenta: 0
- SaturationAdjustmentOrange: 0
- SaturationAdjustmentPurple: 0
- SaturationAdjustmentRed: 0
- SaturationAdjustmentYellow: 0
- ShadowTint: 0
- Shadows: 6
- SharpenDetail: 25
- SharpenEdgeMasking: 0
- SharpenRadius: +1.0
- Sharpness: 25
- SplitToningBalance: 0
- SplitToningHighlightHue: 0
- SplitToningHighlightSaturation: 0
- SplitToningShadowHue: 0
- SplitToningShadowSaturation: 0
- Tint: -7
- ToneCurve: 0, 0, 32, 22, 64, 56, 128, 128, 192, 196, 255, 255
- ToneCurveName: Medium Contrast
- Version: 6.6
- Vibrance: +17
- VignetteAmount: 0
- WhiteBalance: As Shot
- XMP-dc
- Creator: Skoblunov
- Description: OLYMPUS DIGITAL CAMERA
- Format: image/jpeg
- XMP-xmp
- ModifyDate: 2013:10:27 08:01:25+04:00
- XMP-xmpMM
- Просмотров: 155
- Рейтинг: голосов еще нет
- Отзывов: отключены