- Раздел: Город
- Дата съёмки: 16.11.2013 20:07
- Дата загрузки фото: 17.11.2013 13:44
- Оригинальная фотография: 7168 x 3948 (4,2 Мб)
- Технические характеристики:
- Фотоаппарат: Nikon D800
- Выдержка: 30,0
- Гиперфокальное расстояние: inf m
- Диафрагма: 5,6
- Светочувствительность: 100
- Фокусное расстояние: 42,0 mm (35 mm equivalent: 42,0 mm)
- Экспокоррекция: -2/3
- Полный EXIF
- Adobe
- ColorTransform: YCbCr
- Composite
- Aperture: 5,6
- CircleOfConfusion: 0,030 mm
- FOV: 46,0 deg
- FocalLength35efl: 42,0 mm (35 mm equivalent: 42,0 mm)
- HyperfocalDistance: inf m
- LensID: AF-S Zoom-Nikkor 28-70mm f/2.8D IF-ED
- LightValue: -0,3
- ScaleFactor35efl: 1,0
- ShutterSpeed: 30,0
- ExifIFD
- ApertureValue: 5,6
- CFAPattern: [Red,Green][Green,Blue]
- Contrast: Normal
- CreateDate: 2013:11:16 20:07:22
- CustomRendered: Normal
- DateTimeOriginal: 2013:11:16 20:07:22
- DigitalZoomRatio: 1
- ExposureCompensation: -2/3
- ExposureMode: Manual
- ExposureProgram: Manual
- ExposureTime: 30,0
- FNumber: 5,6
- Flash: Off, Did not fire
- FocalLength: 42,0 mm
- FocalLengthIn35mmFormat: 42 mm
- GainControl: None
- ISO: 100
- LensInfo: 28-70mm f/2.8
- LensModel: 28.0-70.0 mm f/2.8
- LightSource: Unknown
- MaxApertureValue: 2,8
- MeteringMode: Multi-segment
- Saturation: Normal
- SceneCaptureType: Standard
- SceneType: Directly photographed
- SensingMethod: One-chip color area
- SensitivityType: Recommended Exposure Index
- SerialNumber: 8002139
- Sharpness: Normal
- ShutterSpeedValue: 30,0
- SubjectDistanceRange: Unknown
- UserComment: illya@xdevs.com (C) TSEMENKO ILYA
- WhiteBalance: Auto
- ICC-header
- IFD0
- Artist: Tsemenko Illya xDevs.com
- Copyright: (C)TIN
- Make: NIKON CORPORATION
- Model: NIKON D800
- ModifyDate: 2013:11:17 17:08:56
- IFD1
- IPTC
- By-line: Tsemenko Illya xDevs.com
- CopyrightNotice: (C)TIN
- DateCreated: 2013:11:16
- System
- XMP-aux
- ApproximateFocusDistance: 4294967295
- ImageNumber: 24090
- Lens: 28.0-70.0 mm f/2.8
- LensID: 93
- XMP-crs
- AlreadyApplied: True
- AutoLateralCA: 0
- Blacks2012: 0
- BlueHue: 0
- BlueSaturation: 0
- Clarity2012: +84
- ColorNoiseReduction: 25
- ColorNoiseReductionDetail: 50
- ColorTemperature: 3750
- Contrast2012: +34
- ConvertToGrayscale: False
- CropAngle: 2.72177
- CropBottom: 0.922533
- CropConstrainToWarp: 0
- CropHeight: 3948
- CropLeft: 0.025475
- CropRight: 0.972882
- CropTop: 0.050291
- CropUnit: pixels
- CropWidth: 7168
- DefringeGreenAmount: 0
- DefringeGreenHueHi: 60
- DefringeGreenHueLo: 40
- DefringePurpleAmount: 0
- DefringePurpleHueHi: 70
- DefringePurpleHueLo: 30
- Exposure2012: +0.57
- GrainAmount: 0
- GreenHue: 0
- GreenSaturation: 0
- HasCrop: True
- HasSettings: True
- Highlights2012: -45
- HueAdjustmentAqua: 0
- HueAdjustmentBlue: 0
- HueAdjustmentGreen: 0
- HueAdjustmentMagenta: 0
- HueAdjustmentOrange: 0
- HueAdjustmentPurple: 0
- HueAdjustmentRed: 0
- HueAdjustmentYellow: 0
- LensManualDistortionAmount: 0
- LensProfileChromaticAberrationScale: 100
- LensProfileDistortionScale: 100
- LensProfileEnable: 1
- LensProfileFilename: NIKON D3X (Nikon FX 24-70mm f2.8 G ED) - RAW.lcp
- LensProfileSetup: Custom
- LensProfileVignettingScale: 100
- LuminanceAdjustmentAqua: 0
- LuminanceAdjustmentBlue: 0
- LuminanceAdjustmentGreen: 0
- LuminanceAdjustmentMagenta: 0
- LuminanceAdjustmentOrange: 0
- LuminanceAdjustmentPurple: 0
- LuminanceAdjustmentRed: 0
- LuminanceAdjustmentYellow: 0
- LuminanceNoiseReductionContrast: 0
- LuminanceNoiseReductionDetail: 50
- LuminanceSmoothing: 20
- ParametricDarks: 0
- ParametricHighlightSplit: 75
- ParametricHighlights: 0
- ParametricLights: 0
- ParametricMidtoneSplit: 50
- ParametricShadowSplit: 25
- ParametricShadows: 0
- PerspectiveHorizontal: 0
- PerspectiveRotate: 0.0
- PerspectiveScale: 100
- PerspectiveVertical: 0
- PostCropVignetteAmount: 0
- ProcessVersion: 6.7
- RedHue: 0
- RedSaturation: 0
- Saturation: 0
- SaturationAdjustmentAqua: 0
- SaturationAdjustmentBlue: 0
- SaturationAdjustmentGreen: 0
- SaturationAdjustmentMagenta: 0
- SaturationAdjustmentOrange: 0
- SaturationAdjustmentPurple: 0
- SaturationAdjustmentRed: 0
- SaturationAdjustmentYellow: 0
- ShadowTint: 0
- Shadows2012: +84
- SharpenDetail: 25
- SharpenEdgeMasking: 0
- SharpenRadius: +1.0
- Sharpness: 25
- SplitToningBalance: 0
- SplitToningHighlightHue: 0
- SplitToningHighlightSaturation: 0
- SplitToningShadowHue: 0
- SplitToningShadowSaturation: 0
- Tint: -8
- ToneCurveName2012: Linear
- ToneCurvePV2012: 0, 0, 255, 255
- ToneCurvePV2012Blue: 0, 0, 255, 255
- ToneCurvePV2012Green: 0, 0, 255, 255
- ToneCurvePV2012Red: 0, 0, 255, 255
- Version: 7.4
- Vibrance: +14
- VignetteAmount: 0
- WhiteBalance: Custom
- Whites2012: -64
- XMP-dc
- Creator: Tsemenko Illya xDevs.com
- Format: image/jpeg
- Rights: (C)TIN
- XMP-xmp
- CreateDate: 2013:11:16 20:07:22.50
- ModifyDate: 2013:11:17 17:08:56+08:00
- XMP-xmpMM
- Просмотров: 339
- Рейтинг: голосов еще нет
- Отзывов: 0