Уважаемые друзья и участники проекта iXBT.photo! К сожалению, 1 марта 2026 года проект iXBT.photo прекратит свою работу и будет закрыт. Мы высоко ценим ваше участие и тот вклад, который вы внесли в развитие нашего сообщества. Пожалуйста, не забудьте сохранить ваши фотографии до этой даты.
С уважением, команда iXBT.com
| IMG_42569.jpg |
IMG_42569.jpg
- Раздел: Тесты фототехники
- Дата съёмки: 31.01.2014 13:56
- Дата загрузки фото: 07.02.2014 16:58
- Оригинальная фотография: 2094 x 2094 (2,0 Мб)
- Технические характеристики:
- Фотоаппарат: Canon EOS 50D
- Выдержка: 1/200
- Гиперфокальное расстояние: inf m
- Диафрагма: 4,0
- Светочувствительность: 160
- Фокусное расстояние: 200,0 mm (35 mm equivalent: 600,0 mm)
- Полный EXIF
- Adobe
- ColorTransform: YCbCr
- Composite
- Aperture: 4,0
- CircleOfConfusion: 0,010 mm
- FOV: 3,0 deg
- FocalLength35efl: 200,0 mm (35 mm equivalent: 600,0 mm)
- HyperfocalDistance: inf m
- LensID: Canon EF 70-200mm f/4L
- ScaleFactor35efl: 3,1
- ShutterSpeed: 1/200
- ExifIFD
- ApertureValue: 4,0
- ColorSpace: sRGB
- CreateDate: 2014:01:31 13:56:30
- CustomRendered: Normal
- DateTimeOriginal: 2014:01:31 13:56:30
- ExposureCompensation: 0
- ExposureMode: Auto
- ExposureProgram: Aperture-priority AE
- ExposureTime: 1/200
- FNumber: 4,0
- Flash: Off, Did not fire
- FocalLength: 200,0 mm
- ISO: 160
- LensInfo: 70-200mm f/?
- LensModel: EF70-200mm f/4L USM
- MaxApertureValue: 4,0
- MeteringMode: Multi-segment
- SceneCaptureType: Standard
- SerialNumber: 230101675
- ShutterSpeedValue: 1/200
- WhiteBalance: Manual
- ICC-header
- ICC-meas
- ICC-view
- IFD0
- Artist: AdreyM
- Make: Canon
- Model: Canon EOS 50D
- ModifyDate: 2014:02:04 12:35:55
- IFD1
- IPTC
- By-line: AdreyM
- DateCreated: 2014:01:31
- System
- XMP-aux
- ApproximateFocusDistance: 7,05
- Firmware: 1.0.9
- FlashCompensation: 0
- ImageNumber: 0
- Lens: EF70-200mm f/4L USM
- LensID: 186
- XMP-crs
- AlreadyApplied: True
- AutoLateralCA: 1
- AutoWhiteVersion: 134348800
- Blacks2012: 0
- BlueHue: 0
- BlueSaturation: 0
- Clarity2012: +25
- ColorNoiseReduction: 25
- ColorNoiseReductionDetail: 50
- ColorNoiseReductionSmoothness: 50
- ColorTemperature: 7682
- Contrast2012: 0
- ConvertToGrayscale: False
- CropAngle: -1.27021
- CropBottom: 0.836193
- CropConstrainToWarp: 0
- CropLeft: 0.284269
- CropRight: 0.734689
- CropTop: 0.189874
- DefringeGreenAmount: 0
- DefringeGreenHueHi: 60
- DefringeGreenHueLo: 40
- DefringePurpleAmount: 0
- DefringePurpleHueHi: 70
- DefringePurpleHueLo: 30
- Exposure2012: +0.57
- GrainAmount: 0
- GreenHue: 0
- GreenSaturation: 0
- HasCrop: True
- HasSettings: True
- Highlights2012: 0
- HueAdjustmentAqua: 0
- HueAdjustmentBlue: 0
- HueAdjustmentGreen: 0
- HueAdjustmentMagenta: 0
- HueAdjustmentOrange: 0
- HueAdjustmentPurple: 0
- HueAdjustmentRed: 0
- HueAdjustmentYellow: 0
- LensManualDistortionAmount: 0
- LensProfileChromaticAberrationScale: 100
- LensProfileDistortionScale: 100
- LensProfileEnable: 1
- LensProfileFilename: Canon EOS 5D Mark II (Canon EF 70-200mm f4L USM) - RAW.lcp
- LensProfileSetup: Custom
- LensProfileVignettingScale: 100
- LuminanceAdjustmentAqua: 0
- LuminanceAdjustmentBlue: 0
- LuminanceAdjustmentGreen: 0
- LuminanceAdjustmentMagenta: 0
- LuminanceAdjustmentOrange: 0
- LuminanceAdjustmentPurple: 0
- LuminanceAdjustmentRed: 0
- LuminanceAdjustmentYellow: 0
- LuminanceSmoothing: 0
- ParametricDarks: 0
- ParametricHighlightSplit: 75
- ParametricHighlights: 0
- ParametricLights: 0
- ParametricMidtoneSplit: 50
- ParametricShadowSplit: 25
- ParametricShadows: 0
- PerspectiveAspect: 0
- PerspectiveHorizontal: 0
- PerspectiveRotate: 0.0
- PerspectiveScale: 100
- PerspectiveUpright: 0
- PerspectiveVertical: 0
- PostCropVignetteAmount: 0
- ProcessVersion: 6.7
- RedHue: 0
- RedSaturation: 0
- Saturation: 0
- SaturationAdjustmentAqua: +2
- SaturationAdjustmentBlue: +61
- SaturationAdjustmentGreen: 0
- SaturationAdjustmentMagenta: 0
- SaturationAdjustmentOrange: +29
- SaturationAdjustmentPurple: 0
- SaturationAdjustmentRed: +13
- SaturationAdjustmentYellow: 0
- ShadowTint: 0
- Shadows2012: +25
- SharpenDetail: 25
- SharpenEdgeMasking: 0
- SharpenRadius: +1.0
- Sharpness: 25
- SplitToningBalance: 0
- SplitToningHighlightHue: 0
- SplitToningHighlightSaturation: 0
- SplitToningShadowHue: 0
- SplitToningShadowSaturation: 0
- Tint: +20
- ToneCurveName2012: Linear
- ToneCurvePV2012: 0, 0, 255, 255
- ToneCurvePV2012Blue: 0, 0, 255, 255
- ToneCurvePV2012Green: 0, 0, 255, 255
- ToneCurvePV2012Red: 0, 0, 255, 255
- Version: 8.3
- Vibrance: +20
- VignetteAmount: 0
- WhiteBalance: Custom
- Whites2012: 0
- XMP-dc
- Creator: AdreyM
- Format: image/jpeg
- XMP-xmp
- CreateDate: 2014:01:31 13:56:30.82
- ModifyDate: 2014:02:04 12:35:55+04:00
- XMP-xmpMM
- Просмотров: 205
- Рейтинг: голосов еще нет
- Отзывов: 0
Получить код для блога
| Вставка фотографии в текущем разрешении |
Вставка миниатюры |
HTML (для вставки в блог):
BBCode (для вставки в форум):
Ссылка на фото:
Ссылка на миниатюру:
- Послать ссылку другу
| Комментарии к фотографии |