- Раздел: Другое, разное
- Дата съёмки: 10.06.2007 19:37
- Дата загрузки фото: 24.06.2007 00:55
- Оригинальная фотография: 2000 x 3008 (3,1 Мб)
- Технические характеристики:
- Фотоаппарат: Nikon D50
- Выдержка: 1/60
- Гиперфокальное расстояние: 32,09 m
- Диафрагма: 5,6
- Светочувствительность: 200
- Фокусное расстояние: 60,0mm (35mm эквивалент: 90,0mm)
- Экспокоррекция: +1
- Полный EXIF
- ColorTransform: YCbCr
- Composite
- Aperture: 5,6
- CircleOfConfusion: 0,020 mm
- EV: 9,9
- FocalLength35efl: 60,0mm (35mm equivalent: 90,0mm)
- HyperfocalDistance: 32,09 m
- ScaleFactor35efl: 1,5
- ShutterSpeed: 1/60
- ExifIFD
- ApertureValue: 5,6
- CFAPattern: [Blue,Green][Green,Red]
- ColorSpace: Uncalibrated
- Contrast: Low
- CreateDate: 2007:06:09 19:22:28
- CustomRendered: Normal
- DateTimeOriginal: 2007:06:09 19:22:28
- DigitalZoomRatio: 1
- ExifImageLength: 3008
- ExifImageWidth: 2000
- ExposureCompensation: +1
- ExposureMode: Auto
- ExposureProgram: Aperture-priority AE
- ExposureTime: 1/60
- FNumber: 5,6
- Flash: Auto, Fired, Return detected
- FocalLength: 60,0mm
- FocalLengthIn35mmFormat: 90
- GainControl: None
- ISO: 200
- LightSource: Fine Weather
- MaxApertureValue: 2,8
- MeteringMode: Multi-segment
- Saturation: Normal
- SceneCaptureType: Standard
- SceneType: Directly photographed
- SensingMethod: One-chip color area
- Sharpness: Normal
- ShutterSpeedValue: 1/60
- UserComment: DENISIUK<=>NIKON=D50*TAMRON-28-75/28
- WhiteBalance: Manual
- ICC-header
- IFD0
- Make: NIKON CORPORATION
- Model: NIKON D50
- ModifyDate: 2007:06:10 19:37:44
- Orientation: Horizontal (normal)
- TimeZoneOffset: 3 3
- IFD1
- IPTC
- XMP-aux
- ImageNumber: 2346
- Lens: 28.0-75.0 mm f/2.8
- LensInfo: 28
- XMP-crs
- AlreadyApplied: True
- BlueHue: 0
- BlueSaturation: 0
- Brightness: +50
- CameraProfile: ACR 2.4
- ChromaticAberrationB: 0
- ChromaticAberrationR: 0
- ColorNoiseReduction: 25
- Contrast: +27
- ConvertToGrayscale: False
- Exposure: -0.15
- FillLight: 48
- GreenHue: 0
- GreenSaturation: 0
- HasCrop: False
- HasSettings: True
- HighlightRecovery: 0
- HueAdjustmentAqua: 0
- HueAdjustmentBlue: 0
- HueAdjustmentGreen: 0
- HueAdjustmentMagenta: 0
- HueAdjustmentOrange: 0
- HueAdjustmentPurple: 0
- HueAdjustmentRed: 0
- HueAdjustmentYellow: 0
- LuminanceAdjustmentAqua: 0
- LuminanceAdjustmentBlue: 0
- LuminanceAdjustmentGreen: 0
- LuminanceAdjustmentMagenta: 0
- LuminanceAdjustmentOrange: 0
- LuminanceAdjustmentPurple: 0
- LuminanceAdjustmentRed: 0
- LuminanceAdjustmentYellow: 0
- LuminanceSmoothing: 0
- ParametricDarks: 0
- ParametricHighlightSplit: 75
- ParametricHighlights: 0
- ParametricLights: 0
- ParametricMidtoneSplit: 50
- ParametricShadowSplit: 25
- ParametricShadows: 0
- RawFileName: DSC_2268.NEF
- RedHue: 0
- RedSaturation: 0
- Saturation: 0
- SaturationAdjustmentAqua: 0
- SaturationAdjustmentBlue: 0
- SaturationAdjustmentGreen: 0
- SaturationAdjustmentMagenta: 0
- SaturationAdjustmentOrange: 0
- SaturationAdjustmentPurple: 0
- SaturationAdjustmentRed: 0
- SaturationAdjustmentYellow: 0
- ShadowTint: 0
- Shadows: 7
- Sharpness: 25
- SplitToningBalance: 0
- SplitToningHighlightHue: 0
- SplitToningHighlightSaturation: 0
- SplitToningShadowHue: 0
- SplitToningShadowSaturation: 0
- Temperature: 5350
- Tint: -16
- ToneCurve: 0, 0, 32, 22, 64, 56, 128, 128, 192, 196, 255, 255
- ToneCurveName: Medium Contrast
- Version: 4.0
- Vibrance: 0
- VignetteAmount: 0
- WhiteBalance: As Shot
- XMP-dc
- XMP-exif
- ColorSpace: Unknown (-1)
- DateTimeDigitized: 2007:06:09 19:22:28.00+03:00
- DateTimeOriginal: 2007:06:09 19:22:28.00+03:00
- ExifImageHeight: 3008
- FlashFired: True
- FlashFunction: False
- FlashMode: Auto
- FlashRedEyeMode: False
- FlashReturn: Return detected
- SubjectDistanceRange: Unknown
- XMP-tiff
- XMP-xmp
- CreateDate: 2007:06:10 19:37:44+03:00
- ModifyDate: 2007:06:10 19:37:44+03:00
- Rating: 0
- XMP-xmpMM
- DerivedFrom:
- Просмотров: 708
- Рейтинг: голосов еще нет
- Отзывов: 0