- Раздел: Отдых, развлечения
- Дата съёмки: 10.06.2007 08:05
- Дата загрузки фото: 24.06.2007 17:44
- Оригинальная фотография: 2848 x 2136 (2,9 Мб)
- Технические характеристики:
- Фотоаппарат: FujiFilm FinePix S6500fd
- Выдержка: 1/900
- Гиперфокальное расстояние: 0,81 m
- Диафрагма: 7,1
- Светочувствительность: 200
- Фокусное расстояние: 6,2mm (35mm эквивалент: 27,9mm)
- Экспокоррекция: -0,33
- Полный EXIF
- ColorTransform: YCbCr
- Composite
- Aperture: 7,1
- CircleOfConfusion: 0,007 mm
- EV: 14,5
- FocalLength35efl: 6,2mm (35mm equivalent: 27,9mm)
- HyperfocalDistance: 0,81 m
- ScaleFactor35efl: 4,5
- ShutterSpeed: 1/900
- ExifIFD
- ApertureValue: 7,1
- BrightnessValue: 9,16
- CreateDate: 2007:06:10 08:05:20
- CustomRendered: Normal
- DateTimeOriginal: 2007:06:10 08:05:20
- ExposureCompensation: -0,33
- ExposureMode: Auto
- ExposureProgram: Program AE
- ExposureTime: 1/900
- FNumber: 7,1
- Flash: Off
- FocalLength: 6,2mm
- ISO: 200
- LightSource: Unknown (0)
- MaxApertureValue: 2,8
- MeteringMode: Average
- SceneCaptureType: Standard
- SceneType: Directly photographed
- SensingMethod: One-chip color area
- Sharpness: Normal
- ShutterSpeedValue: 1/900
- WhiteBalance: Auto
- ICC-header
- ICC-meas
- ICC-view
- IFD0
- Make: FUJIFILM
- Model: FinePix S6500fd
- ModifyDate: 2007:06:20 21:43:16
- Software: Digital Camera FinePix S6500fd Ver1.00
- XMP-crs
- AlreadyApplied: True
- BlueHue: 0
- BlueSaturation: 0
- Brightness: +2
- CameraProfile: Embedded
- ChromaticAberrationB: 0
- ChromaticAberrationR: 0
- ColorNoiseReduction: 0
- Contrast: 0
- ConvertToGrayscale: False
- Exposure: +0.25
- FillLight: 6
- GreenHue: 0
- GreenSaturation: 0
- HasCrop: False
- HasSettings: True
- HighlightRecovery: 0
- HueAdjustmentAqua: 0
- HueAdjustmentBlue: 0
- HueAdjustmentGreen: 0
- HueAdjustmentMagenta: 0
- HueAdjustmentOrange: 0
- HueAdjustmentPurple: 0
- HueAdjustmentRed: 0
- HueAdjustmentYellow: 0
- IncrementalTemperature: 0
- IncrementalTint: 0
- LuminanceAdjustmentAqua: 0
- LuminanceAdjustmentBlue: 0
- LuminanceAdjustmentGreen: 0
- LuminanceAdjustmentMagenta: 0
- LuminanceAdjustmentOrange: 0
- LuminanceAdjustmentPurple: 0
- LuminanceAdjustmentRed: 0
- LuminanceAdjustmentYellow: 0
- LuminanceSmoothing: 0
- ParametricDarks: 0
- ParametricHighlightSplit: 75
- ParametricHighlights: 0
- ParametricLights: 0
- ParametricMidtoneSplit: 50
- ParametricShadowSplit: 25
- ParametricShadows: 0
- RedHue: 0
- RedSaturation: 0
- Saturation: 0
- SaturationAdjustmentAqua: 0
- SaturationAdjustmentBlue: 0
- SaturationAdjustmentGreen: 0
- SaturationAdjustmentMagenta: 0
- SaturationAdjustmentOrange: 0
- SaturationAdjustmentPurple: 0
- SaturationAdjustmentRed: 0
- SaturationAdjustmentYellow: 0
- ShadowTint: 0
- Shadows: 0
- Sharpness: 0
- SplitToningBalance: 0
- SplitToningHighlightHue: 0
- SplitToningHighlightSaturation: 0
- SplitToningShadowHue: 0
- SplitToningShadowSaturation: 0
- ToneCurve: 0, 0, 255, 255
- ToneCurveName: Linear
- Version: 1.0
- Vibrance: 0
- VignetteAmount: 0
- WhiteBalance: Custom
- XMP-exif
- DateTimeDigitized: 2007:06:10 08:05:20+03:00
- DateTimeOriginal: 2007:06:10 08:05:20+03:00
- FlashFired: False
- FlashFunction: False
- FlashMode: Off
- FlashRedEyeMode: False
- FlashReturn: No return detection
- SubjectDistanceRange: Unknown
- XMP-tiff
- ImageHeight: 2136
- ImageWidth: 2848
- XMP-xmp
- ModifyDate: 2007:06:20 21:43:16+03:00
- Просмотров: 371
- Рейтинг: голосов еще нет
- Отзывов: 0