- Раздел: Другое, разное
- Дата съёмки: 21.05.2015 11:42
- Дата загрузки фото: 22.05.2015 14:16
- Оригинальная фотография: 768 x 1024 (308 Кб)
- Технические характеристики:
- Фотоаппарат: DJI PHANTOM VISION FC200
- Выдержка: 1/2900
- Гиперфокальное расстояние: inf m
- Диафрагма: 2,8
- Светочувствительность: 100
- Фокусное расстояние: 5,0 mm (35 mm equivalent: 30,0 mm)
- Полный EXIF
- Composite
- Aperture: 2,8
- CircleOfConfusion: 0,005 mm
- FOV: 61,0 deg
- FocalLength35efl: 5,0 mm (35 mm equivalent: 30,0 mm)
- GPSAltitude: 47,1 m Above Sea Level
- GPSLatitude: 55 deg 50' 35,00" N
- GPSLongitude: 39 deg 19' 47,00" E
- GPSPosition: 55 deg 50' 35,00" N, 39 deg 19' 47,00" E
- HyperfocalDistance: inf m
- ScaleFactor35efl: 6,0
- ShutterSpeed: 1/2900
- ExifIFD
- ApertureValue: 2,8
- ColorSpace: sRGB
- Contrast: Normal
- CustomRendered: Normal
- DateTimeOriginal: 2015:05:21 11:42:28
- DigitalZoomRatio: 1
- ExifImageHeight: 1024
- ExifImageWidth: 768
- ExposureCompensation: 0
- ExposureMode: Auto
- ExposureTime: 1/2900
- FNumber: 2,8
- Flash: No flash function
- FocalLength: 5,0 mm
- FocalLengthIn35mmFormat: 30 mm
- GainControl: None
- ISO: 100
- LightSource: Unknown
- MeteringMode: Center-weighted average
- Saturation: Normal
- SceneCaptureType: Standard
- SceneType: Directly photographed
- SensingMethod: One-chip color area
- Sharpness: Normal
- ShutterSpeedValue: 1/2900
- WhiteBalance: Auto
- GPS
- GPSAltitude: 47,17 m
- GPSAltitudeRef: Above Sea Level
- GPSLatitude: 55 deg 50' 35,00"
- GPSLatitudeRef: North
- GPSLongitude: 39 deg 19' 47,00"
- GPSLongitudeRef: East
- GPSVersionID: 0.0.2.2
- ICC-header
- ICC-meas
- ICC-view
- IFD0
- Make: DJI
- Model: PHANTOM VISION FC200
- ModifyDate: 2015:05:21 17:25:46
- Orientation: Horizontal (normal)
- IFD1
- IPTC
- City: Moskva
- Country-PrimaryLocationCode: RU
- Country-PrimaryLocationName: Russia
- DateCreated: 2014:01:01
- Province-State: Moscow
- Sub-location: Severo-Vostochnyy administrativn
- System
- XMP-crs
- AlreadyApplied: True
- AutoLateralCA: 0
- AutoWhiteVersion: 134348800
- Blacks2012: +50
- BlueHue: 0
- BlueSaturation: 0
- CameraProfile: Embedded
- Clarity2012: +25
- ColorNoiseReduction: 50
- ColorNoiseReductionDetail: 50
- ColorNoiseReductionSmoothness: 50
- ColorTemperature: 6350
- Contrast2012: 0
- ConvertToGrayscale: False
- CropAngle: 4.694
- CropBottom: 0.873517
- CropConstrainToWarp: 0
- CropLeft: 0.325557
- CropRight: 0.659734
- CropTop: 0.165306
- DefringeGreenAmount: 0
- DefringeGreenHueHi: 60
- DefringeGreenHueLo: 40
- DefringePurpleAmount: 0
- DefringePurpleHueHi: 70
- DefringePurpleHueLo: 30
- Exposure2012: 0.00
- GrainAmount: 0
- GreenHue: 0
- GreenSaturation: 0
- HasCrop: True
- HasSettings: True
- Highlights2012: -50
- HueAdjustmentAqua: 0
- HueAdjustmentBlue: 0
- HueAdjustmentGreen: 0
- HueAdjustmentMagenta: 0
- HueAdjustmentOrange: 0
- HueAdjustmentPurple: 0
- HueAdjustmentRed: 0
- HueAdjustmentYellow: 0
- LensManualDistortionAmount: 0
- LensProfileEnable: 0
- LensProfileSetup: LensDefaults
- LuminanceAdjustmentAqua: 0
- LuminanceAdjustmentBlue: 0
- LuminanceAdjustmentGreen: 0
- LuminanceAdjustmentMagenta: 0
- LuminanceAdjustmentOrange: 0
- LuminanceAdjustmentPurple: 0
- LuminanceAdjustmentRed: 0
- LuminanceAdjustmentYellow: 0
- LuminanceNoiseReductionContrast: 0
- LuminanceNoiseReductionDetail: 0
- LuminanceSmoothing: 25
- ParametricDarks: 0
- ParametricHighlightSplit: 75
- ParametricHighlights: 0
- ParametricLights: 0
- ParametricMidtoneSplit: 50
- ParametricShadowSplit: 25
- ParametricShadows: 0
- PerspectiveAspect: 0
- PerspectiveHorizontal: 0
- PerspectiveRotate: 0.0
- PerspectiveScale: 100
- PerspectiveUpright: 0
- PerspectiveVertical: 0
- PostCropVignetteAmount: 0
- ProcessVersion: 6.7
- RawFileName: DJI00532.psd
- RedHue: 0
- RedSaturation: 0
- Saturation: 0
- SaturationAdjustmentAqua: 0
- SaturationAdjustmentBlue: 0
- SaturationAdjustmentGreen: 0
- SaturationAdjustmentMagenta: 0
- SaturationAdjustmentOrange: 0
- SaturationAdjustmentPurple: 0
- SaturationAdjustmentRed: 0
- SaturationAdjustmentYellow: 0
- ShadowTint: 0
- Shadows2012: +50
- SharpenDetail: 50
- SharpenEdgeMasking: 25
- SharpenRadius: +1.0
- Sharpness: 25
- SplitToningBalance: 0
- SplitToningHighlightHue: 0
- SplitToningHighlightSaturation: 0
- SplitToningShadowHue: 0
- SplitToningShadowSaturation: 0
- Tint: +108
- ToneCurve: 0, 0, 255, 255
- ToneCurveBlue: 0, 0, 255, 255
- ToneCurveGreen: 0, 0, 255, 255
- ToneCurveName: Linear
- ToneCurveName2012: Linear
- ToneCurvePV2012: 0, 0, 255, 255
- ToneCurvePV2012Blue: 0, 0, 255, 255
- ToneCurvePV2012Green: 0, 0, 255, 255
- ToneCurvePV2012Red: 0, 0, 255, 255
- ToneCurveRed: 0, 0, 255, 255
- Version: 9.0
- Vibrance: +25
- VignetteAmount: 0
- WhiteBalance: As Shot
- Whites2012: 0
- XMP-dc
- XMP-iptcCore
- CountryCode: RU
- Location: Severo-Vostochnyy administrativnyy okrug
- XMP-xmp
- CreateDate: 2015:05:21 11:42:28
- ModifyDate: 2015:05:21 17:25:46+03:00
- XMP-xmpMM
- Просмотров: 323
- Рейтинг: голосов еще нет
- Отзывов: 0