- Раздел: Другое, разное
- Дата съёмки: 18.10.2015 13:37
- Дата загрузки фото: 26.10.2015 23:18
- Оригинальная фотография: 4912 x 2760 (4,2 Мб)
- Технические характеристики:
- Фотоаппарат: Sony NEX-6
- Выдержка: 1/50
- Гиперфокальное расстояние: inf m
- Диафрагма: 18,0
- Светочувствительность: 3200
- Фокусное расстояние: 30,0 mm (35 mm equivalent: 30,0 mm)
- Полный EXIF
- Composite
- Aperture: 18,0
- CircleOfConfusion: 0,020 mm
- FOV: 61,0 deg
- FocalLength35efl: 30,0 mm (35 mm equivalent: 30,0 mm)
- HyperfocalDistance: inf m
- ScaleFactor35efl: 1,5
- ShutterSpeed: 1/50
- ExifIFD
- ApertureValue: 18,0
- BrightnessValue: 4,7671875
- ColorSpace: Uncalibrated
- Contrast: Normal
- CreateDate: 2015:10:18 13:37:57
- CustomRendered: Normal
- DateTimeOriginal: 2015:10:18 13:37:57
- DigitalZoomRatio: 1
- ExifImageHeight: 2760
- ExifImageWidth: 4912
- ExposureCompensation: 0
- ExposureMode: Auto
- ExposureProgram: Aperture-priority AE
- ExposureTime: 1/50
- FNumber: 18,0
- Flash: Off, Did not fire
- FocalLength: 30,0 mm
- FocalLengthIn35mmFormat: 45 mm
- Gamma: 2,2
- ISO: 3200
- LensInfo: 30mm f/3.5
- LensModel: E 30mm F3.5 Macro
- LightSource: Unknown
- MaxApertureValue: 3,5
- MeteringMode: Center-weighted average
- RecommendedExposureIndex: 3200
- Saturation: Normal
- SceneCaptureType: Standard
- SensitivityType: Recommended Exposure Index
- Sharpness: Normal
- ShutterSpeedValue: 1/50
- WhiteBalance: Auto
- ICC-header
- ICC-meas
- ICC-view
- IFD0
- ImageDescription:
- Make: SONY
- Model: NEX-6
- ModifyDate: 2015:10:18 15:02:52
- Orientation: Horizontal (normal)
- PrimaryChromaticities: 0,64 0,33 0,21 0,71 0,15 0,06
- Software: PlayMemories Home
- WhitePoint: 0,313 0,329
- IFD1
- MPF0
- MPFVersion: 0100
- NumberOfImages: 2
- MPImage1
- DependentImage1EntryNumber: 2
- DependentImage2EntryNumber: 0
- MPImageFlags: Representative image, Dependent parent image
- MPImageFormat: JPEG
- MPImageLength: 3887598
- MPImageStart: 0
- MPImageType: Baseline MP Primary Image
- MPImage2
- DependentImage1EntryNumber: 0
- MPImageFlags: Dependent child image
- MPImageLength: 542803
- MPImageStart: 3887598
- MPImageType: Large Thumbnail (full HD equivalent)
- System
- XMP-aux
- Lens: E 30mm F3.5 Macro
- XMP-crs
- AlreadyApplied: True
- AutoLateralCA: 0
- Blacks2012: 0
- BlueHue: 0
- BlueSaturation: 0
- CameraProfile: Embedded
- Clarity2012: +4
- ColorNoiseReduction: 0
- Contrast2012: 0
- ConvertToGrayscale: False
- DefringeGreenAmount: 0
- DefringeGreenHueHi: 60
- DefringeGreenHueLo: 40
- DefringePurpleAmount: 0
- DefringePurpleHueHi: 70
- DefringePurpleHueLo: 30
- Exposure2012: 0.00
- GrainAmount: 0
- GreenHue: 0
- GreenSaturation: 0
- HasCrop: False
- HasSettings: True
- Highlights2012: -19
- HueAdjustmentAqua: 0
- HueAdjustmentBlue: 0
- HueAdjustmentGreen: 0
- HueAdjustmentMagenta: 0
- HueAdjustmentOrange: 0
- HueAdjustmentPurple: 0
- HueAdjustmentRed: 0
- HueAdjustmentYellow: 0
- IncrementalTemperature: -2
- IncrementalTint: 0
- LensManualDistortionAmount: 0
- LensProfileEnable: 0
- LensProfileSetup: LensDefaults
- LuminanceAdjustmentAqua: 0
- LuminanceAdjustmentBlue: 0
- LuminanceAdjustmentGreen: 0
- LuminanceAdjustmentMagenta: 0
- LuminanceAdjustmentOrange: 0
- LuminanceAdjustmentPurple: 0
- LuminanceAdjustmentRed: 0
- LuminanceAdjustmentYellow: 0
- LuminanceNoiseReductionContrast: 0
- LuminanceNoiseReductionDetail: 50
- LuminanceSmoothing: 12
- ParametricDarks: 0
- ParametricHighlightSplit: 75
- ParametricHighlights: 0
- ParametricLights: 0
- ParametricMidtoneSplit: 50
- ParametricShadowSplit: 25
- ParametricShadows: 0
- PerspectiveHorizontal: 0
- PerspectiveRotate: 0.0
- PerspectiveScale: 100
- PerspectiveVertical: 0
- PostCropVignetteAmount: 0
- ProcessVersion: 6.7
- RedHue: 0
- RedSaturation: 0
- Saturation: +9
- SaturationAdjustmentAqua: 0
- SaturationAdjustmentBlue: 0
- SaturationAdjustmentGreen: 0
- SaturationAdjustmentMagenta: 0
- SaturationAdjustmentOrange: 0
- SaturationAdjustmentPurple: 0
- SaturationAdjustmentRed: 0
- SaturationAdjustmentYellow: 0
- ShadowTint: 0
- Shadows2012: +26
- SharpenDetail: 25
- SharpenEdgeMasking: 20
- SharpenRadius: +1.0
- Sharpness: 69
- SplitToningBalance: 0
- SplitToningHighlightHue: 0
- SplitToningHighlightSaturation: 0
- SplitToningShadowHue: 0
- SplitToningShadowSaturation: 0
- ToneCurveName2012: Linear
- ToneCurvePV2012: 0, 0, 255, 255
- ToneCurvePV2012Blue: 0, 0, 255, 255
- ToneCurvePV2012Green: 0, 0, 255, 255
- ToneCurvePV2012Red: 0, 0, 255, 255
- Version: 7.4
- Vibrance: +6
- VignetteAmount: 0
- WhiteBalance: Custom
- Whites2012: 0
- XMP-dc
- XMP-microsoft
- DateAcquired: 2015:10:18 13:44:25
- XMP-xmp
- ModifyDate: 2015:10:18 14:45:08+03:00
- XMP-xmpMM
- Просмотров: 326
- Рейтинг: голосов еще нет
- Отзывов: 0