- Раздел: Природа
- Дата съёмки: неизвестно
- Дата загрузки фото: 05.05.2016 23:00
- Оригинальная фотография: 1280 x 1920 (1,8 Мб)
- Технические характеристики:
- Фотоаппарат: Canon EOS 5D Mark II
- Выдержка: 1/200
- Гиперфокальное расстояние: inf m
- Диафрагма: 7,1
- Светочувствительность: 50
- Фокусное расстояние: 70,0 mm (35 mm equivalent: 140,0 mm)
- Полный EXIF
- Adobe
- ColorTransform: YCbCr
- Composite
- Aperture: 7,1
- CircleOfConfusion: 0,010 mm
- DOF: inf (0,00 m - inf)
- FOV: 14,0 deg
- FocalLength35efl: 70,0 mm (35 mm equivalent: 140,0 mm)
- HyperfocalDistance: inf m
- LensID: Canon EF 70-200mm f/2.8L IS II USM
- ScaleFactor35efl: 2,9
- ShutterSpeed: 1/200
- ExifIFD
- ApertureValue: 7,1
- ColorSpace: sRGB
- CreateDate: 2016:05:05 19:23:23
- CustomRendered: Normal
- DateTimeOriginal: 2016:05:05 19:23:23
- ExifImageHeight: 1920
- ExifImageWidth: 1280
- ExposureCompensation: 0
- ExposureMode: Auto
- ExposureProgram: Aperture-priority AE
- ExposureTime: 1/200
- FNumber: 7,1
- Flash: Off, Did not fire
- FocalLength: 70,0 mm
- ISO: 50
- LensInfo: 70-200mm f/?
- LensModel: EF70-200mm f/2.8L IS II USM
- MaxApertureValue: 2,8
- MeteringMode: Partial
- SceneCaptureType: Standard
- SensitivityType: Unknown
- SerialNumber: 3331628136
- ShutterSpeedValue: 1/200
- SubjectDistance: 4294967295 m
- WhiteBalance: Auto
- ICC-header
- ICC-meas
- ICC-view
- IFD0
- Artist: Photographer: Kazarenko Andrey
- BitsPerSample: 8 8 8
- ImageHeight: 5361
- ImageWidth: 3574
- Make: Canon
- Model: Canon EOS 5D Mark II
- ModifyDate: 2016:05:05 22:49:05
- Orientation: Horizontal (normal)
- PhotometricInterpretation: RGB
- SamplesPerPixel: 3
- IFD1
- IPTC
- By-line: Photographer: Kazarenko Andrey
- DateCreated: 2016:05:05
- System
- XMP-aux
- ApproximateFocusDistance: 4294967295
- Firmware: 2.0.9
- FlashCompensation: 0
- ImageNumber: 0
- Lens: EF70-200mm f/2.8L IS II USM
- LensID: 251
- XMP-crs
- AlreadyApplied: True
- BlueHue: 0
- BlueSaturation: 0
- Brightness: +50
- ChromaticAberrationB: 0
- ChromaticAberrationR: 0
- Clarity: 0
- ColorNoiseReduction: 25
- ColorNoiseReductionDetail: 50
- ColorTemperature: 5500
- Contrast: +25
- ConvertToGrayscale: False
- CropAngle: -1.83541
- CropBottom: 0.954137
- CropConstrainToWarp: 0
- CropHeight: 3574
- CropLeft: 0.012741
- CropRight: 0.987259
- CropTop: 0.045863
- CropUnit: pixels
- CropWidth: 5361
- Defringe: 0
- Exposure: +0.20
- FillLight: 0
- GradientBasedCorrActive: true
- GradientBasedCorrAmount: 1.000000
- GradientBasedCorrBrightness: 0.000000
- GradientBasedCorrClarity: 0.000000
- GradientBasedCorrContrast: 0.000000
- GradientBasedCorrExposure: -0.100000
- GradientBasedCorrHue: 240.000000
- GradientBasedCorrMaskFullX: 1.003870
- GradientBasedCorrMaskFullY: 0.499462
- GradientBasedCorrMaskValue: 1.000000
- GradientBasedCorrMaskWhat: Mask/Gradient
- GradientBasedCorrMaskZeroX: -0.220260
- GradientBasedCorrMaskZeroY: 0.497049
- GradientBasedCorrSaturation: 0.000000
- GradientBasedCorrSharpness: 0.000000
- GradientBasedCorrWhat: Correction
- GrainAmount: 0
- GreenHue: 0
- GreenSaturation: 0
- HasCrop: True
- HasSettings: True
- HighlightRecovery: 0
- HueAdjustmentAqua: 0
- HueAdjustmentBlue: 0
- HueAdjustmentGreen: 0
- HueAdjustmentMagenta: 0
- HueAdjustmentOrange: 0
- HueAdjustmentPurple: 0
- HueAdjustmentRed: 0
- HueAdjustmentYellow: 0
- LensManualDistortionAmount: 0
- LensProfileEnable: 0
- LensProfileSetup: LensDefaults
- LuminanceAdjustmentAqua: 0
- LuminanceAdjustmentBlue: 0
- LuminanceAdjustmentGreen: 0
- LuminanceAdjustmentMagenta: 0
- LuminanceAdjustmentOrange: 0
- LuminanceAdjustmentPurple: 0
- LuminanceAdjustmentRed: 0
- LuminanceAdjustmentYellow: 0
- LuminanceSmoothing: 0
- ParametricDarks: +5
- ParametricHighlightSplit: 75
- ParametricHighlights: 0
- ParametricLights: 0
- ParametricMidtoneSplit: 50
- ParametricShadowSplit: 25
- ParametricShadows: 0
- PerspectiveHorizontal: 0
- PerspectiveRotate: 0.0
- PerspectiveScale: 100
- PerspectiveVertical: 0
- PostCropVignetteAmount: 0
- ProcessVersion: 5.7
- RedHue: 0
- RedSaturation: 0
- Saturation: +10
- SaturationAdjustmentAqua: 0
- SaturationAdjustmentBlue: 0
- SaturationAdjustmentGreen: 0
- SaturationAdjustmentMagenta: 0
- SaturationAdjustmentOrange: 0
- SaturationAdjustmentPurple: 0
- SaturationAdjustmentRed: 0
- SaturationAdjustmentYellow: 0
- ShadowTint: 0
- Shadows: 5
- SharpenDetail: 25
- SharpenEdgeMasking: 0
- SharpenRadius: +1.0
- Sharpness: 25
- SplitToningBalance: 0
- SplitToningHighlightHue: 0
- SplitToningHighlightSaturation: 0
- SplitToningShadowHue: 0
- SplitToningShadowSaturation: 0
- Tint: +18
- ToneCurve: 0, 0, 32, 22, 64, 56, 128, 128, 192, 196, 255, 255
- ToneCurveName: Medium Contrast
- Version: 6.3
- Vibrance: +15
- VignetteAmount: 0
- WhiteBalance: As Shot
- XMP-dc
- Creator: Photographer: Kazarenko Andrey
- Format: image/jpeg
- XMP-xmp
- CreateDate: 2016:05:05 19:23:23.74+04:00
- ModifyDate: 2016:05:05 22:49:05+04:00
- XMP-xmpMM
- Просмотров: 136
- Рейтинг: голосов еще нет
- Отзывов: 0