- Раздел: Портрет
- Дата съёмки: неизвестно
- Дата загрузки фото: 07.09.2016 15:23
- Оригинальная фотография: 768 x 1152 (482 Кб)
- Технические характеристики:
- Фотоаппарат: Canon EOS 60D
- Выдержка: 1/500
- Гиперфокальное расстояние: inf m
- Диафрагма: 4,0
- Светочувствительность: 100
- Фокусное расстояние: 200,0 mm (35 mm equivalent: 1400,0 mm)
- Полный EXIF
- Adobe
- ColorTransform: YCbCr
- Composite
- Aperture: 4,0
- CircleOfConfusion: 0,004 mm
- FOV: 1,0 deg
- FocalLength35efl: 200,0 mm (35 mm equivalent: 1400,0 mm)
- HyperfocalDistance: inf m
- LensID: Canon EF 70-200mm f/4L
- ScaleFactor35efl: 7,1
- ShutterSpeed: 1/500
- ExifIFD
- ApertureValue: 4,0
- ColorSpace: sRGB
- CreateDate: 2016:09:06 19:02:28
- CustomRendered: Normal
- DateTimeOriginal: 2016:09:06 19:02:28
- ExifImageHeight: 1152
- ExifImageWidth: 768
- ExposureCompensation: 0
- ExposureMode: Auto
- ExposureProgram: Aperture-priority AE
- ExposureTime: 1/500
- FNumber: 4,0
- Flash: Off, Did not fire
- FocalLength: 200,0 mm
- ISO: 100
- LensInfo: 70-200mm f/?
- LensModel: EF70-200mm f/4L USM
- LensSerialNumber: 0000000000
- MaxApertureValue: 4,0
- MeteringMode: Multi-segment
- RecommendedExposureIndex: 100
- SceneCaptureType: Standard
- SensitivityType: Recommended Exposure Index
- SerialNumber: 1581060748
- ShutterSpeedValue: 1/500
- WhiteBalance: Auto
- ICC-header
- ICC-meas
- ICC-view
- IFD0
- BitsPerSample: 8 8 8
- ImageHeight: 5184
- ImageWidth: 3456
- Make: Canon
- Model: Canon EOS 60D
- ModifyDate: 2016:09:07 15:14:01
- Orientation: Horizontal (normal)
- PhotometricInterpretation: RGB
- SamplesPerPixel: 3
- IFD1
- IPTC
- DateCreated: 2016:09:06
- System
- XMP-aux
- ApproximateFocusDistance: 19,1
- Firmware: 1.1.0
- FlashCompensation: 0
- ImageNumber: 0
- Lens: EF70-200mm f/4L USM
- LensID: 186
- XMP-crs
- AlreadyApplied: True
- AutoLateralCA: 0
- AutoWhiteVersion: 134348800
- Blacks2012: -27
- BlueHue: 0
- BlueSaturation: 0
- CameraProfile: Embedded
- Clarity2012: 0
- ColorNoiseReduction: 0
- Contrast2012: -5
- ConvertToGrayscale: False
- DefringeGreenAmount: 0
- DefringeGreenHueHi: 60
- DefringeGreenHueLo: 40
- DefringePurpleAmount: 0
- DefringePurpleHueHi: 70
- DefringePurpleHueLo: 30
- Exposure2012: -0.11
- GrainAmount: 0
- GreenHue: 0
- GreenSaturation: 0
- HasCrop: False
- HasSettings: True
- Highlights2012: +23
- HueAdjustmentAqua: 0
- HueAdjustmentBlue: 0
- HueAdjustmentGreen: 0
- HueAdjustmentMagenta: 0
- HueAdjustmentOrange: 0
- HueAdjustmentPurple: 0
- HueAdjustmentRed: 0
- HueAdjustmentYellow: 0
- IncrementalTemperature: +2
- IncrementalTint: 0
- LensManualDistortionAmount: 0
- LensProfileEnable: 0
- LensProfileSetup: LensDefaults
- LuminanceAdjustmentAqua: 0
- LuminanceAdjustmentBlue: 0
- LuminanceAdjustmentGreen: 0
- LuminanceAdjustmentMagenta: 0
- LuminanceAdjustmentOrange: 0
- LuminanceAdjustmentPurple: 0
- LuminanceAdjustmentRed: 0
- LuminanceAdjustmentYellow: 0
- LuminanceSmoothing: 0
- PaintBasedCorrectionsLocalClarity2012: 0.000000
- PaintBasedCorrectionsLocalContrast2012: 0.068180
- PaintBasedCorrectionsLocalDefringe: 0.000000
- PaintBasedCorrectionsLocalExposure2012: 0.045500
- PaintBasedCorrectionsLocalHighlights2012: -0.136360
- PaintBasedCorrectionsLocalLuminanceNoise: 0.000000
- PaintBasedCorrectionsLocalMoire: 0.000000
- PaintBasedCorrectionsLocalShadows2012: 0.113640
- PaintBasedCorrectionsLocalTemperature: 0.000000
- PaintBasedCorrectionsLocalTint: 0.000000
- PaintCorrectionActive: true
- PaintCorrectionAmount: 1.000000
- PaintCorrectionBrightness: 0.000000
- PaintCorrectionHue: 0.000000
- PaintCorrectionMaskCenterWeight: 0.000000
- PaintCorrectionMaskFlow: 1.000000
- PaintCorrectionMaskRadius: 0.152493
- PaintCorrectionMaskValue: 1.000000
- PaintCorrectionMaskWhat: Mask/Paint
- PaintCorrectionSaturation: 0.000000
- PaintCorrectionSharpness: 0.000000
- PaintCorrectionWhat: Correction
- ParametricDarks: -5
- ParametricHighlightSplit: 75
- ParametricHighlights: +5
- ParametricLights: +5
- ParametricMidtoneSplit: 50
- ParametricShadowSplit: 25
- ParametricShadows: -7
- PerspectiveAspect: 0
- PerspectiveHorizontal: 0
- PerspectiveRotate: 0.0
- PerspectiveScale: 100
- PerspectiveUpright: 0
- PerspectiveVertical: 0
- PostCropVignetteAmount: 0
- ProcessVersion: 6.7
- RedHue: 0
- RedSaturation: 0
- Saturation: 0
- SaturationAdjustmentAqua: 0
- SaturationAdjustmentBlue: 0
- SaturationAdjustmentGreen: 0
- SaturationAdjustmentMagenta: 0
- SaturationAdjustmentOrange: 0
- SaturationAdjustmentPurple: 0
- SaturationAdjustmentRed: 0
- SaturationAdjustmentYellow: 0
- ShadowTint: 0
- Shadows2012: +14
- SharpenDetail: 25
- SharpenEdgeMasking: 0
- SharpenRadius: +1.0
- Sharpness: 0
- SplitToningBalance: 0
- SplitToningHighlightHue: 0
- SplitToningHighlightSaturation: 0
- SplitToningShadowHue: 0
- SplitToningShadowSaturation: 0
- ToneCurve: 0, 0, 255, 255
- ToneCurveBlue: 0, 0, 255, 255
- ToneCurveGreen: 0, 0, 255, 255
- ToneCurveName: Linear
- ToneCurveName2012: Linear
- ToneCurvePV2012: 0, 0, 255, 255
- ToneCurvePV2012Blue: 0, 0, 255, 255
- ToneCurvePV2012Green: 0, 0, 255, 255
- ToneCurvePV2012Red: 0, 0, 255, 255
- ToneCurveRed: 0, 0, 255, 255
- Version: 8.7.1
- Vibrance: -5
- VignetteAmount: 0
- WhiteBalance: Custom
- Whites2012: +16
- XMP-dc
- XMP-xmp
- ModifyDate: 2016:09:07 15:14:01+03:00
- XMP-xmpMM
- Просмотров: 647
- Рейтинг: голосов еще нет
- Отзывов: 0