- Раздел: Другое, разное
- Дата съёмки: неизвестно
- Дата загрузки фото: 27.01.2017 17:00
- Оригинальная фотография: 5947 x 2652 (2,4 Мб)
- Технические характеристики:
- Фотоаппарат: Nikon D800
- Выдержка: 4,0
- Гиперфокальное расстояние: inf m
- Диафрагма: 11,0
- Светочувствительность: 50
- Фокусное расстояние: 48,0 mm (35 mm equivalent: 48,0 mm)
- Экспокоррекция: -1/3
- Полный EXIF
- Adobe
- ColorTransform: YCbCr
- Composite
- Aperture: 11,0
- CircleOfConfusion: 0,030 mm
- FOV: 41,0 deg
- FocalLength35efl: 48,0 mm (35 mm equivalent: 48,0 mm)
- HyperfocalDistance: inf m
- LensID: AF-S Zoom-Nikkor 28-70mm f/2.8D IF-ED
- LightValue: 5,9
- ScaleFactor35efl: 1,0
- ShutterSpeed: 4,0
- ExifIFD
- ApertureValue: 11,0
- CFAPattern: [Red,Green][Green,Blue]
- Contrast: Normal
- CreateDate: 2017:01:21 23:28:27
- CustomRendered: Normal
- DateTimeOriginal: 2017:01:21 23:28:27
- DigitalZoomRatio: 1
- ExposureCompensation: -1/3
- ExposureMode: Manual
- ExposureProgram: Manual
- ExposureTime: 4,0
- FNumber: 11,0
- Flash: Off, Did not fire
- FocalLength: 48,0 mm
- FocalLengthIn35mmFormat: 48 mm
- GainControl: None
- ISO: 50
- LensInfo: 28-70mm f/2.8
- LensModel: 28.0-70.0 mm f/2.8
- LightSource: Unknown
- MaxApertureValue: 2,8
- MeteringMode: Multi-segment
- Saturation: Normal
- SceneCaptureType: Standard
- SceneType: Directly photographed
- SensingMethod: One-chip color area
- SensitivityType: Recommended Exposure Index
- SerialNumber: 8002139
- Sharpness: Normal
- ShutterSpeedValue: 4,0
- SubjectDistanceRange: Unknown
- UserComment: illya@xdevs.com (C) TSEMENKO ILYA
- WhiteBalance: Auto
- ICC-header
- IFD0
- Artist: Tsemenko Illya xDevs.com
- Copyright: (C)TIN
- Make: NIKON CORPORATION
- Model: NIKON D800
- ModifyDate: 2017:01:22 00:08:07
- IFD1
- IPTC
- By-line: Tsemenko Illya xDevs.com
- CopyrightNotice: (C)TIN
- DateCreated: 2017:01:21
- System
- XMP-aux
- ApproximateFocusDistance: 0,89
- ImageNumber: 65988
- Lens: 28.0-70.0 mm f/2.8
- LensID: 93
- XMP-crs
- AlreadyApplied: True
- AutoLateralCA: 0
- AutoWhiteVersion: 134348800
- Blacks2012: -7
- BlueHue: 0
- BlueSaturation: 0
- Clarity2012: 0
- ColorNoiseReduction: 25
- ColorNoiseReductionDetail: 50
- ColorNoiseReductionSmoothness: 50
- ColorTemperature: 5700
- Contrast2012: -25
- ConvertToGrayscale: False
- CropAngle: -1.68707
- CropBottom: 0.697168
- CropConstrainToWarp: 0
- CropLeft: 0.065409
- CropRight: 0.883724
- CropTop: 0.193077
- DefringeGreenAmount: 0
- DefringeGreenHueHi: 60
- DefringeGreenHueLo: 40
- DefringePurpleAmount: 0
- DefringePurpleHueHi: 70
- DefringePurpleHueLo: 30
- Exposure2012: +0.14
- GrainAmount: 0
- GreenHue: 0
- GreenSaturation: 0
- HasCrop: True
- HasSettings: True
- Highlights2012: -86
- HueAdjustmentAqua: 0
- HueAdjustmentBlue: 0
- HueAdjustmentGreen: 0
- HueAdjustmentMagenta: 0
- HueAdjustmentOrange: 0
- HueAdjustmentPurple: 0
- HueAdjustmentRed: 0
- HueAdjustmentYellow: 0
- LensManualDistortionAmount: 0
- LensProfileEnable: 0
- LensProfileSetup: LensDefaults
- LuminanceAdjustmentAqua: 0
- LuminanceAdjustmentBlue: 0
- LuminanceAdjustmentGreen: 0
- LuminanceAdjustmentMagenta: 0
- LuminanceAdjustmentOrange: 0
- LuminanceAdjustmentPurple: 0
- LuminanceAdjustmentRed: 0
- LuminanceAdjustmentYellow: 0
- LuminanceSmoothing: 0
- ParametricDarks: 0
- ParametricHighlightSplit: 75
- ParametricHighlights: 0
- ParametricLights: 0
- ParametricMidtoneSplit: 50
- ParametricShadowSplit: 25
- ParametricShadows: 0
- PerspectiveAspect: 0
- PerspectiveHorizontal: 0
- PerspectiveRotate: 0.0
- PerspectiveScale: 100
- PerspectiveUpright: 0
- PerspectiveVertical: 0
- PostCropVignetteAmount: 0
- ProcessVersion: 6.7
- RedHue: 0
- RedSaturation: 0
- Saturation: 0
- SaturationAdjustmentAqua: 0
- SaturationAdjustmentBlue: 0
- SaturationAdjustmentGreen: 0
- SaturationAdjustmentMagenta: 0
- SaturationAdjustmentOrange: 0
- SaturationAdjustmentPurple: 0
- SaturationAdjustmentRed: 0
- SaturationAdjustmentYellow: 0
- ShadowTint: 0
- Shadows2012: +66
- SharpenDetail: 25
- SharpenEdgeMasking: 0
- SharpenRadius: +1.0
- Sharpness: 25
- SplitToningBalance: 0
- SplitToningHighlightHue: 0
- SplitToningHighlightSaturation: 0
- SplitToningShadowHue: 0
- SplitToningShadowSaturation: 0
- Tint: +32
- ToneCurveName2012: Linear
- ToneCurvePV2012: 0, 0, 255, 255
- ToneCurvePV2012Blue: 0, 0, 255, 255
- ToneCurvePV2012Green: 0, 0, 255, 255
- ToneCurvePV2012Red: 0, 0, 255, 255
- Version: 8.3
- Vibrance: 0
- VignetteAmount: 0
- WhiteBalance: As Shot
- Whites2012: +55
- XMP-dc
- Creator: Tsemenko Illya xDevs.com
- Format: image/jpeg
- Rights: (C)TIN
- XMP-xmp
- CreateDate: 2017:01:21 23:28:27.20
- ModifyDate: 2017:01:22 00:08:07+08:00
- Rating: 1
- XMP-xmpMM
- Просмотров: 172
- Рейтинг: голосов еще нет
- Отзывов: 0