- Раздел: Активный отдых, туризм
- Дата съёмки: 24.08.2007 15:37
- Дата загрузки фото: 24.08.2007 15:44
- Оригинальная фотография: 651 x 967 (334 Кб)
- Технические характеристики:
- Фотоаппарат: Canon EOS 400D DIGITAL
- Выдержка: 1/320
- Гиперфокальное расстояние: 149,27 m
- Диафрагма: 7,1
- Светочувствительность: 200
- Фокусное расстояние: 70,0mm (35mm эквивалент: 454,9mm)
- Полный EXIF
- ColorTransform: YCbCr
- Composite
- Aperture: 7,1
- CircleOfConfusion: 0,005 mm
- EV: 13,0
- FocalLength35efl: 70,0mm (35mm equivalent: 454,9mm)
- HyperfocalDistance: 149,27 m
- ScaleFactor35efl: 6,5
- ShutterSpeed: 1/320
- ExifIFD
- ApertureValue: 7,1
- ColorSpace: sRGB
- CreateDate: 2007:08:23 10:22:19
- CustomRendered: Normal
- DateTimeOriginal: 2007:08:23 10:22:19
- ExifImageLength: 967
- ExifImageWidth: 651
- ExposureCompensation: 0
- ExposureMode: Manual
- ExposureProgram: Manual
- ExposureTime: 1/320
- FNumber: 7,1
- Flash: Off
- FocalLength: 70,0mm
- ISO: 200
- MaxApertureValue: 4,0
- MeteringMode: Multi-segment
- SceneCaptureType: Standard
- ShutterSpeedValue: 1/320
- WhiteBalance: Auto
- ICC-header
- ICC-meas
- ICC-view
- IFD0
- Artist: Dmitry Rytschkoff
- Make: Canon
- Model: Canon EOS 400D DIGITAL
- ModifyDate: 2007:08:24 15:37:39
- Orientation: Horizontal (normal)
- TimeZoneOffset: 12 12
- IFD1
- IPTC
- By-line: Dmitry Rytschkoff
- XMP-aux
- Firmware: 1.0.4
- FlashCompensation: 0
- ImageNumber: 240
- Lens: 17.0-70.0 mm
- LensInfo: 17
- OwnerName: Dmitry Rytschkoff
- SerialNumber: 330121419
- XMP-crs
- AlreadyApplied: True
- BlueHue: -10
- BlueSaturation: 0
- Brightness: +36
- CameraProfile: ACR 3.6
- ChromaticAberrationB: 0
- ChromaticAberrationR: 0
- Clarity: 18
- ColorNoiseReduction: 13
- Contrast: +20
- ConvertToGrayscale: False
- Defringe: 0
- Exposure: +1.70
- FillLight: 0
- GreenHue: +2
- GreenSaturation: -5
- HasCrop: False
- HasSettings: True
- HighlightRecovery: 0
- HueAdjustmentAqua: 0
- HueAdjustmentBlue: 0
- HueAdjustmentGreen: 0
- HueAdjustmentMagenta: 0
- HueAdjustmentOrange: 0
- HueAdjustmentPurple: 0
- HueAdjustmentRed: 0
- HueAdjustmentYellow: +22
- LuminanceAdjustmentAqua: 0
- LuminanceAdjustmentBlue: 0
- LuminanceAdjustmentGreen: 0
- LuminanceAdjustmentMagenta: 0
- LuminanceAdjustmentOrange: 0
- LuminanceAdjustmentPurple: 0
- LuminanceAdjustmentRed: 0
- LuminanceAdjustmentYellow: 0
- LuminanceSmoothing: 5
- ParametricDarks: 0
- ParametricHighlightSplit: 75
- ParametricHighlights: 0
- ParametricLights: 0
- ParametricMidtoneSplit: 50
- ParametricShadowSplit: 25
- ParametricShadows: 0
- RawFileName: _MG_2079.CR2
- RedHue: -9
- RedSaturation: +3
- Saturation: 0
- SaturationAdjustmentAqua: 0
- SaturationAdjustmentBlue: 0
- SaturationAdjustmentGreen: 0
- SaturationAdjustmentMagenta: 0
- SaturationAdjustmentOrange: 0
- SaturationAdjustmentPurple: 0
- SaturationAdjustmentRed: 0
- SaturationAdjustmentYellow: 0
- ShadowTint: 0
- Shadows: 9
- SharpenDetail: 25
- SharpenEdgeMasking: 0
- SharpenRadius: +1.0
- Sharpness: 35
- SplitToningBalance: 0
- SplitToningHighlightHue: 0
- SplitToningHighlightSaturation: 0
- SplitToningShadowHue: 0
- SplitToningShadowSaturation: 0
- Temperature: 6500
- Tint: +10
- ToneCurve: 0, 0, 32, 22, 64, 56, 128, 128, 192, 196, 255, 255
- ToneCurveName: Medium Contrast
- Version: 4.1
- Vibrance: +47
- VignetteAmount: 0
- WhiteBalance: Cloudy
- XMP-dc
- Creator: Dmitry Rytschkoff
- Format: image/jpeg
- XMP-exif
- DateTimeDigitized: 2007:08:23 10:22:19+12:00
- DateTimeOriginal: 2007:08:23 10:22:19+12:00
- ExifImageHeight: 967
- FlashFired: False
- FlashFunction: False
- FlashMode: Off
- FlashRedEyeMode: False
- FlashReturn: No return detection
- XMP-tiff
- XMP-xmp
- CreateDate: 2007:08:24 15:37:39+12:00
- ModifyDate: 2007:08:24 15:37:39+12:00
- Rating: 0
- XMP-xmpMM
- DerivedFrom:
- Просмотров: 410
- Рейтинг: голосов еще нет
- Отзывов: 0