- Раздел: Другое, разное
- Дата съёмки: неизвестно
- Дата загрузки фото: 23.12.2019 22:29
- Оригинальная фотография: 5472 x 3648 (6,8 Мб)
- Технические характеристики:
- Фотоаппарат: Samsung NX30
- Выдержка: 6,0
- Гиперфокальное расстояние: inf m
- Диафрагма: 5,6
- Светочувствительность: 100
- Фокусное расстояние: 30,0 mm (35 mm equivalent: 30,0 mm)
- Полный EXIF
- Adobe
- ColorTransform: YCbCr
- Composite
- Aperture: 5,6
- CircleOfConfusion: 0,020 mm
- FOV: 61,0 deg
- FocalLength35efl: 30,0 mm (35 mm equivalent: 30,0 mm)
- HyperfocalDistance: inf m
- LensID: Samsung NX 30mm F2 Pancake
- LightValue: 2,1
- Megapixels: 20,0
- ScaleFactor35efl: 1,5
- ShutterSpeed: 6,0
- ExifIFD
- ApertureValue: 4,0
- ColorSpace: sRGB
- Contrast: Normal
- DateTimeOriginal: 2019:12:22 15:53:24
- DigitalZoomRatio: 1
- ExposureCompensation: 0
- ExposureMode: Unknown (3)
- ExposureProgram: Aperture-priority AE
- ExposureTime: 6,0
- FNumber: 5,6
- Flash: No Flash
- FocalLength: 30,0 mm
- FocalLengthIn35mmFormat: 46 mm
- ISO: 100
- LensInfo: 30mm f/2
- LensModel: Samsung 30mm f/2
- LensSerialNumber: 316900050933
- LightSource: Unknown
- MeteringMode: Spot
- Saturation: Normal
- SceneCaptureType: Standard
- SerialNumber: 0
- Sharpness: Normal
- ShutterSpeedValue: 4,0
- WhiteBalance: Auto
- ICC-header
- ICC-meas
- ICC-view
- IFD0
- Artist: Александр Латышев
- Make: SAMSUNG
- Model: NX30
- ModifyDate: 2019:12:23 22:09:16
- IFD1
- IPTC
- By-line: Александр Латыше
- DateCreated: 2019:12:22
- System
- XMP-aux
- DistortionCorrectionAlreadyApplied: True
- Firmware: 1.31
- LateralChromaticAberrationCorrectionAlreadyApplied: True
- Lens: Samsung 30mm f/2
- LensID: 1
- VignetteCorrectionAlreadyApplied: True
- XMP-crs
- AlreadyApplied: True
- AutoLateralCA: 1
- Blacks2012: -34
- BlueHue: 0
- BlueSaturation: 0
- CameraProfile: NX30_30
- Clarity2012: 0
- ColorNoiseReduction: 25
- ColorNoiseReductionDetail: 50
- ColorNoiseReductionSmoothness: 50
- ColorTemperature: 18000
- Contrast2012: +5
- ConvertToGrayscale: False
- DefringeGreenAmount: 3
- DefringeGreenHueHi: 60
- DefringeGreenHueLo: 40
- DefringePurpleAmount: 3
- DefringePurpleHueHi: 70
- DefringePurpleHueLo: 30
- Dehaze: +22
- Exposure2012: +0.01
- GradientBasedCorrActive: true
- GradientBasedCorrAmount: 1.000000
- GradientBasedCorrBrightness: 0.000000
- GradientBasedCorrClarity: 0.000000
- GradientBasedCorrClarity2012: 0.000000
- GradientBasedCorrContrast: 0.000000
- GradientBasedCorrContrast2012: 0.000000
- GradientBasedCorrCorrectionRangeMaskAreaModelsAreaComponents: 0.454017 0.675235 0.598405 0.055601, 0.519120 0.688731 0.598817 0.066431, 0.584222 0.682200 0.609209 0.095482, 0.649325 0.684085 0.615702 0.082752, 0.714427 0.695705 0.618463 0.073185, 0.645289 0.733867 0.511315 0.022304, 0.700648 0.745846 0.506798 0.122527, 0.756008 0.784405 0.487976 0.187278, 0.811368 0.763935 0.444831 0.268945, 0.866728 0.702350 0.401541 0.129501
- GradientBasedCorrCorrectionRangeMaskAreaModelsAreaPosition: 0.508688 0.338099 0
- GradientBasedCorrCorrectionRangeMaskColorAmount: 0.000000
- GradientBasedCorrCorrectionRangeMaskDepthFeather: 0.500000
- GradientBasedCorrCorrectionRangeMaskDepthMax: 1.000000
- GradientBasedCorrCorrectionRangeMaskDepthMin: 0.000000
- GradientBasedCorrCorrectionRangeMaskLumFeather: 0.500000
- GradientBasedCorrCorrectionRangeMaskLumMax: 1.000000
- GradientBasedCorrCorrectionRangeMaskLumMin: 0.000000
- GradientBasedCorrCorrectionRangeMaskType: +1
- GradientBasedCorrCorrectionRangeMaskVersion: +2
- GradientBasedCorrDefringe: 0.000000
- GradientBasedCorrExposure: 0.000000
- GradientBasedCorrExposure2012: 0.000000
- GradientBasedCorrHighlights2012: 0.000000
- GradientBasedCorrHue: 230.000000
- GradientBasedCorrLocalBlacks2012: 0.000000
- GradientBasedCorrLocalDehaze: -0.240000
- GradientBasedCorrLocalTexture: -1.000000
- GradientBasedCorrLocalWhites2012: 0.000000
- GradientBasedCorrLuminanceNoise: 0.000000
- GradientBasedCorrMaskFullX: 1.002950
- GradientBasedCorrMaskFullY: 0.425275
- GradientBasedCorrMaskValue: 1.000000
- GradientBasedCorrMaskWhat: Mask/Gradient
- GradientBasedCorrMaskZeroX: 1.053732
- GradientBasedCorrMaskZeroY: 0.425475
- GradientBasedCorrMoire: 0.000000
- GradientBasedCorrSaturation: 0.000000
- GradientBasedCorrShadows2012: 0.000000
- GradientBasedCorrSharpness: 0.000000
- GradientBasedCorrTemperature: 0.000000
- GradientBasedCorrTint: 0.000000
- GradientBasedCorrWhat: Correction
- GrainAmount: 0
- GreenHue: 0
- GreenSaturation: 0
- HasCrop: False
- HasSettings: True
- Highlights2012: -71
- HueAdjustmentAqua: 0
- HueAdjustmentBlue: 0
- HueAdjustmentGreen: 0
- HueAdjustmentMagenta: 0
- HueAdjustmentOrange: 0
- HueAdjustmentPurple: 0
- HueAdjustmentRed: 0
- HueAdjustmentYellow: 0
- LensManualDistortionAmount: 0
- LensProfileChromaticAberrationScale: 100
- LensProfileDistortionScale: 100
- LensProfileEnable: 1
- LensProfileFilename: Samsung NX10 (Samsung 30mm f2) - RAW.lcp
- LensProfileSetup: LensDefaults
- LensProfileVignettingScale: 100
- LookName:
- LuminanceAdjustmentAqua: 0
- LuminanceAdjustmentBlue: 0
- LuminanceAdjustmentGreen: 0
- LuminanceAdjustmentMagenta: 0
- LuminanceAdjustmentOrange: 0
- LuminanceAdjustmentPurple: 0
- LuminanceAdjustmentRed: 0
- LuminanceAdjustmentYellow: 0
- LuminanceSmoothing: 0
- OverrideLookVignette: False
- ParametricDarks: 0
- ParametricHighlightSplit: 75
- ParametricHighlights: 0
- ParametricLights: 0
- ParametricMidtoneSplit: 50
- ParametricShadowSplit: 25
- ParametricShadows: 0
- PerspectiveAspect: 0
- PerspectiveHorizontal: 0
- PerspectiveRotate: 0.0
- PerspectiveScale: 100
- PerspectiveUpright: 5
- PerspectiveVertical: 0
- PerspectiveX: 0.00
- PerspectiveY: 0.00
- PostCropVignetteAmount: 0
- ProcessVersion: 11.0
- RangeMaskMapInfoRangeMaskMapInfoLabMax: 0.989944 0.554894 0.559182
- RangeMaskMapInfoRangeMaskMapInfoLabMin: 0.000275 0.438087 0.358190
- RangeMaskMapInfoRangeMaskMapInfoRGBMax: 0.445396 0.511955 0.876310
- RangeMaskMapInfoRangeMaskMapInfoRGBMin: 0.002777 0.002686 0.005951
- RawFileName: _C220001 155326.dng
- RedHue: 0
- RedSaturation: 0
- Saturation: +4
- SaturationAdjustmentAqua: 0
- SaturationAdjustmentBlue: 0
- SaturationAdjustmentGreen: 0
- SaturationAdjustmentMagenta: 0
- SaturationAdjustmentOrange: 0
- SaturationAdjustmentPurple: 0
- SaturationAdjustmentRed: 0
- SaturationAdjustmentYellow: 0
- ShadowTint: 0
- Shadows2012: +16
- SharpenDetail: 25
- SharpenEdgeMasking: 0
- SharpenRadius: +1.0
- Sharpness: 0
- SplitToningBalance: 0
- SplitToningHighlightHue: 0
- SplitToningHighlightSaturation: 0
- SplitToningShadowHue: 0
- SplitToningShadowSaturation: 0
- Texture: +24
- Tint: +18
- ToneCurve: 0, 0, 32, 22, 64, 56, 128, 128, 192, 196, 255, 255
- ToneCurveBlue: 0, 0, 255, 255
- ToneCurveGreen: 0, 0, 255, 255
- ToneCurveName: Medium Contrast
- ToneCurveName2012: Custom
- ToneCurvePV2012: 0, 0, 16, 9, 101, 102, 136, 127, 168, 151, 203, 182, 255, 255
- ToneCurvePV2012Blue: 0, 0, 255, 255
- ToneCurvePV2012Green: 0, 0, 255, 255
- ToneCurvePV2012Red: 0, 0, 255, 255
- ToneCurveRed: 0, 0, 255, 255
- ToneMapStrength: 0
- Version: 12.1
- Vibrance: +20
- VignetteAmount: 0
- WhiteBalance: Custom
- Whites2012: 0
- XMP-dc
- Creator: Александр Латышев
- Format: image/jpeg
- XMP-xmp
- ModifyDate: 2019:12:23 22:09:16+03:00
- XMP-xmpMM
- PreservedFileName: _C220001.SRW
- Просмотров: 272
- Рейтинг: голосов еще нет
- Отзывов: 0