- Раздел: Другое, разное
- Дата съёмки: неизвестно
- Дата загрузки фото: 30.01.2020 23:34
- Оригинальная фотография: 4962 x 3308 (5,1 Мб)
- Технические характеристики:
- Фотоаппарат: Panasonic DC-G9
- Выдержка: 0,0
- Гиперфокальное расстояние: inf m
- Диафрагма: 3,5
- Светочувствительность: 200
- Фокусное расстояние: 100,0 mm (35 mm equivalent: 200,0 mm)
- Полный EXIF
- Adobe
- ColorTransform: YCbCr
- Composite
- Aperture: 3,5
- CircleOfConfusion: 0,015 mm
- FOV: 10,0 deg
- FocalLength35efl: 100,0 mm (35 mm equivalent: 200,0 mm)
- HyperfocalDistance: inf m
- Megapixels: 16,4
- ScaleFactor35efl: 2,0
- ShutterSpeed: 0,0
- ExifIFD
- ApertureValue: 2,8
- ColorSpace: sRGB
- Contrast: Low
- CreateDate: 2020:01:30 13:17:49
- CustomRendered: Custom
- DateTimeOriginal: 2020:01:30 13:17:49
- DigitalZoomRatio: 0
- ExifImageHeight: 3308
- ExifImageWidth: 4962
- ExposureCompensation: 0
- ExposureMode: Auto
- ExposureProgram: Aperture-priority AE
- ExposureTime: 0,0
- FNumber: 3,5
- Flash: Off, Did not fire
- FocalLength: 100,0 mm
- FocalLengthIn35mmFormat: 200 mm
- GainControl: Low gain up
- ISO: 200
- LensModel: LUMIX G VARIO 35-100/F2.8II
- LensSerialNumber: 0JG7CA101670
- LightSource: Unknown
- MaxApertureValue: 2,8
- MeteringMode: Multi-segment
- Saturation: Low
- SceneCaptureType: Standard
- SceneType: Directly photographed
- SensingMethod: One-chip color area
- SerialNumber: XER1801080085
- Sharpness: Hard
- ShutterSpeedValue: 1/1024
- WhiteBalance: Auto
- ICC-header
- ICC-meas
- ICC-view
- IFD0
- Make: Panasonic
- Model: DC-G9
- ModifyDate: 2020:01:30 22:33:31
- Orientation: Horizontal (normal)
- IFD1
- IPTC
- DateCreated: 2020:01:30
- System
- XMP-aux
- DistortionCorrectionAlreadyApplied: True
- LateralChromaticAberrationCorrectionAlreadyApplied: True
- Lens: LUMIX G VARIO 35-100/F2.8II
- XMP-crs
- AlreadyApplied: True
- AutoLateralCA: 1
- Blacks2012: +95
- BlueHue: 0
- BlueSaturation: +37
- Clarity2012: +6
- ColorNoiseReduction: 15
- ColorNoiseReductionDetail: 50
- ColorNoiseReductionSmoothness: 50
- ColorTemperature: 5450
- Contrast2012: -63
- ConvertToGrayscale: False
- CropAngle: -1.655487
- CropBottom: 0.850468
- CropConstrainToWarp: 1
- CropHeight: 3
- CropLeft: -0
- CropRight: 0.975211
- CropTop: 0.03687
- CropUnit: Unknown (3)
- CropWidth: 2
- DefringeGreenAmount: 0
- DefringeGreenHueHi: 60
- DefringeGreenHueLo: 40
- DefringePurpleAmount: 0
- DefringePurpleHueHi: 70
- DefringePurpleHueLo: 30
- Dehaze: +20
- Exposure2012: +1.05
- GrainAmount: 0
- GreenHue: 0
- GreenSaturation: +76
- HasCrop: True
- HasSettings: True
- Highlights2012: -36
- HueAdjustmentAqua: +29
- HueAdjustmentBlue: +7
- HueAdjustmentGreen: +16
- HueAdjustmentMagenta: +21
- HueAdjustmentOrange: 0
- HueAdjustmentPurple: +21
- HueAdjustmentRed: +17
- HueAdjustmentYellow: -19
- LensManualDistortionAmount: 0
- LensProfileEnable: 0
- LensProfileSetup: LensDefaults
- LuminanceAdjustmentAqua: 0
- LuminanceAdjustmentBlue: 0
- LuminanceAdjustmentGreen: 0
- LuminanceAdjustmentMagenta: 0
- LuminanceAdjustmentOrange: 0
- LuminanceAdjustmentPurple: 0
- LuminanceAdjustmentRed: 0
- LuminanceAdjustmentYellow: 0
- LuminanceNoiseReductionContrast: 0
- LuminanceNoiseReductionDetail: 50
- LuminanceSmoothing: 13
- OverrideLookVignette: True
- ParametricDarks: +30
- ParametricHighlightSplit: 75
- ParametricHighlights: 0
- ParametricLights: 0
- ParametricMidtoneSplit: 50
- ParametricShadowSplit: 25
- ParametricShadows: -42
- PerspectiveAspect: 0
- PerspectiveHorizontal: 0
- PerspectiveRotate: 0.0
- PerspectiveScale: 100
- PerspectiveUpright: 0
- PerspectiveVertical: 0
- PerspectiveX: 0.00
- PerspectiveY: 0.00
- PostCropVignetteAmount: -1
- PostCropVignetteFeather: 93
- PostCropVignetteHighlightContrast: 92
- PostCropVignetteMidpoint: 0
- PostCropVignetteRoundness: -12
- PostCropVignetteStyle: 1
- ProcessVersion: 11.0
- RedHue: +10
- RedSaturation: -20
- Saturation: -8
- SaturationAdjustmentAqua: -50
- SaturationAdjustmentBlue: -25
- SaturationAdjustmentGreen: -51
- SaturationAdjustmentMagenta: -12
- SaturationAdjustmentOrange: -24
- SaturationAdjustmentPurple: -20
- SaturationAdjustmentRed: -21
- SaturationAdjustmentYellow: -7
- ShadowTint: -16
- Shadows2012: +40
- SharpenDetail: 25
- SharpenEdgeMasking: 8
- SharpenRadius: +1.3
- Sharpness: 41
- SplitToningBalance: +50
- SplitToningHighlightHue: 54
- SplitToningHighlightSaturation: 0
- SplitToningShadowHue: 240
- SplitToningShadowSaturation: 21
- Texture: -6
- Tint: +16
- ToneCurve: 0, 0, 32, 22, 64, 56, 128, 128, 192, 196, 255, 255
- ToneCurveBlue: 0, 0, 255, 255
- ToneCurveGreen: 0, 0, 255, 255
- ToneCurveName: Medium Contrast
- ToneCurveName2012: Custom
- ToneCurvePV2012: 2, 14, 61, 55, 209, 206, 255, 244
- ToneCurvePV2012Blue: 0, 22, 36, 42, 202, 199, 255, 250
- ToneCurvePV2012Green: 0, 0, 255, 255
- ToneCurvePV2012Red: 0, 0, 255, 255
- ToneCurveRed: 0, 0, 255, 255
- ToneMapStrength: 0
- Version: 12.1
- Vibrance: +13
- VignetteAmount: 0
- WhiteBalance: Custom
- Whites2012: +30
- XMP-dc
- XMP-exifEX
- XMP-xmp
- ModifyDate: 2020:01:30 22:33:31+02:00
- Rating: 0
- XMP-xmpMM
- Просмотров: 146
- Рейтинг: голосов еще нет
- Отзывов: отключены