- Раздел: Другое, разное
- Дата съёмки: неизвестно
- Дата загрузки фото: 23.12.2021 14:08
- Оригинальная фотография: 4608 x 2892 (1,7 Мб)
- Технические характеристики:
- Фотоаппарат: Olympus E-PL6
- Выдержка: 0,0
- Гиперфокальное расстояние: inf m
- Диафрагма: 6,3
- Светочувствительность: 200
- Фокусное расстояние: 17,0 mm (35 mm equivalent: 34,0 mm)
- Полный EXIF
- Adobe
- ColorTransform: YCbCr
- Composite
- Aperture: 6,3
- CircleOfConfusion: 0,015 mm
- FOV: 55,0 deg
- FocalLength35efl: 17,0 mm (35 mm equivalent: 34,0 mm)
- HyperfocalDistance: inf m
- Megapixels: 13,3
- ScaleFactor35efl: 2,0
- ShutterSpeed: 0,0
- ExifIFD
- ApertureValue: 5,7
- CFAPattern: [Red,Green][Green,Blue]
- ColorSpace: sRGB
- Contrast: Normal
- CreateDate: 2021:12:04 13:12:44
- CustomRendered: Normal
- DateTimeOriginal: 2021:12:04 13:12:44
- DigitalZoomRatio: 1
- ExifImageHeight: 2892
- ExifImageWidth: 4608
- ExposureCompensation: 0
- ExposureMode: Auto
- ExposureProgram: Aperture-priority AE
- ExposureTime: 0,0
- FNumber: 6,3
- Flash: Auto, Did not fire
- FocalLength: 17,0 mm
- FocalLengthIn35mmFormat: 34 mm
- GainControl: Low gain up
- ISO: 200
- LensInfo: 14-150mm f/4-5.6
- LensModel: OLYMPUS M.14-150mm F4.0-5.6
- LensSerialNumber: AAK247491
- LightSource: Unknown
- MaxApertureValue: 4,0
- MeteringMode: Multi-segment
- Saturation: Normal
- SceneCaptureType: Standard
- SensitivityType: Standard Output Sensitivity
- SerialNumber: V5TF41167
- Sharpness: Normal
- ShutterSpeedValue: 1/1024
- WhiteBalance: Auto
- ICC-header
- ICC-meas
- ICC-view
- IFD0
- BitsPerSample: 8 8 8
- ImageDescription: OLYMPUS DIGITAL CAMERA
- ImageHeight: 2892
- ImageWidth: 4608
- Make: OLYMPUS IMAGING CORP.
- Model: E-PL6
- ModifyDate: 2021:12:05 14:48:00
- Orientation: Horizontal (normal)
- PhotometricInterpretation: RGB
- SamplesPerPixel: 3
- IFD1
- IPTC
- Caption-Abstract: OLYMPUS DIGITAL CAMERA
- DateCreated: 2021:12:04
- System
- XMP-aux
- ApproximateFocusDistance: 4294967295
- DistortionCorrectionAlreadyApplied: True
- FlashCompensation: 0
- Lens: OLYMPUS M.14-150mm F4.0-5.6
- XMP-crs
- AlreadyApplied: True
- AutoLateralCA: 0
- Blacks2012: -29
- BlueHue: 0
- BlueSaturation: 0
- Clarity2012: +15
- ColorNoiseReduction: 25
- ColorNoiseReductionDetail: 50
- ColorNoiseReductionSmoothness: 50
- ColorTemperature: 5982
- Contrast2012: +7
- ConvertToGrayscale: False
- CropAngle: 0
- CropBottom: 0.887942
- CropConstrainToWarp: 0
- CropLeft: 0
- CropRight: 1
- CropTop: 0.051157
- DefringeGreenAmount: 0
- DefringeGreenHueHi: 60
- DefringeGreenHueLo: 40
- DefringePurpleAmount: 0
- DefringePurpleHueHi: 70
- DefringePurpleHueLo: 30
- Dehaze: 0
- Exposure2012: +0.39
- GrainAmount: 0
- GreenHue: 0
- GreenSaturation: 0
- HasCrop: True
- HasSettings: True
- Highlights2012: -64
- HueAdjustmentAqua: 0
- HueAdjustmentBlue: 0
- HueAdjustmentGreen: 0
- HueAdjustmentMagenta: 0
- HueAdjustmentOrange: 0
- HueAdjustmentPurple: 0
- HueAdjustmentRed: 0
- HueAdjustmentYellow: 0
- LensManualDistortionAmount: 0
- LensProfileEnable: 0
- LensProfileSetup: LensDefaults
- LookAmount: 1.000000
- LookGroup: Profiles
- LookParametersConvertToGrayscale: False
- LookParametersLookTable: E1095149FDB39D7A057BAB208837E2E1
- LookParametersProcessVersion: 11.0
- LookParametersToneCurvePV2012: 0, 0, 22, 16, 40, 35, 127, 127, 224, 230, 240, 246, 255, 255
- LookParametersToneCurvePV2012Blue: 0, 0, 255, 255
- LookParametersToneCurvePV2012Green: 0, 0, 255, 255
- LookParametersToneCurvePV2012Red: 0, 0, 255, 255
- LookParametersVersion: 12.4
- LookSupportsAmount: false
- LookSupportsMonochrome: false
- LookSupportsOutputReferred: false
- LuminanceAdjustmentAqua: 0
- LuminanceAdjustmentBlue: 0
- LuminanceAdjustmentGreen: 0
- LuminanceAdjustmentMagenta: 0
- LuminanceAdjustmentOrange: 0
- LuminanceAdjustmentPurple: 0
- LuminanceAdjustmentRed: 0
- LuminanceAdjustmentYellow: 0
- LuminanceSmoothing: 0
- OverrideLookVignette: False
- ParametricDarks: 0
- ParametricHighlightSplit: 75
- ParametricHighlights: 0
- ParametricLights: 0
- ParametricMidtoneSplit: 50
- ParametricShadowSplit: 25
- ParametricShadows: 0
- PerspectiveAspect: 0
- PerspectiveHorizontal: 0
- PerspectiveRotate: 0.0
- PerspectiveScale: 100
- PerspectiveUpright: 1
- PerspectiveVertical: 0
- PerspectiveX: 0.00
- PerspectiveY: 0.00
- PostCropVignetteAmount: 0
- ProcessVersion: 11.0
- RawFileName: PC043447.ORF
- RedHue: 0
- RedSaturation: 0
- Saturation: +1
- SaturationAdjustmentAqua: 0
- SaturationAdjustmentBlue: 0
- SaturationAdjustmentGreen: 0
- SaturationAdjustmentMagenta: 0
- SaturationAdjustmentOrange: 0
- SaturationAdjustmentPurple: 0
- SaturationAdjustmentRed: 0
- SaturationAdjustmentYellow: 0
- ShadowTint: 0
- Shadows2012: +58
- SharpenDetail: 25
- SharpenEdgeMasking: 0
- SharpenRadius: +1.0
- Sharpness: 40
- SplitToningBalance: 0
- SplitToningHighlightHue: 0
- SplitToningHighlightSaturation: 0
- SplitToningShadowHue: 0
- SplitToningShadowSaturation: 0
- Texture: 0
- Tint: +7
- ToneCurve: 0, 0, 255, 255
- ToneCurveBlue: 0, 0, 255, 255
- ToneCurveGreen: 0, 0, 255, 255
- ToneCurveName: Linear
- ToneCurveName2012: Linear
- ToneCurvePV2012: 0, 0, 255, 255
- ToneCurvePV2012Blue: 0, 0, 255, 255
- ToneCurvePV2012Green: 0, 0, 255, 255
- ToneCurvePV2012Red: 0, 0, 255, 255
- ToneCurveRed: 0, 0, 255, 255
- ToneMapStrength: 0
- Version: 12.4
- Vibrance: +9
- VignetteAmount: 0
- WhiteBalance: Custom
- Whites2012: +15
- XMP-dc
- Description: OLYMPUS DIGITAL CAMERA
- Format: image/jpeg
- XMP-exifEX
- XMP-xmp
- ModifyDate: 2021:12:05 14:48+02:00
- XMP-xmpMM
- PreservedFileName: PC043447.ORF
- Просмотров: 65
- Рейтинг: голосов еще нет
- Отзывов: отключены