- Раздел: Другое, разное
- Дата съёмки: неизвестно
- Дата загрузки фото: 07.01.2022 22:28
- Оригинальная фотография: 6000 x 3600 (4,4 Мб)
- Технические характеристики:
- Фотоаппарат: LEICA CAMERA AG LEICA Q (Typ 116)
- Выдержка: 0,0
- Гиперфокальное расстояние: inf m
- Диафрагма: 2,8
- Светочувствительность: 100
- Фокусное расстояние: 28,0 mm (35 mm equivalent: 28,0 mm)
- Экспокоррекция: -2
- Полный EXIF
- Adobe
- ColorTransform: YCbCr
- Composite
- Aperture: 2,8
- CircleOfConfusion: 0,030 mm
- FOV: 65,0 deg
- FocalLength35efl: 28,0 mm (35 mm equivalent: 28,0 mm)
- HyperfocalDistance: inf m
- Megapixels: 21,6
- ScaleFactor35efl: 1,0
- ShutterSpeed: 0,0
- ExifIFD
- ApertureValue: 2,0
- ColorSpace: sRGB
- Contrast: Normal
- CreateDate: 2022:01:06 17:29:16
- CustomRendered: Normal
- DateTimeOriginal: 2022:01:06 17:29:16
- DigitalZoomRatio: 1
- ExposureCompensation: -2
- ExposureProgram: Manual
- ExposureTime: 0,0
- FNumber: 2,8
- Flash: Off, Did not fire
- FocalLength: 28,0 mm
- FocalLengthIn35mmFormat: 28 mm
- ISO: 100
- LensInfo: 28mm f/1.53125
- LensMake: LEICA CAMERA AG
- LensModel: 28.0 mm f/1.7
- LensSerialNumber: N/A
- LightSource: Unknown
- MaxApertureValue: 1,4
- MeteringMode: Center-weighted average
- Saturation: Normal
- SceneCaptureType: Standard
- SensingMethod: One-chip color area
- SensitivityType: Standard Output Sensitivity
- SerialNumber: 5146633
- Sharpness: Soft
- ShutterSpeedValue: 1/8
- WhiteBalance: Auto
- ICC-header
- ICC-meas
- ICC-view
- IFD0
- Make: LEICA CAMERA AG
- Model: LEICA Q (Typ 116)
- ModifyDate: 2022:01:07 22:13:20
- IFD1
- IPTC
- DateCreated: 2022:01:06
- System
- XMP-aux
- DistortionCorrectionAlreadyApplied: True
- LateralChromaticAberrationCorrectionAlreadyApplied: True
- Lens: 28.0 mm f/1.7
- XMP-crs
- AlreadyApplied: True
- AutoLateralCA: 0
- AutoWhiteVersion: 134348800
- Blacks2012: -8
- BlueHue: 0
- BlueSaturation: 0
- CameraProfile: Embedded
- Clarity2012: 0
- ColorGradeBlending: 50
- ColorGradeGlobalHue: 0
- ColorGradeGlobalLum: 0
- ColorGradeGlobalSat: 0
- ColorGradeHighlightLum: 0
- ColorGradeMidtoneHue: 0
- ColorGradeMidtoneLum: 0
- ColorGradeMidtoneSat: 0
- ColorGradeShadowLum: 0
- ColorNoiseReduction: 0
- CompatibleVersion: 234881024
- Contrast2012: +7
- ConvertToGrayscale: False
- CropAngle: 0
- CropBottom: 1
- CropConstrainToWarp: 0
- CropLeft: 0
- CropRight: 1
- CropTop: 0
- DefringeGreenAmount: 0
- DefringeGreenHueHi: 60
- DefringeGreenHueLo: 40
- DefringePurpleAmount: 0
- DefringePurpleHueHi: 70
- DefringePurpleHueLo: 30
- Dehaze: 0
- Exposure2012: -0.05
- GrainAmount: 0
- GreenHue: 0
- GreenSaturation: 0
- HasCrop: False
- HasSettings: True
- Highlights2012: -23
- HueAdjustmentAqua: 0
- HueAdjustmentBlue: 0
- HueAdjustmentGreen: 0
- HueAdjustmentMagenta: 0
- HueAdjustmentOrange: 0
- HueAdjustmentPurple: 0
- HueAdjustmentRed: 0
- HueAdjustmentYellow: 0
- IncrementalTemperature: -50
- IncrementalTint: -24
- LensManualDistortionAmount: 0
- LensProfileEnable: 0
- LuminanceAdjustmentAqua: 0
- LuminanceAdjustmentBlue: 0
- LuminanceAdjustmentGreen: 0
- LuminanceAdjustmentMagenta: 0
- LuminanceAdjustmentOrange: 0
- LuminanceAdjustmentPurple: 0
- LuminanceAdjustmentRed: 0
- LuminanceAdjustmentYellow: 0
- LuminanceSmoothing: 0
- OverrideLookVignette: False
- ParametricDarks: 0
- ParametricHighlightSplit: 75
- ParametricHighlights: 0
- ParametricLights: 0
- ParametricMidtoneSplit: 50
- ParametricShadowSplit: 25
- ParametricShadows: 0
- PerspectiveAspect: 0
- PerspectiveHorizontal: 0
- PerspectiveRotate: 0.0
- PerspectiveScale: 100
- PerspectiveUpright: 0
- PerspectiveVertical: 0
- PerspectiveX: 0.00
- PerspectiveY: 0.00
- PostCropVignetteAmount: 0
- ProcessVersion: 11.0
- RangeMaskMapInfoRangeMaskMapInfoLabMax: 0.997543 0.681453 0.815122
- RangeMaskMapInfoRangeMaskMapInfoLabMin: 0.000549 0.410330 0.379828
- RangeMaskMapInfoRangeMaskMapInfoRGBMax: 0.886137 0.868940 0.854597
- RangeMaskMapInfoRangeMaskMapInfoRGBMin: 0.000214 0.000092 0.000031
- RawFileName: 1461284.jpg
- RedHue: 0
- RedSaturation: 0
- Saturation: 0
- SaturationAdjustmentAqua: 0
- SaturationAdjustmentBlue: 0
- SaturationAdjustmentGreen: 0
- SaturationAdjustmentMagenta: 0
- SaturationAdjustmentOrange: 0
- SaturationAdjustmentPurple: 0
- SaturationAdjustmentRed: 0
- SaturationAdjustmentYellow: 0
- ShadowTint: 0
- Shadows2012: +49
- Sharpness: 0
- SplitToningBalance: 0
- SplitToningHighlightHue: 0
- SplitToningHighlightSaturation: 0
- SplitToningShadowHue: 0
- SplitToningShadowSaturation: 0
- Texture: 0
- ToneCurveName2012: Linear
- ToneCurvePV2012: 0, 0, 255, 255
- ToneCurvePV2012Blue: 0, 0, 255, 255
- ToneCurvePV2012Green: 0, 0, 255, 255
- ToneCurvePV2012Red: 0, 0, 255, 255
- Version: 14.1
- Vibrance: +15
- VignetteAmount: 0
- Whites2012: 0
- XMP-dc
- XMP-exifEX
- XMP-rdf
- XMP-xmp
- ModifyDate: 2022:01:07 22:13:20+03:00
- XMP-xmpMM
- PreservedFileName: L1020300.DNG
- Просмотров: 85
- Рейтинг: голосов еще нет
- Отзывов: отключены