- Раздел: Автомобили
- Дата съёмки: неизвестно
- Дата загрузки фото: 10.04.2022 17:56
- Оригинальная фотография: 1600 x 900 (786 Кб)
- Технические характеристики:
- Фотоаппарат: Canon EOS 5D Mark IV
- Выдержка: 0,0
- Гиперфокальное расстояние: inf m
- Диафрагма: 10,0
- Светочувствительность: 200
- Фокусное расстояние: 46,0 mm (35 mm equivalent: 184,0 mm)
- Полный EXIF
- Composite
- Aperture: 10,0
- CircleOfConfusion: 0,007 mm
- FOV: 11,0 deg
- FocalLength35efl: 46,0 mm (35 mm equivalent: 184,0 mm)
- GPSAltitude: 142 m Above Sea Level
- GPSDateTime: 2021:09:13 11:41:50Z
- GPSLatitude: 47 deg 29' 58,00" N
- GPSLongitude: 19 deg 6' 14,00" E
- GPSPosition: 47 deg 29' 58,00" N, 19 deg 6' 14,00" E
- HyperfocalDistance: inf m
- LensID: Canon EF 300mm f/2.8L IS II USM
- Megapixels: 1,4
- ScaleFactor35efl: 4,4
- ShutterSpeed: 0,0
- ExifIFD
- ApertureValue: 8,0
- ColorSpace: Uncalibrated
- CreateDate: 2021:09:13 14:42:04
- CustomRendered: Normal
- DateTimeOriginal: 2021:09:13 14:42:04
- ExifImageHeight: 900
- ExifImageWidth: 1600
- ExposureCompensation: 0
- ExposureMode: Manual
- ExposureProgram: Manual
- ExposureTime: 0,0
- FNumber: 10,0
- Flash: Off, Did not fire
- FocalLength: 46,0 mm
- ISO: 200
- LensInfo: 24-70mm f/0
- LensModel: TAMRON SP 24-70mm F/2.8 Di VC USD G2 A032
- LensSerialNumber: 0000000000
- MaxApertureValue: 2,8
- MeteringMode: Multi-segment
- RecommendedExposureIndex: 200
- SceneCaptureType: Standard
- SensitivityType: Recommended Exposure Index
- SerialNumber: 033022010134
- ShutterSpeedValue: 1/256
- WhiteBalance: Auto
- GPS
- GPSAltitude: 142,3 m
- GPSAltitudeRef: Above Sea Level
- GPSDOP: 4,3
- GPSDateStamp: 2021:09:13
- GPSLatitude: 47 deg 29' 58,00"
- GPSLatitudeRef: North
- GPSLongitude: 19 deg 6' 14,00"
- GPSLongitudeRef: East
- GPSMapDatum: WGS-84
- GPSMeasureMode: 3-Dimensional Measurement
- GPSSatellites: 5
- GPSStatus: Measurement Active
- GPSTimeStamp: 11:41:50
- GPSVersionID: 2.3.0.0
- ICC-header
- IFD0
- Artist: Аркадий Новожилов
- Copyright: ARiCK photo
- Make: Canon
- Model: Canon EOS 5D Mark IV
- ModifyDate: 2022:02:12 00:20:12
- Orientation: Horizontal (normal)
- Software: ACDSee Ultimate 2021
- IFD1
- IPTC
- By-line: Аркадий Новожилов
- CopyrightNotice: ARiCK photo
- System
- XMP-aux
- ApproximateFocusDistance: 22,9
- Firmware: 1.2.1
- FlashCompensation: 0
- ImageNumber: 0
- Lens: TAMRON SP 24-70mm F/2.8 Di VC USD G2 A032
- LensID: 491
- LensInfo: 24-70mm f/?
- XMP-crs
- AlreadyApplied: True
- AutoLateralCA: 0
- Blacks2012: -25
- BlueHue: 0
- BlueSaturation: 0
- Clarity2012: 0
- ColorGradeBlending: 50
- ColorGradeGlobalHue: 0
- ColorGradeGlobalLum: 0
- ColorGradeGlobalSat: 0
- ColorGradeHighlightLum: 0
- ColorGradeMidtoneHue: 0
- ColorGradeMidtoneLum: 0
- ColorGradeMidtoneSat: 0
- ColorGradeShadowLum: 0
- ColorNoiseReduction: 25
- ColorNoiseReductionDetail: 50
- ColorNoiseReductionSmoothness: 50
- ColorTemperature: 5050
- Contrast2012: +7
- DefringeGreenAmount: 0
- DefringeGreenHueHi: 60
- DefringeGreenHueLo: 40
- DefringePurpleAmount: 0
- DefringePurpleHueHi: 70
- DefringePurpleHueLo: 30
- Dehaze: 0
- Exposure2012: +0.11
- GrainAmount: 0
- GreenHue: 0
- GreenSaturation: 0
- HasCrop: False
- HasSettings: True
- Highlights2012: -58
- HueAdjustmentAqua: 0
- HueAdjustmentBlue: 0
- HueAdjustmentGreen: 0
- HueAdjustmentMagenta: 0
- HueAdjustmentOrange: 0
- HueAdjustmentPurple: 0
- HueAdjustmentRed: 0
- HueAdjustmentYellow: 0
- LensManualDistortionAmount: 0
- LensProfileEnable: 0
- LookAmount: 1.000000
- LookGroup: Profiles
- LookParametersConvertToGrayscale: False
- LookParametersLookTable: E1095149FDB39D7A057BAB208837E2E1
- LookParametersProcessVersion: 11.0
- LookParametersToneCurvePV2012: 0, 0, 22, 16, 40, 35, 127, 127, 224, 230, 240, 246, 255, 255
- LookParametersToneCurvePV2012Blue: 0, 0, 255, 255
- LookParametersToneCurvePV2012Green: 0, 0, 255, 255
- LookParametersToneCurvePV2012Red: 0, 0, 255, 255
- LookParametersVersion: 13.2
- LookSupportsAmount: false
- LookSupportsMonochrome: false
- LookSupportsOutputReferred: false
- LuminanceAdjustmentAqua: 0
- LuminanceAdjustmentBlue: 0
- LuminanceAdjustmentGreen: 0
- LuminanceAdjustmentMagenta: 0
- LuminanceAdjustmentOrange: 0
- LuminanceAdjustmentPurple: 0
- LuminanceAdjustmentRed: 0
- LuminanceAdjustmentYellow: 0
- LuminanceNoiseReductionContrast: 0
- LuminanceNoiseReductionDetail: 50
- LuminanceSmoothing: 13
- OverrideLookVignette: False
- ParametricDarks: 0
- ParametricHighlightSplit: 75
- ParametricHighlights: 0
- ParametricLights: 0
- ParametricMidtoneSplit: 50
- ParametricShadowSplit: 25
- ParametricShadows: 0
- PerspectiveAspect: 0
- PerspectiveHorizontal: 0
- PerspectiveRotate: 0.0
- PerspectiveScale: 100
- PerspectiveUpright: 0
- PerspectiveVertical: 0
- PerspectiveX: 0.00
- PerspectiveY: 0.00
- PostCropVignetteAmount: 0
- ProcessVersion: 11.0
- RedHue: 0
- RedSaturation: 0
- Saturation: 0
- SaturationAdjustmentAqua: 0
- SaturationAdjustmentBlue: 0
- SaturationAdjustmentGreen: 0
- SaturationAdjustmentMagenta: 0
- SaturationAdjustmentOrange: 0
- SaturationAdjustmentPurple: 0
- SaturationAdjustmentRed: 0
- SaturationAdjustmentYellow: 0
- ShadowTint: 0
- Shadows2012: +51
- SharpenDetail: 25
- SharpenEdgeMasking: 0
- SharpenRadius: +1.0
- Sharpness: 59
- SplitToningBalance: 0
- SplitToningHighlightHue: 0
- SplitToningHighlightSaturation: 0
- SplitToningShadowHue: 0
- SplitToningShadowSaturation: 0
- Texture: 0
- Tint: +7
- ToneCurveName2012: Linear
- ToneCurvePV2012: 0, 0, 255, 255
- ToneCurvePV2012Blue: 0, 0, 255, 255
- ToneCurvePV2012Green: 0, 0, 255, 255
- ToneCurvePV2012Red: 0, 0, 255, 255
- Version: 13.2
- Vibrance: +15
- VignetteAmount: 0
- WhiteBalance: As Shot
- Whites2012: +50
- XMP-dc
- Creator: Аркадий Новожилов
- Format: image/tiff
- Rights: ARiCK photo
- XMP-exifEX
- XMP-x
- XMP-xmp
- CreatorTool: ACDSee Ultimate 2021
- Rating: 0
- XMP-xmpMM
- XMP-xmpRights
- Просмотров: 372
- Рейтинг: голосов еще нет
- Отзывов: 5