- Раздел: Пейзаж
- Дата съёмки: 01.10.2007 00:17
- Дата загрузки фото: 25.11.2007 00:23
- Оригинальная фотография: 4256 x 2848 (5,2 Мб)
- Технические характеристики:
- Фотоаппарат: FujiFilm FinePix S5Pro
- Выдержка: 1/30
- Гиперфокальное расстояние: 2,34 m
- Диафрагма: 6,3
- Светочувствительность:
- Фокусное расстояние: 17,0mm (35mm эквивалент: 26,0mm)
- Полный EXIF
- Composite
- Aperture: 6,3
- CircleOfConfusion: 0,020 mm
- FocalLength35efl: 17,0mm (35mm equivalent: 26,0mm)
- HyperfocalDistance: 2,34 m
- ScaleFactor35efl: 1,5
- ShutterSpeed: 1/30
- ExifIFD
- ApertureValue: 6,3
- BrightnessValue: 5,25
- ColorSpace: sRGB
- Contrast: Normal
- CreateDate: 2007:09:28 11:26:30
- CustomRendered: Normal
- DateTimeOriginal: 2007:09:28 11:26:30
- ExifImageLength: 2848
- ExifImageWidth: 4256
- ExposureCompensation: 0
- ExposureMode: Auto
- ExposureProgram: Aperture-priority AE
- ExposureTime: 1/30
- FNumber: 6,3
- Flash: Off
- FocalLength: 17,0mm
- FocalLengthIn35mmFormat: 26mm
- ISO:
- LightSource: Unknown (0)
- MaxApertureValue: 2,8
- MeteringMode: Multi-segment
- Saturation: Normal
- SceneCaptureType: Standard
- SceneType: Directly photographed
- SensingMethod: One-chip color area
- Sharpness: Normal
- ShutterSpeedValue: 1/30
- UserComment: (C)ANDREY I.KHODAK AIH3@PROGTECH.RU
- WhiteBalance: Auto
- ICC-header
- ICC-meas
- ICC-view
- IFD0
- Make: FUJIFILM
- Model: FinePix S5Pro
- ModifyDate: 2007:11:25 00:22:33
- Orientation: Horizontal (normal)
- Software: ACD Systems Digital Imaging
- IPTC
- XMP-aux
- Lens: 17.0-50.0 mm f/2.8
- LensInfo: 1700/100 5000/100 280/100 280/100
- XMP-crs
- AlreadyApplied: True
- BlueHue: 0
- BlueSaturation: +9
- Brightness: +27
- CameraProfile: ACR 4.1
- ChromaticAberrationB: +18
- ChromaticAberrationR: -33
- Clarity: 27
- ColorNoiseReduction: 0
- Contrast: +7
- ConvertToGrayscale: False
- Defringe: 2
- Exposure: -0.25
- FillLight: 12
- GreenHue: +12
- GreenSaturation: +12
- HasCrop: False
- HasSettings: True
- HighlightRecovery: 13
- HueAdjustmentAqua: 0
- HueAdjustmentBlue: -2
- HueAdjustmentGreen: +7
- HueAdjustmentMagenta: 0
- HueAdjustmentOrange: 0
- HueAdjustmentPurple: 0
- HueAdjustmentRed: 0
- HueAdjustmentYellow: 0
- LuminanceAdjustmentAqua: 0
- LuminanceAdjustmentBlue: -41
- LuminanceAdjustmentGreen: -7
- LuminanceAdjustmentMagenta: 0
- LuminanceAdjustmentOrange: 0
- LuminanceAdjustmentPurple: 0
- LuminanceAdjustmentRed: 0
- LuminanceAdjustmentYellow: 0
- LuminanceSmoothing: 0
- ParametricDarks: 0
- ParametricHighlightSplit: 75
- ParametricHighlights: 0
- ParametricLights: 0
- ParametricMidtoneSplit: 50
- ParametricShadowSplit: 25
- ParametricShadows: 0
- RawFileName: _DSF2124.RAF
- RedHue: 0
- RedSaturation: +11
- Saturation: +23
- SaturationAdjustmentAqua: +2
- SaturationAdjustmentBlue: +5
- SaturationAdjustmentGreen: -7
- SaturationAdjustmentMagenta: 0
- SaturationAdjustmentOrange: 0
- SaturationAdjustmentPurple: 0
- SaturationAdjustmentRed: 0
- SaturationAdjustmentYellow: 0
- ShadowTint: 0
- Shadows: 3
- SharpenDetail: 25
- SharpenEdgeMasking: 0
- SharpenRadius: +0.7
- Sharpness: 25
- SplitToningBalance: 0
- SplitToningHighlightHue: 0
- SplitToningHighlightSaturation: 0
- SplitToningShadowHue: 57
- SplitToningShadowSaturation: 3
- Temperature: 5050
- Tint: +17
- ToneCurve: 0, 0, 32, 22, 64, 56, 128, 128, 192, 196, 255, 255
- ToneCurveName: Medium Contrast
- Version: 4.2
- Vibrance: 0
- VignetteAmount: 0
- WhiteBalance: As Shot
- XMP-dc
- XMP-exif
- DateTimeDigitized: 2007:09:28 11:26:300Z
- DateTimeOriginal: 2007:09:28 11:26:300Z
- FlashFired: False
- FlashFunction: False
- FlashMode: Off
- FlashRedEyeMode: False
- FlashReturn: No return detection
- FocalLengthIn35mmFormat: 26
- SubjectDistanceRange: Unknown
- XMP-tiff
- BitsPerSample: 16, 16, 16
- ImageHeight: 2848
- ImageWidth: 4256
- PhotometricInterpretation: RGB
- PlanarConfiguration: Chunky
- SamplesPerPixel: 3
- XMP-xmp
- CreateDate: 2007:10:01 00:17:02+04:00
- ModifyDate: 2007:09:30 20:17:020Z
- Rating: 0
- XMP-xmpMM
- DerivedFrom: