- Раздел: Город
- Дата съёмки: неизвестно
- Дата загрузки фото: 27.05.2022 23:23
- Оригинальная фотография: 8688 x 5792 (33,4 Мб)
- Технические характеристики:
- Фотоаппарат: Canon EOS 5DS
- Выдержка: 0,0
- Гиперфокальное расстояние: inf m
- Диафрагма: 4,5
- Светочувствительность: 800
- Фокусное расстояние: 100,0 mm
- Полный EXIF
- Adobe
- ColorTransform: YCbCr
- Composite
- Aperture: 4,5
- CircleOfConfusion: 0,030 mm
- FocalLength35efl: 100,0 mm
- HyperfocalDistance: inf m
- LensID: Canon EF 100-400mm f/4.5-5.6L IS II USM or Tamron Lens
- Megapixels: 50,3
- ScaleFactor35efl: 1,0
- ShutterSpeed: 0,0
- ExifIFD
- ApertureValue: 4,0
- ColorSpace: sRGB
- CreateDate: 2022:05:20 16:46:52
- CustomRendered: Normal
- DateTimeOriginal: 2022:05:20 16:46:52
- ExifImageHeight: 5792
- ExifImageWidth: 8688
- ExposureCompensation: 0
- ExposureMode: Manual
- ExposureProgram: Manual
- ExposureTime: 0,0
- FNumber: 4,5
- Flash: Off, Did not fire
- FocalLength: 100,0 mm
- ISO: 800
- LensInfo: 100-400mm f/?
- LensModel: EF100-400mm f/4.5-5.6L IS II USM
- LensSerialNumber: 3510004200
- MaxApertureValue: 4,0
- MeteringMode: Multi-segment
- OwnerName: Pantyhose_man
- RecommendedExposureIndex: 800
- SceneCaptureType: Standard
- SensitivityType: Recommended Exposure Index
- SerialNumber: 053021001375
- ShutterSpeedValue: 1/512
- WhiteBalance: Auto
- ICC-header
- ICC-meas
- ICC-view
- IFD0
- Artist: Pantyhose_man
- Copyright: Copyright2022
- Make: Canon
- Model: Canon EOS 5DS
- ModifyDate: 2022:05:27 23:23:27
- Orientation: Horizontal (normal)
- IFD1
- IPTC
- By-line: Pantyhose_man
- CopyrightNotice: Copyright2022
- DateCreated: 2022:05:20
- System
- XMP-aux
- ApproximateFocusDistance: 20,7
- DistortionCorrectionAlreadyApplied: True
- Firmware: 1.1.3
- FlashCompensation: 0
- ImageNumber: 0
- LateralChromaticAberrationCorrectionAlreadyApplied: True
- Lens: EF100-400mm f/4.5-5.6L IS II USM
- LensID: 747
- VignetteCorrectionAlreadyApplied: True
- XMP-crs
- AlreadyApplied: True
- AutoLateralCA: 1
- Blacks2012: 0
- BlueHue: 0
- BlueSaturation: 0
- Clarity2012: 0
- ColorGradeBlending: 50
- ColorGradeGlobalHue: 0
- ColorGradeGlobalLum: 0
- ColorGradeGlobalSat: 0
- ColorGradeHighlightLum: 0
- ColorGradeMidtoneHue: 0
- ColorGradeMidtoneLum: 0
- ColorGradeMidtoneSat: 0
- ColorGradeShadowLum: 0
- ColorNoiseReduction: 25
- ColorNoiseReductionDetail: 50
- ColorNoiseReductionSmoothness: 50
- ColorTemperature: 4650
- Contrast2012: +6
- DefringeGreenAmount: 0
- DefringeGreenHueHi: 60
- DefringeGreenHueLo: 40
- DefringePurpleAmount: 0
- DefringePurpleHueHi: 70
- DefringePurpleHueLo: 30
- Dehaze: +14
- Exposure2012: -1.10
- GrainAmount: 0
- GreenHue: 0
- GreenSaturation: 0
- HasCrop: False
- HasSettings: True
- Highlights2012: -79
- HueAdjustmentAqua: 0
- HueAdjustmentBlue: 0
- HueAdjustmentGreen: 0
- HueAdjustmentMagenta: 0
- HueAdjustmentOrange: 0
- HueAdjustmentPurple: 0
- HueAdjustmentRed: 0
- HueAdjustmentYellow: 0
- LensManualDistortionAmount: 0
- LensProfileDistortionScale: 100
- LensProfileEnable: 1
- LensProfileFilename: Canon EOS-1Ds Mark III (Canon EF 100-400mm f4.5-5.6L IS II USM) - RAW.lcp
- LensProfileIsEmbedded: False
- LensProfileSetup: LensDefaults
- LensProfileVignettingScale: 100
- LookAmount: 1
- LookGroup: Profiles
- LookParametersConvertToGrayscale: False
- LookParametersLookTable: E1095149FDB39D7A057BAB208837E2E1
- LookParametersProcessVersion: 11.0
- LookParametersToneCurvePV2012: 0, 0, 22, 16, 40, 35, 127, 127, 224, 230, 240, 246, 255, 255
- LookParametersToneCurvePV2012Blue: 0, 0, 255, 255
- LookParametersToneCurvePV2012Green: 0, 0, 255, 255
- LookParametersToneCurvePV2012Red: 0, 0, 255, 255
- LookParametersVersion: 14.1
- LookSupportsAmount: false
- LookSupportsMonochrome: false
- LookSupportsOutputReferred: false
- LuminanceAdjustmentAqua: 0
- LuminanceAdjustmentBlue: 0
- LuminanceAdjustmentGreen: 0
- LuminanceAdjustmentMagenta: 0
- LuminanceAdjustmentOrange: 0
- LuminanceAdjustmentPurple: 0
- LuminanceAdjustmentRed: 0
- LuminanceAdjustmentYellow: 0
- LuminanceSmoothing: 0
- OverrideLookVignette: False
- ParametricDarks: 0
- ParametricHighlightSplit: 75
- ParametricHighlights: 0
- ParametricLights: 0
- ParametricMidtoneSplit: 50
- ParametricShadowSplit: 25
- ParametricShadows: 0
- PerspectiveAspect: 0
- PerspectiveHorizontal: 0
- PerspectiveRotate: 0.0
- PerspectiveScale: 100
- PerspectiveUpright: 1
- PerspectiveVertical: 0
- PerspectiveX: 0.00
- PerspectiveY: 0.00
- PostCropVignetteAmount: 0
- ProcessVersion: 11.0
- RedHue: 0
- RedSaturation: 0
- Saturation: +1
- SaturationAdjustmentAqua: 0
- SaturationAdjustmentBlue: 0
- SaturationAdjustmentGreen: 0
- SaturationAdjustmentMagenta: 0
- SaturationAdjustmentOrange: 0
- SaturationAdjustmentPurple: 0
- SaturationAdjustmentRed: 0
- SaturationAdjustmentYellow: 0
- ShadowTint: 0
- Shadows2012: +76
- SharpenDetail: 25
- SharpenEdgeMasking: 0
- SharpenRadius: +1.0
- Sharpness: 40
- SplitToningBalance: 0
- SplitToningHighlightHue: 0
- SplitToningHighlightSaturation: 0
- SplitToningShadowHue: 0
- SplitToningShadowSaturation: 0
- Texture: 0
- Tint: +2
- ToneCurveName2012: Linear
- ToneCurvePV2012: 0, 0, 255, 255
- ToneCurvePV2012Blue: 0, 0, 255, 255
- ToneCurvePV2012Green: 0, 0, 255, 255
- ToneCurvePV2012Red: 0, 0, 255, 255
- Version: 14.1
- Vibrance: +15
- VignetteAmount: 0
- WhiteBalance: As Shot
- Whites2012: +1
- XMP-dc
- Creator: Pantyhose_man
- Format: image/jpeg
- Rights: Copyright2022
- XMP-exifEX
- XMP-xmp
- ModifyDate: 2022:05:27 23:23:27+03:00
- Rating: 0
- XMP-xmpMM