- Раздел: Активный отдых, туризм
- Дата съёмки: 12.07.2013 12:04
- Дата загрузки фото: 13.01.2023 18:47
- Оригинальная фотография: 4608 x 3072 (4,6 Мб)
- Технические характеристики:
- Фотоаппарат: Olympus E-M5
- Выдержка: 0,0
- Гиперфокальное расстояние: inf m
- Диафрагма: 6,3
- Светочувствительность: 200
- Фокусное расстояние: 31,0 mm (35 mm equivalent: 62,0 mm)
- Полный EXIF
- Adobe
- ColorTransform: YCbCr
- Composite
- Aperture: 6,3
- CircleOfConfusion: 0,015 mm
- FOV: 32,0 deg
- FocalLength35efl: 31,0 mm (35 mm equivalent: 62,0 mm)
- GPSAltitude: 131 m Above Sea Level
- GPSDateTime: 2013:07:12 08:01:30Z
- GPSLatitude: 54 deg 50' 18,00" N
- GPSLatitudeRef: North
- GPSLongitude: 37 deg 48' 39,00" E
- GPSLongitudeRef: East
- GPSPosition: 54 deg 50' 18,00" N, 37 deg 48' 39,00" E
- HyperfocalDistance: inf m
- Megapixels: 14,2
- ScaleFactor35efl: 2,0
- ShutterSpeed: 0,0
- ExifIFD
- ApertureValue: 5,7
- CFAPattern: [Red,Green][Green,Blue]
- ColorSpace: sRGB
- Contrast: Normal
- CreateDate: 2013:07:12 12:04:30
- CustomRendered: Normal
- DateTimeOriginal: 2013:07:12 12:04:30
- DigitalZoomRatio: 1
- ExifImageHeight: 3072
- ExifImageWidth: 4608
- ExposureCompensation: 0
- ExposureMode: Manual
- ExposureProgram: Aperture-priority AE
- ExposureTime: 0,0
- FNumber: 6,3
- Flash: Auto, Did not fire
- FocalLength: 31,0 mm
- FocalLengthIn35mmFormat: 62 mm
- GainControl: None
- ISO: 200
- LensInfo: 14-45mm f/3.5-5.6
- LensModel: LUMIX G VARIO 14-45/F3.5-5.6
- LensSerialNumber: 01HG1012199
- LightSource: Unknown
- MaxApertureValue: 2,8
- MeteringMode: Multi-segment
- Saturation: Normal
- SceneCaptureType: Standard
- SensitivityType: Standard Output Sensitivity
- SerialNumber: BEK501834
- Sharpness: Normal
- ShutterSpeedValue: 1/128
- WhiteBalance: Auto
- GPS
- GPSAltitude: 131,199997 m
- GPSAltitudeRef: Above Sea Level
- GPSDateStamp: 2013:07:12
- GPSLatitude: 54 deg 50' 18,00"
- GPSLongitude: 37 deg 48' 39,00"
- GPSMapDatum: WGS-84
- GPSTimeStamp: 08:01:30
- GPSVersionID: 2.2.0.0
- ICC-header
- ICC-meas
- ICC-view
- IFD0
- Artist: <= Mutaborr =>
- Copyright: KIP
- ImageDescription: OLYMPUS DIGITAL CAMERA
- Make: OLYMPUS IMAGING CORP.
- Model: E-M5
- ModifyDate: 2013:07:12 12:04:30
- Orientation: Horizontal (normal)
- IFD1
- IPTC
- By-line: <= Mutaborr =>
- Caption-Abstract: OLYMPUS DIGITAL CAMERA
- CopyrightNotice: KIP
- DateCreated: 2013:07:12
- System
- XMP-aux
- ApproximateFocusDistance: 27,5
- DistortionCorrectionAlreadyApplied: True
- FlashCompensation: 0
- LateralChromaticAberrationCorrectionAlreadyApplied: True
- Lens: LUMIX G VARIO 14-45/F3.5-5.6
- XMP-crs
- AlreadyApplied: True
- AutoLateralCA: 1
- AutoWhiteVersion: 134348800
- Blacks2012: 0
- BlueHue: 0
- BlueSaturation: 0
- CameraProfile: Camera Natural
- Clarity2012: 0
- ColorNoiseReduction: 25
- ColorNoiseReductionDetail: 50
- ColorNoiseReductionSmoothness: 50
- ColorTemperature: 5300
- Contrast2012: +64
- ConvertToGrayscale: False
- DefringeGreenAmount: 2
- DefringeGreenHueHi: 60
- DefringeGreenHueLo: 40
- DefringePurpleAmount: 2
- DefringePurpleHueHi: 70
- DefringePurpleHueLo: 30
- Dehaze: 0
- Exposure2012: 0.00
- GrainAmount: 0
- GreenHue: 0
- GreenSaturation: 0
- HasCrop: False
- HasSettings: True
- Highlights2012: -80
- HueAdjustmentAqua: 0
- HueAdjustmentBlue: 0
- HueAdjustmentGreen: 0
- HueAdjustmentMagenta: 0
- HueAdjustmentOrange: 0
- HueAdjustmentPurple: 0
- HueAdjustmentRed: 0
- HueAdjustmentYellow: 0
- LensManualDistortionAmount: 0
- LensProfileEnable: 0
- LensProfileSetup: LensDefaults
- LuminanceAdjustmentAqua: 0
- LuminanceAdjustmentBlue: 0
- LuminanceAdjustmentGreen: 0
- LuminanceAdjustmentMagenta: 0
- LuminanceAdjustmentOrange: 0
- LuminanceAdjustmentPurple: 0
- LuminanceAdjustmentRed: 0
- LuminanceAdjustmentYellow: 0
- LuminanceSmoothing: 0
- ParametricDarks: 0
- ParametricHighlightSplit: 75
- ParametricHighlights: 0
- ParametricLights: 0
- ParametricMidtoneSplit: 50
- ParametricShadowSplit: 25
- ParametricShadows: 0
- PerspectiveAspect: 0
- PerspectiveHorizontal: 0
- PerspectiveRotate: 0.0
- PerspectiveScale: 100
- PerspectiveUpright: 0
- PerspectiveVertical: 0
- PostCropVignetteAmount: 0
- ProcessVersion: 6.7
- RawFileName: ORF01860.ORF
- RedHue: 0
- RedSaturation: 0
- Saturation: 0
- SaturationAdjustmentAqua: -27
- SaturationAdjustmentBlue: -18
- SaturationAdjustmentGreen: 0
- SaturationAdjustmentMagenta: 0
- SaturationAdjustmentOrange: 0
- SaturationAdjustmentPurple: 0
- SaturationAdjustmentRed: 0
- SaturationAdjustmentYellow: -23
- ShadowTint: 0
- Shadows2012: +40
- SharpenDetail: 25
- SharpenEdgeMasking: 0
- SharpenRadius: +1.0
- Sharpness: 25
- SplitToningBalance: 0
- SplitToningHighlightHue: 0
- SplitToningHighlightSaturation: 0
- SplitToningShadowHue: 0
- SplitToningShadowSaturation: 0
- Tint: +10
- ToneCurve: 0, 0, 32, 22, 64, 56, 128, 128, 192, 196, 255, 255
- ToneCurveBlue: 0, 0, 255, 255
- ToneCurveGreen: 0, 0, 255, 255
- ToneCurveName: Medium Contrast
- ToneCurveName2012: Linear
- ToneCurvePV2012: 0, 0, 255, 255
- ToneCurvePV2012Blue: 0, 0, 255, 255
- ToneCurvePV2012Green: 0, 0, 255, 255
- ToneCurvePV2012Red: 0, 0, 255, 255
- ToneCurveRed: 0, 0, 255, 255
- ToneMapStrength: 0
- Version: 9.5
- Vibrance: 0
- VignetteAmount: 0
- WhiteBalance: Custom
- Whites2012: 0
- XMP-dc
- Creator: <= Mutaborr =>
- Description: OLYMPUS DIGITAL CAMERA
- Format: image/jpeg
- Rights: KIP
- XMP-exif
- DateTimeDigitized: 2013:07:12 12:04:30+04:00
- DateTimeOriginal: 2013:07:12 12:04:30+04:00
- GPSAltitude: 131,19999699997 m
- XMP-x
- XMP-xmp
- CreatorTool: Version 1.5
- ModifyDate: 2013:07:12 12:04:30+04:00
- XMP-xmpMM
- Просмотров: 10
- Рейтинг: голосов еще нет
- Отзывов: отключены