- Раздел: Другое, разное
- Дата съёмки: неизвестно
- Дата загрузки фото: 18.04.2023 09:46
- Оригинальная фотография: 4422 x 2948 (8,1 Мб)
- Технические характеристики:
- Фотоаппарат: Kodak DCS Pro 14N
- Выдержка: 0,0
- Диафрагма: 5,6
- Светочувствительность: 80
- Фокусное расстояние: 50,0 mm
- Полный EXIF
- Adobe
- ColorTransform: YCbCr
- Composite
- Aperture: 5,6
- FocalLength35efl: 50,0 mm
- Megapixels: 13,0
- ShutterSpeed: 0,0
- ExifIFD
- ApertureValue: 4,0
- ColorSpace: sRGB
- DateTimeOriginal: 2023:04:15 12:15:17
- ExposureCompensation: 0
- ExposureIndex: 80
- ExposureProgram: Aperture-priority AE
- ExposureTime: 0,0
- FNumber: 5,6
- Flash: No Flash
- FocalLength: 50,0 mm
- ISO: 80
- LightSource: Unknown
- MaxApertureValue: 1,4
- MeteringMode: Multi-spot
- SensingMethod: One-chip color area
- SerialNumber: P14N-04080
- ShutterSpeedValue: 1/64
- ICC-header
- ICC-meas
- ICC-view
- IFD0
- Make: Kodak
- Model: DCS Pro 14N
- ModifyDate: 2023:04:17 20:57:38
- IFD1
- IPTC
- DateCreated: 2023:04:15
- System
- XMP-aux
- DistortionCorrectionAlreadyApplied: True
- ImageNumber: 791
- VignetteCorrectionAlreadyApplied: True
- XMP-crs
- AlreadyApplied: True
- AutoLateralCA: 0
- Blacks2012: -5
- BlueHue: 0
- BlueSaturation: 0
- CameraProfile: ACR 4.4
- Clarity2012: 0
- ColorNoiseReduction: 25
- ColorNoiseReductionDetail: 50
- ColorNoiseReductionSmoothness: 50
- ColorTemperature: 4500
- Contrast2012: 0
- ConvertToGrayscale: False
- CropAngle: -0.678392
- CropBottom: 0.982549
- CropConstrainToWarp: 0
- CropHeight: 1
- CropLeft: 0.004848
- CropRight: 0.995152
- CropTop: 0.017451
- CropUnit: Unknown (3)
- CropWidth: 1.5
- DefringeGreenAmount: 0
- DefringeGreenHueHi: 60
- DefringeGreenHueLo: 40
- DefringePurpleAmount: 0
- DefringePurpleHueHi: 70
- DefringePurpleHueLo: 30
- Dehaze: 0
- Exposure2012: -0.75
- GrainAmount: 0
- GreenHue: 0
- GreenSaturation: 0
- HasCrop: True
- HasSettings: True
- Highlights2012: 0
- HueAdjustmentAqua: 0
- HueAdjustmentBlue: 0
- HueAdjustmentGreen: 0
- HueAdjustmentMagenta: 0
- HueAdjustmentOrange: 0
- HueAdjustmentPurple: 0
- HueAdjustmentRed: 0
- HueAdjustmentYellow: 0
- LensManualDistortionAmount: 0
- LensProfileChromaticAberrationScale: 100
- LensProfileDistortionScale: 100
- LensProfileEnable: 1
- LensProfileFilename: NIKON D3X (Nikon AF NIKKOR 50mm f1.4D) - RAW.lcp
- LensProfileIsEmbedded: False
- LensProfileSetup: Custom
- LensProfileVignettingScale: 100
- LookName:
- LuminanceAdjustmentAqua: 0
- LuminanceAdjustmentBlue: 0
- LuminanceAdjustmentGreen: 0
- LuminanceAdjustmentMagenta: 0
- LuminanceAdjustmentOrange: 0
- LuminanceAdjustmentPurple: 0
- LuminanceAdjustmentRed: 0
- LuminanceAdjustmentYellow: 0
- LuminanceSmoothing: 0
- OverrideLookVignette: False
- ParametricDarks: 0
- ParametricHighlightSplit: 75
- ParametricHighlights: 0
- ParametricLights: 0
- ParametricMidtoneSplit: 50
- ParametricShadowSplit: 25
- ParametricShadows: 0
- PerspectiveAspect: 0
- PerspectiveHorizontal: 0
- PerspectiveRotate: 0.0
- PerspectiveScale: 100
- PerspectiveUpright: 0
- PerspectiveVertical: 0
- PerspectiveX: 0.00
- PerspectiveY: 0.00
- PostCropVignetteAmount: 0
- ProcessVersion: 11.0
- RawFileName: D35H0791.DCR
- RedHue: 0
- RedSaturation: 0
- Saturation: +25
- SaturationAdjustmentAqua: 0
- SaturationAdjustmentBlue: 0
- SaturationAdjustmentGreen: 0
- SaturationAdjustmentMagenta: 0
- SaturationAdjustmentOrange: 0
- SaturationAdjustmentPurple: 0
- SaturationAdjustmentRed: 0
- SaturationAdjustmentYellow: 0
- ShadowTint: 0
- Shadows2012: 0
- SharpenDetail: 25
- SharpenEdgeMasking: 0
- SharpenRadius: +1.0
- Sharpness: 40
- SplitToningBalance: 0
- SplitToningHighlightHue: 0
- SplitToningHighlightSaturation: 0
- SplitToningShadowHue: 0
- SplitToningShadowSaturation: 0
- Texture: 0
- Tint: -9
- ToneCurve: 0, 0, 32, 22, 64, 56, 128, 128, 192, 196, 255, 255
- ToneCurveBlue: 0, 0, 255, 255
- ToneCurveGreen: 0, 0, 255, 255
- ToneCurveName: Medium Contrast
- ToneCurveName2012: Linear
- ToneCurvePV2012: 0, 0, 255, 255
- ToneCurvePV2012Blue: 0, 0, 255, 255
- ToneCurvePV2012Green: 0, 0, 255, 255
- ToneCurvePV2012Red: 0, 0, 255, 255
- ToneCurveRed: 0, 0, 255, 255
- ToneMapStrength: 0
- Version: 12.4
- Vibrance: 0
- VignetteAmount: 0
- WhiteBalance: Custom
- Whites2012: -36
- XMP-dc
- XMP-xmp
- ModifyDate: 2023:04:17 20:57:38+03:00
- XMP-xmpMM
- Просмотров: 40
- Рейтинг: голосов еще нет
- Отзывов: отключены