- Раздел: Природа
- Дата съёмки: 01.01.2006 04:04
- Дата загрузки фото: 18.09.2023 22:19
- Оригинальная фотография: 4000 x 2998 (2,4 Мб)
- Технические характеристики:
- Фотоаппарат: Nikon D2X
- Выдержка: 0,0
- Гиперфокальное расстояние: inf m
- Диафрагма: 3,2
- Светочувствительность: 100
- Фокусное расстояние: 300,0 mm (35 mm equivalent: 300,0 mm)
- Экспокоррекция: -4
- Полный EXIF
- Composite
- Aperture: 3,2
- BlueBalance: 1,609375
- CircleOfConfusion: 0,020 mm
- DOF: inf (0,00 m - inf)
- Flash: No Flash
- FocalLength35efl: 300,0 mm (35 mm equivalent: 300,0 mm)
- FOV: 5,0 deg (0,00 m)
- HyperfocalDistance: inf m
- LensID: Sigma APO 120-300mm F2.8 EX DG HSM
- LensSpec: 120-300mm f/2.8 D
- Megapixels: 12,0
- RedBalance: 1,613281
- ScaleFactor35efl: 1,5
- ShutterSpeed: 0,0
- ExifIFD
- ApertureValue: 2,8
- CFAPattern: [Red,Green][Green,Blue]
- ColorSpace: sRGB
- Contrast: Normal
- CreateDate: 2006:01:01 04:04:06
- CustomRendered: Normal
- DateTimeOriginal: 2006:01:01 04:04:06
- DigitalZoomRatio: 1
- ExifImageHeight: 2998
- ExifImageWidth: 4000
- ExposureCompensation: 0
- ExposureMode: Auto
- ExposureProgram: Aperture-priority AE
- ExposureTime: 0,0
- FNumber: 3,2
- FocalLength: 300,0 mm
- FocalLengthIn35mmFormat: 450 mm
- GainControl: None
- ISO: 100
- LightSource: Unknown
- MaxApertureValue: 2,8
- MeteringMode: Multi-segment
- Saturation: Normal
- SceneCaptureType: Standard
- SceneType: Directly photographed
- SensingMethod: One-chip color area
- Sharpness: Normal
- ShutterSpeedValue: 1/1024
- SubjectDistance: 2,51 m
- SubjectDistanceRange: Unknown
- UserComment:
- WhiteBalance: Auto
- GPS
- IFD0
- Make: NIKON CORPORATION
- Model: NIKON D2X
- ModifyDate: 2023:09:18 21:52:22
- Orientation: Horizontal (normal)
- Rating: 0
- RatingPercent: 0
- Software: DxO PhotoLab 5.0
- TIFF-EPStandardID: 1 0 0 0
- IFD1
- Nikon
- AFAperture: 2,8
- AFAreaMode: Single Area
- AFPoint: Center
- AFPointsInFocus: Center
- ColorHue: Mode1
- ColorMode: Color
- CropHiSpeed: Off (4320x2868 cropped to 4320x2868 at pixel 0,0)
- DeletedImageCount: 14276
- EffectiveMaxAperture: 2,8
- ExitPupilPosition: 85,3 mm
- ExposureBracketValue: 0
- ExposureDifference: 0
- ExposureTuning: 0
- ExternalFlashExposureComp: 0
- ExternalFlashFirmware: n/a
- ExternalFlashFlags: (none)
- FlashCommanderMode: Off
- FlashCompensation: 0
- FlashControlMode: Off
- FlashExposureBracketValue: 0,0
- FlashGNDistance: 0
- FlashGroupACompensation: 0
- FlashGroupAControlMode: Off
- FlashGroupBCompensation: 0
- FlashGroupBControlMode: Off
- FlashInfoVersion: 0101
- FlashMode: Did Not Fire
- FlashSetting: Normal
- FlashSource: None
- FlashType:
- FocalLength: 302,0 mm
- FocusDistance: 2,51 m
- FocusMode: AF-S
- FocusPosition: 0x11
- HighISONoiseReduction: Off
- HueAdjustment: 0
- ImageAuthentication: Off
- ImageCount: 131245
- ISOSetting: 100
- Lens: 120-300mm f/2.8
- LensDataVersion: 0201
- LensFStops: 7,00
- LensIDNumber: 250
- LensType: D
- LightSource: Natural
- MakerNoteVersion: 2.10
- MaxApertureAtMaxFocal: 2,8
- MaxApertureAtMinFocal: 2,8
- MaxFocalLength: 302,0 mm
- MCUVersion: 75
- MinFocalLength: 119,9 mm
- MultiExposureAutoGain: Off
- MultiExposureMode: Off
- MultiExposureShots: 0
- MultiExposureVersion: 0100
- NoiseReduction: Off
- ProgramShift: 0
- Quality: Fine
- SensorPixelSize: 5,4 x 5,4 um
- SerialNumber: 5000989
- ShootingMode: Single-Frame
- ShotInfoVersion: 0204
- ShutterCount: 145521
- ToneComp: Normal
- VibrationReduction: Off
- VRInfoVersion: 0100
- VRMode: Normal
- WB_RBLevels: 1,61328125 1,609375 1 1
- WB_RGGBLevels: 413 256 256 412
- WhiteBalanceFineTune: 0
- System
- XMP-aux
- ApproximateFocusDistance: 2,51
- ImageNumber: 145521
- Lens: 120.0-300.0 mm f/2.8
- LensID: 250
- LensInfo: 120-300mm f/2.8
- XMP-crd
- CameraProfile: Camera Standard
- LookName:
- XMP-crs
- AlreadyApplied: True
- AutoLateralCA: 0
- Blacks2012: 0
- BlueHue: 0
- BlueSaturation: 0
- Clarity2012: +6
- ColorNoiseReduction: 25
- ColorNoiseReductionDetail: 50
- ColorNoiseReductionSmoothness: 50
- ColorTemperature: 4450
- Contrast2012: 0
- ConvertToGrayscale: False
- CropAngle: 0
- CropBottom: 0.689391
- CropConstrainToWarp: 0
- CropHeight: 0.542
- CropLeft: 0.303929
- CropRight: 0.689391
- CropTop: 0.303929
- CropUnit: Unknown (3)
- CropWidth: 0.817
- DefringeGreenAmount: 3
- DefringeGreenHueHi: 21
- DefringeGreenHueLo: 1
- DefringePurpleAmount: 7
- DefringePurpleHueHi: 44
- DefringePurpleHueLo: 19
- Dehaze: +9
- Exposure2012: +1.25
- GrainAmount: 0
- GreenHue: 0
- GreenSaturation: 0
- HasCrop: True
- HasSettings: True
- Highlights2012: 0
- HueAdjustmentAqua: 0
- HueAdjustmentBlue: 0
- HueAdjustmentGreen: 0
- HueAdjustmentMagenta: 0
- HueAdjustmentOrange: 0
- HueAdjustmentPurple: 0
- HueAdjustmentRed: 0
- HueAdjustmentYellow: 0
- LensManualDistortionAmount: 0
- LensProfileEnable: 0
- LensProfileSetup: LensDefaults
- LookAmount: 1.000000
- LookGroup: Profiles
- LookParametersConvertToGrayscale: False
- LookParametersLookTable: E1095149FDB39D7A057BAB208837E2E1
- LookParametersProcessVersion: 11.0
- LookParametersToneCurvePV2012: 0, 0, 22, 16, 40, 35, 127, 127, 224, 230, 240, 246, 255, 255
- LookParametersToneCurvePV2012Blue: 0, 0, 255, 255
- LookParametersToneCurvePV2012Green: 0, 0, 255, 255
- LookParametersToneCurvePV2012Red: 0, 0, 255, 255
- LookParametersVersion: 12.4
- LookSupportsAmount: false
- LookSupportsMonochrome: false
- LookSupportsOutputReferred: false
- LuminanceAdjustmentAqua: 0
- LuminanceAdjustmentBlue: 0
- LuminanceAdjustmentGreen: 0
- LuminanceAdjustmentMagenta: 0
- LuminanceAdjustmentOrange: 0
- LuminanceAdjustmentPurple: 0
- LuminanceAdjustmentRed: 0
- LuminanceAdjustmentYellow: 0
- LuminanceNoiseReductionContrast: 0
- LuminanceNoiseReductionDetail: 50
- LuminanceSmoothing: 20
- OverrideLookVignette: False
- ParametricDarks: 0
- ParametricHighlights: 0
- ParametricHighlightSplit: 75
- ParametricLights: 0
- ParametricMidtoneSplit: 50
- ParametricShadows: 0
- ParametricShadowSplit: 25
- PerspectiveAspect: 0
- PerspectiveHorizontal: 0
- PerspectiveRotate: 0.0
- PerspectiveScale: 100
- PerspectiveUpright: 0
- PerspectiveVertical: 0
- PerspectiveX: 0.00
- PerspectiveY: 0.00
- PostCropVignetteAmount: 0
- ProcessVersion: 11.0
- RedHue: 0
- RedSaturation: 0
- Saturation: +53
- SaturationAdjustmentAqua: 0
- SaturationAdjustmentBlue: 0
- SaturationAdjustmentGreen: 0
- SaturationAdjustmentMagenta: 0
- SaturationAdjustmentOrange: 0
- SaturationAdjustmentPurple: 0
- SaturationAdjustmentRed: 0
- SaturationAdjustmentYellow: 0
- Shadows2012: 0
- ShadowTint: 0
- SharpenDetail: 25
- SharpenEdgeMasking: 0
- SharpenRadius: +1.0
- Sharpness: 40
- SplitToningBalance: 0
- SplitToningHighlightHue: 0
- SplitToningHighlightSaturation: 0
- SplitToningShadowHue: 0
- SplitToningShadowSaturation: 0
- Texture: +7
- Tint: 0
- ToneCurve: 0, 0, 32, 22, 64, 56, 128, 128, 192, 196, 255, 255
- ToneCurveBlue: 0, 0, 255, 255
- ToneCurveGreen: 0, 0, 255, 255
- ToneCurveName: Medium Contrast
- ToneCurveName2012: Linear
- ToneCurvePV2012: 0, 0, 255, 255
- ToneCurvePV2012Blue: 0, 0, 255, 255
- ToneCurvePV2012Green: 0, 0, 255, 255
- ToneCurvePV2012Red: 0, 0, 255, 255
- ToneCurveRed: 0, 0, 255, 255
- ToneMapStrength: 0
- Version: 12.4
- Vibrance: 0
- VignetteAmount: 0
- WhiteBalance: Custom
- Whites2012: -100
- XMP-dc
- Format: image/x-nikon-nef
- XMP-exif
- ApertureValue: 3,2
- DateTimeOriginal: 2006:01:01 04:04:06.79+00:00
- ExposureCompensation: -4
- ExposureTime: 1,0
- FlashFired: False
- FlashFunction: False
- FlashMode: Unknown
- FlashRedEyeMode: False
- FlashReturn: No return detection
- FNumber: 32 / 10
- FocalLength: 3000,0 mm
- ShutterSpeedValue: 1/1250
- XMP-tiff
- XMP-x
- XMP-xmp
- CreateDate: 2006:01:01 04:04:06.79
- CreatorTool: DxO PhotoLab 5.0
- ModifyDate: 2023:09:18 21:52:22+03:00
- XMP-xmpMM
- Просмотров: 33
- Рейтинг: голосов еще нет
- Отзывов: отключены