- Раздел: Другое, разное
- Дата съёмки: неизвестно
- Дата загрузки фото: 27.10.2023 23:33
- Оригинальная фотография: 3422 x 2567 (1,7 Мб)
- Технические характеристики:
- Фотоаппарат: Nikon D300
- Выдержка: 0,0
- Гиперфокальное расстояние: inf m
- Диафрагма: 4,0
- Светочувствительность: 200
- Фокусное расстояние: 105,0 mm (35 mm equivalent: 105,0 mm)
- Полный EXIF
- Composite
- Aperture: 4,0
- AutoFocus: Off
- BlueBalance: 1,527344
- CircleOfConfusion: 0,020 mm
- DOF: inf (0,00 m - inf)
- Flash: No Flash
- FocalLength35efl: 105,0 mm (35 mm equivalent: 105,0 mm)
- FOV: 19,0 deg
- HyperfocalDistance: inf m
- LensID: Manual Lens No CPU
- LensSpec: 0mm f/0 MF
- Megapixels: 8,8
- RedBalance: 1,476563
- ScaleFactor35efl: 1,5
- ShutterSpeed: 0,0
- ExifIFD
- ApertureValue: 4,0
- CFAPattern: [Red,Green][Green,Blue]
- ColorSpace: sRGB
- Contrast: Normal
- CreateDate: 2017:10:29 12:29:51
- CustomRendered: Normal
- DateTimeOriginal: 2017:10:29 12:29:51
- DigitalZoomRatio: 1
- ExifImageHeight: 2567
- ExifImageWidth: 3422
- ExposureCompensation: 0
- ExposureMode: Auto
- ExposureProgram: Aperture-priority AE
- ExposureTime: 0,0
- FNumber: 4,0
- FocalLength: 105,0 mm
- FocalLengthIn35mmFormat: 157 mm
- GainControl: None
- ISO: 200
- LightSource: Unknown
- MaxApertureValue: 1,0
- MeteringMode: Multi-segment
- Saturation: Normal
- SceneCaptureType: Standard
- SceneType: Directly photographed
- SensingMethod: One-chip color area
- Sharpness: Soft
- ShutterSpeedValue: 1/128
- SubjectDistanceRange: Unknown
- UserComment:
- WhiteBalance: Auto
- GPS
- IFD0
- Artist:
- Copyright:
- Make: NIKON CORPORATION
- Model: NIKON D300
- ModifyDate: 2023:10:27 22:21:18
- Orientation: Horizontal (normal)
- Rating: 0
- RatingPercent: 0
- Software: DxO PhotoLab 5.0
- TIFF-EPStandardID: 1 0 0 0
- IFD1
- Nikon
- ActiveD-Lighting: Off
- AFAperture: 1,0
- AFAreaMode: Single Area
- AFFineTune: On (1)
- AFFineTuneAdj: 0
- AFFineTuneIndex: n/a
- AFInfo2Version: 0100
- AFPointsUsed: (none)
- Brightness: Normal
- ContrastDetectAF: Off
- ContrastDetectAFInFocus: No
- CropHiSpeed: Off (4352x2868 cropped to 4352x2868 at pixel 0,0)
- DateDisplayFormat: D/M/Y
- DaylightSavings: No
- EffectiveMaxAperture: 2,5
- ExitPupilPosition: 0,0 mm
- ExposureBracketValue: 0
- ExposureDifference: 0
- ExposureTuning: 0
- ExternalFlashExposureComp: 0
- ExternalFlashFirmware: n/a
- ExternalFlashFlags: (none)
- FileInfoVersion: 0100
- FileNumber: 6625
- FilterEffect: n/a
- FirmwareVersion: 1.10B
- FlashColorFilter: None
- FlashCommanderMode: Off
- FlashCompensation: 0
- FlashControlMode: Off
- FlashExposureBracketValue: 0,0
- FlashExposureComp: +1
- FlashGNDistance: 0
- FlashGroupACompensation: 0
- FlashGroupAControlMode: Off
- FlashGroupBCompensation: 0
- FlashGroupBControlMode: Off
- FlashGroupCCompensation: 0
- FlashGroupCControlMode: Off
- FlashInfoVersion: 0103
- FlashMode: Did Not Fire
- FlashSetting: Normal
- FlashSource: None
- FlashType:
- FocalLength: 106,8 mm
- FocusDistance: 0,01 m
- FocusMode: Manual
- FocusPosition: 0x00
- HighISONoiseReduction: Off
- HueAdjustment: None
- ImageAuthentication: Off
- ISO2: 200
- ISOExpansion: Off
- ISOExpansion2: Off
- ISOSetting: 200
- Lens: 0mm f/0
- LensDataVersion: 0203
- LensFStops: 0,00
- LensIDNumber: 0
- LensType: MF
- MakerNoteVersion: 2.10
- MaxApertureAtMaxFocal: 1,0
- MaxApertureAtMinFocal: 1,0
- MaxFocalLength: 5,0 mm
- MCUVersion: 0
- MemoryCardNumber: 0
- MinFocalLength: 5,0 mm
- MultiExposureAutoGain: Off
- MultiExposureMode: Off
- MultiExposureShots: 0
- MultiExposureVersion: 0100
- NoiseReduction: Off
- PhaseDetectAF: Off
- PictureControlAdjust: Full Control
- PictureControlBase: Neutral
- PictureControlName: Neutral
- PictureControlQuickAdjust: n/a
- PictureControlVersion: 0100
- PowerUpTime: 2013:05:09 08:02:20
- PrimaryAFPoint: (none)
- ProgramShift: 0
- Quality: Fine
- SerialNumber: 4126041
- Sharpness: No Sharpening
- ShootingMode: Single-Frame
- ShotInfoVersion: 0210
- ShutterCount: 27463
- TimeZone: +03:00
- ToningEffect: n/a
- ToningSaturation: n/a
- VibrationReduction: Off
- VRInfoVersion: 0100
- VRMode: Normal
- WB_GRBGLevels: 256 378 391 256
- WB_RBLevels: 1,4765625 1,52734375 1 1
- WhiteBalanceFineTune: 0 0
- NikonCustom
- AELockButton: AE/AF Lock
- AELockButtonPlusDials: None
- AF-CPrioritySelection: Release
- AF-OnForMB-D10: AF-On
- AF-SPrioritySelection: Focus
- AFActivation: Shutter/AF-On
- AFAssist: On
- AFPointIllumination: Auto
- AFPointSelection: 51 Points
- AutoBracketModeM: Flash/Speed
- AutoBracketOrder: 0,-,+
- AutoBracketSet: AE & Flash
- BatteryOrder: MB-D10 First
- Beep: High
- CenterWeightedAreaSize: 8 mm
- CLModeShootingSpeed: 3 fps
- CommandDialsApertureSetting: Sub-command Dial
- CommandDialsChangeMainSub: Off
- CommandDialsMenuAndPlayback: Off
- CommandDialsReverseRotation: No
- CustomSettingsAllDefault: Yes
- CustomSettingsBank: A
- DynamicAFArea: 9 Points
- EasyExposureCompensation: Off
- ExposureCompStepSize: 1/3 EV
- ExposureControlStepSize: 1/3 EV
- ExposureDelayMode: Off
- FileNumberSequence: On
- FineTuneOptCenterWeighted: 0
- FineTuneOptMatrixMetering: 0
- FineTuneOptSpotMetering: 0
- FlashShutterSpeed: 1/60 s
- FlashSyncSpeed: 1/250 s
- FocusPointWrap: No Wrap
- FocusTrackingLockOn: Normal
- FuncButton: None
- FuncButtonPlusDials: Auto Bracketing
- GridDisplay: Off
- InitialZoomSetting: Low Magnification
- InternalFlash: TTL
- ISOStepSize: 1/3 EV
- LCDIllumination: Off
- MaxContinuousRelease: 100
- MB-D10Batteries: LR6 (AA alkaline)
- MeteringTime: 6 s
- ModelingFlash: On
- MonitorOffTime: 20 s
- MultiSelector: Do Nothing
- MultiSelectorPlaybackMode: Thumbnail On/Off
- MultiSelectorShootMode: Select Center Focus Point
- NoMemoryCard: Enable Release
- PhotoInfoPlayback: Info Up-down, Playback Left-right
- PreviewButton: Preview
- PreviewButtonPlusDials: None
- ReleaseButtonToUseDial: No
- ReverseIndicators: + 0 -
- SelfTimerTime: 10 s
- ShootingInfoDisplay: Auto
- ShutterReleaseButtonAE-L: Off
- ViewfinderWarning: On
- System
- XMP-aux
- ImageNumber: 27463
- Lens: 0.0 mm f/0.0
- LensInfo: 0mm f/0
- XMP-crd
- CameraProfile: Camera NEUTRAL
- LookName:
- XMP-crs
- AlreadyApplied: True
- AutoLateralCA: 0
- Blacks2012: 0
- BlueHue: 0
- BlueSaturation: 0
- Clarity2012: +9
- ColorNoiseReduction: 25
- ColorNoiseReductionDetail: 50
- ColorNoiseReductionSmoothness: 50
- ColorTemperature: 4900
- Contrast2012: 0
- ConvertToGrayscale: False
- CropAngle: 0
- CropBottom: 1
- CropConstrainToWarp: 0
- CropHeight: 4
- CropLeft: 0.200201
- CropRight: 1
- CropTop: 0.096857
- CropUnit: Unknown (3)
- CropWidth: 3
- DefringeGreenAmount: 0
- DefringeGreenHueHi: 60
- DefringeGreenHueLo: 40
- DefringePurpleAmount: 0
- DefringePurpleHueHi: 70
- DefringePurpleHueLo: 30
- Dehaze: +11
- Exposure2012: -0.55
- GrainAmount: 0
- GreenHue: 0
- GreenSaturation: 0
- HasCrop: True
- HasSettings: True
- Highlights2012: 0
- HueAdjustmentAqua: 0
- HueAdjustmentBlue: 0
- HueAdjustmentGreen: 0
- HueAdjustmentMagenta: 0
- HueAdjustmentOrange: 0
- HueAdjustmentPurple: 0
- HueAdjustmentRed: 0
- HueAdjustmentYellow: 0
- LensManualDistortionAmount: 0
- LensProfileEnable: 0
- LensProfileSetup: LensDefaults
- LookAmount: 1.000000
- LookGroup: Profiles
- LookParametersConvertToGrayscale: False
- LookParametersLookTable: E1095149FDB39D7A057BAB208837E2E1
- LookParametersProcessVersion: 11.0
- LookParametersToneCurvePV2012: 0, 0, 22, 16, 40, 35, 127, 127, 224, 230, 240, 246, 255, 255
- LookParametersToneCurvePV2012Blue: 0, 0, 255, 255
- LookParametersToneCurvePV2012Green: 0, 0, 255, 255
- LookParametersToneCurvePV2012Red: 0, 0, 255, 255
- LookParametersVersion: 12.4
- LookSupportsAmount: false
- LookSupportsMonochrome: false
- LookSupportsOutputReferred: false
- LuminanceAdjustmentAqua: 0
- LuminanceAdjustmentBlue: 0
- LuminanceAdjustmentGreen: 0
- LuminanceAdjustmentMagenta: 0
- LuminanceAdjustmentOrange: 0
- LuminanceAdjustmentPurple: 0
- LuminanceAdjustmentRed: 0
- LuminanceAdjustmentYellow: 0
- LuminanceNoiseReductionContrast: 0
- LuminanceNoiseReductionDetail: 50
- LuminanceSmoothing: 17
- OverrideLookVignette: False
- ParametricDarks: 0
- ParametricHighlights: 0
- ParametricHighlightSplit: 75
- ParametricLights: 0
- ParametricMidtoneSplit: 50
- ParametricShadows: 0
- ParametricShadowSplit: 25
- PerspectiveAspect: 0
- PerspectiveHorizontal: 0
- PerspectiveRotate: 0.0
- PerspectiveScale: 100
- PerspectiveUpright: 0
- PerspectiveVertical: 0
- PerspectiveX: 0.00
- PerspectiveY: 0.00
- PostCropVignetteAmount: 0
- ProcessVersion: 11.0
- RedHue: 0
- RedSaturation: 0
- Saturation: +7
- SaturationAdjustmentAqua: 0
- SaturationAdjustmentBlue: 0
- SaturationAdjustmentGreen: 0
- SaturationAdjustmentMagenta: 0
- SaturationAdjustmentOrange: 0
- SaturationAdjustmentPurple: 0
- SaturationAdjustmentRed: 0
- SaturationAdjustmentYellow: 0
- Shadows2012: 0
- ShadowTint: 0
- SharpenDetail: 25
- SharpenEdgeMasking: 0
- SharpenRadius: +1.0
- Sharpness: 40
- SplitToningBalance: 0
- SplitToningHighlightHue: 0
- SplitToningHighlightSaturation: 0
- SplitToningShadowHue: 0
- SplitToningShadowSaturation: 0
- Texture: +3
- Tint: 0
- ToneCurve: 0, 0, 32, 22, 64, 56, 128, 128, 192, 196, 255, 255
- ToneCurveBlue: 0, 0, 255, 255
- ToneCurveGreen: 0, 0, 255, 255
- ToneCurveName: Medium Contrast
- ToneCurveName2012: Linear
- ToneCurvePV2012: 0, 0, 255, 255
- ToneCurvePV2012Blue: 0, 0, 255, 255
- ToneCurvePV2012Green: 0, 0, 255, 255
- ToneCurvePV2012Red: 0, 0, 255, 255
- ToneCurveRed: 0, 0, 255, 255
- ToneMapStrength: 0
- Version: 12.4
- Vibrance: +7
- VignetteAmount: 0
- WhiteBalance: Custom
- Whites2012: 0
- XMP-dc
- Format: image/x-nikon-nef
- XMP-exif
- DateTimeOriginal: 2017:10:29 12:29:51.17+00:00
- ExposureTime: 1,0
- FlashFired: False
- FlashFunction: False
- FlashMode: Unknown
- FlashRedEyeMode: False
- FlashReturn: No return detection
- FNumber: 4 / 1
- FocalLength: 1050,0 mm
- ShutterSpeedValue: 1/200
- XMP-tiff
- XMP-x
- XMP-xmp
- CreateDate: 2017:10:29 12:29:51.17
- CreatorTool: DxO PhotoLab 5.0
- ModifyDate: 2023:10:27 22:21:18+03:00
- XMP-xmpMM
- Просмотров: 47
- Рейтинг: голосов еще нет
- Отзывов: отключены