- Раздел: Город
- Дата съёмки: 17.02.2008 13:05
- Дата загрузки фото: 22.12.2009 20:31
- Оригинальная фотография: 667 x 1000 (672 Кб)
- Технические характеристики:
- Фотоаппарат: Canon EOS 400D DIGITAL
- Выдержка: 1/640
- Гиперфокальное расстояние: 17,72 m
- Диафрагма: 8,0
- Светочувствительность: 100
- Фокусное расстояние: 26,0 mm (35 mm equivalent: 163,9 mm)
- Полный EXIF
- Adobe
- ColorTransform: YCbCr
- Composite
- Aperture: 8,0
- CircleOfConfusion: 0,005 mm
- FOV: 12,0 deg
- FocalLength35efl: 26,0 mm (35 mm equivalent: 163,9 mm)
- HyperfocalDistance: 17,72 m
- ScaleFactor35efl: 6,3
- ShutterSpeed: 1/640
- ExifIFD
- ApertureValue: 8,0
- CreateDate: 2008:02:17 13:05:38
- CustomRendered: Normal
- DateTimeOriginal: 2008:02:17 13:05:38
- ExposureCompensation: 0
- ExposureMode: Manual
- ExposureProgram: Manual
- ExposureTime: 1/640
- FNumber: 8,0
- Flash: Off
- FocalLength: 26,0 mm
- ISO: 100
- MaxApertureValue: 4,0
- MeteringMode: Average
- SceneCaptureType: Standard
- ShutterSpeedValue: 1/640
- WhiteBalance: Auto
- ICC-header
- ICC-meas
- ICC-view
- IFD0
- Artist: unknown
- Make: Canon
- Model: Canon EOS 400D DIGITAL
- ModifyDate: 2009:12:22 19:30:29
- IFD1
- IPTC
- By-line: unknown
- XMP-aux
- Firmware: 1.1.1
- FlashCompensation: 0
- ImageNumber: 112
- Lens: EF-S17-85mm f/4-5.6 IS USM
- LensInfo: 17/1 85/1 0/0 0/0
- OwnerName: unknown
- SerialNumber: 1731111124
- XMP-crs
- AlreadyApplied: True
- BlueHue: 0
- BlueSaturation: 0
- Brightness: +36
- CameraProfile: ACR 4.4
- ChromaticAberrationB: 0
- ChromaticAberrationR: 0
- Clarity: 0
- ColorNoiseReduction: 25
- Contrast: +41
- ConvertToGrayscale: False
- CropAngle: 1.0419
- CropBottom: 1
- CropHeight: 667
- CropLeft: 0.045763
- CropRight: 0.98821
- CropTop: 0.019897
- CropUnit: 0
- CropWidth: 1000
- Defringe: 0
- Exposure: +0.67
- FillLight: 0
- GreenHue: 0
- GreenSaturation: 0
- HasCrop: True
- HasSettings: True
- HighlightRecovery: 0
- HueAdjustmentAqua: 0
- HueAdjustmentBlue: 0
- HueAdjustmentGreen: 0
- HueAdjustmentMagenta: 0
- HueAdjustmentOrange: 0
- HueAdjustmentPurple: 0
- HueAdjustmentRed: 0
- HueAdjustmentYellow: 0
- LuminanceAdjustmentAqua: 0
- LuminanceAdjustmentBlue: 0
- LuminanceAdjustmentGreen: 0
- LuminanceAdjustmentMagenta: 0
- LuminanceAdjustmentOrange: 0
- LuminanceAdjustmentPurple: 0
- LuminanceAdjustmentRed: 0
- LuminanceAdjustmentYellow: 0
- LuminanceSmoothing: 0
- ParametricDarks: 0
- ParametricHighlightSplit: 75
- ParametricHighlights: +55
- ParametricLights: 0
- ParametricMidtoneSplit: 50
- ParametricShadowSplit: 25
- ParametricShadows: 0
- PostCropVignetteAmount: 0
- RedHue: 0
- RedSaturation: 0
- Saturation: 0
- SaturationAdjustmentAqua: 0
- SaturationAdjustmentBlue: 0
- SaturationAdjustmentGreen: 0
- SaturationAdjustmentMagenta: 0
- SaturationAdjustmentOrange: 0
- SaturationAdjustmentPurple: 0
- SaturationAdjustmentRed: 0
- SaturationAdjustmentYellow: 0
- ShadowTint: 0
- Shadows: 8
- SharpenDetail: 25
- SharpenEdgeMasking: 0
- SharpenRadius: +1.0
- Sharpness: 25
- SplitToningBalance: 0
- SplitToningHighlightHue: 0
- SplitToningHighlightSaturation: 0
- SplitToningShadowHue: 0
- SplitToningShadowSaturation: 0
- Temperature: 5500
- Tint: +4
- ToneCurve: 0, 0, 32, 22, 64, 56, 128, 128, 192, 196, 255, 255
- ToneCurveName: Medium Contrast
- Version: 5.5
- Vibrance: 0
- VignetteAmount: 0
- WhiteBalance: Custom
- XMP-dc
- XMP-exif
- DateTimeDigitized: 2008:02:17 13:05:38+02:00
- DateTimeOriginal: 2008:02:17 13:05:38+02:00
- ExifImageHeight: 1000
- ExifImageWidth: 667
- FlashFired: False
- FlashFunction: False
- FlashMode: Off
- FlashRedEyeMode: False
- FlashReturn: No return detection
- XMP-tiff
- ImageHeight: 1000
- ImageWidth: 667
- XMP-xmp
- CreateDate: 2008:02:17 13:05:38+02:00
- ModifyDate: 2009:12:22 19:30:29+02:00
- Просмотров: 258
- Рейтинг: голосов еще нет
- Отзывов: 0