- Раздел: Животные
- Дата съёмки: 11.06.2008 18:59
- Дата загрузки фото: 11.06.2008 19:02
- Оригинальная фотография: 1012 x 756 (471 Кб)
- Технические характеристики:
- Фотоаппарат: Canon EOS 300D DIGITAL
- Выдержка: 1/3200
- Диафрагма: 4,5
- Светочувствительность: 400
- Фокусное расстояние: 200,0mm
- Экспокоррекция: +2/3
- Полный EXIF
- Adobe
- ColorTransform: YCbCr
- Composite
- Aperture: 4,5
- FocalLength35efl: 200,0mm
- LightValue: 14,0
- ShutterSpeed: 1/3200
- ExifIFD
- ApertureValue: 4,5
- ColorSpace: sRGB
- CreateDate: 2008:04:19 13:26:54
- DateTimeOriginal: 2008:04:19 13:26:54
- ExifImageLength: 756
- ExifImageWidth: 1012
- ExposureCompensation: +2/3
- ExposureProgram: Aperture-priority AE
- ExposureTime: 1/3200
- FNumber: 4,5
- Flash: No Flash
- FocalLength: 200,0mm
- ISO: 400
- MaxApertureValue: 2,8
- MeteringMode: Multi-segment
- ShutterSpeedValue: 1/3200
- ICC-header
- ICC-meas
- ICC-view
- IFD0
- Make: Canon
- Model: Canon EOS 300D DIGITAL
- ModifyDate: 2008:06:11 18:59:09
- Orientation: Horizontal (normal)
- IFD1
- IPTC
- XMP-aux
- Firmware: 1.1.1
- Lens: 70.0-200.0 mm
- LensInfo: 70/1 200/1 0/0 0/0
- SerialNumber: 1170430045
- XMP-crs
- AlreadyApplied: True
- BlueHue: 0
- BlueSaturation: 0
- Brightness: +50
- CameraProfile: ACR 4.4
- ChromaticAberrationB: 0
- ChromaticAberrationR: 0
- Clarity: 0
- ColorNoiseReduction: 47
- Contrast: +43
- ConvertToGrayscale: False
- Defringe: 0
- Exposure: +0.25
- FillLight: 37
- GreenHue: 0
- GreenSaturation: 0
- HasCrop: False
- HasSettings: True
- HighlightRecovery: 0
- HueAdjustmentAqua: 0
- HueAdjustmentBlue: 0
- HueAdjustmentGreen: 0
- HueAdjustmentMagenta: 0
- HueAdjustmentOrange: 0
- HueAdjustmentPurple: 0
- HueAdjustmentRed: 0
- HueAdjustmentYellow: 0
- LuminanceAdjustmentAqua: 0
- LuminanceAdjustmentBlue: 0
- LuminanceAdjustmentGreen: 0
- LuminanceAdjustmentMagenta: 0
- LuminanceAdjustmentOrange: 0
- LuminanceAdjustmentPurple: 0
- LuminanceAdjustmentRed: 0
- LuminanceAdjustmentYellow: 0
- LuminanceSmoothing: 13
- ParametricDarks: 0
- ParametricHighlightSplit: 75
- ParametricHighlights: 0
- ParametricLights: 0
- ParametricMidtoneSplit: 50
- ParametricShadowSplit: 25
- ParametricShadows: 0
- RawFileName: CRW_6648.CRW
- RedHue: 0
- RedSaturation: 0
- Saturation: +24
- SaturationAdjustmentAqua: 0
- SaturationAdjustmentBlue: 0
- SaturationAdjustmentGreen: 0
- SaturationAdjustmentMagenta: 0
- SaturationAdjustmentOrange: 0
- SaturationAdjustmentPurple: 0
- SaturationAdjustmentRed: 0
- SaturationAdjustmentYellow: 0
- ShadowTint: 0
- Shadows: 5
- SharpenDetail: 25
- SharpenEdgeMasking: 0
- SharpenRadius: +1.0
- Sharpness: 49
- SplitToningBalance: 0
- SplitToningHighlightHue: 0
- SplitToningHighlightSaturation: 0
- SplitToningShadowHue: 0
- SplitToningShadowSaturation: 0
- Temperature: 6700
- Tint: +8
- ToneCurve: 0, 0, 32, 22, 64, 56, 128, 128, 192, 196, 255, 255
- ToneCurveName: Medium Contrast
- Version: 4.4.1
- Vibrance: +16
- VignetteAmount: 0
- WhiteBalance: Custom
- XMP-dc
- XMP-exif
- DateTimeDigitized: 2008:04:19 13:26:54+04:00
- DateTimeOriginal: 2008:04:19 13:26:54+04:00
- FlashFired: False
- XMP-tiff
- XMP-xmp
- CreateDate: 2008:06:11 18:59:09+04:00
- ModifyDate: 2008:06:11 18:59:09+04:00
- Rating: 0
- XMP-xmpMM